BEGIN:VCALENDAR
VERSION:2.0
PRODID:http://www.kufer.de/kuferweb / DE
METHOD:PUBLISH
CALSCALE:GREGORIAN
X-WR-TIMEZONE:Europe/Berlin
BEGIN:VTIMEZONE
TZID:Europe/Berlin
X-LIC-LOCATION:Europe/Berlin
BEGIN:DAYLIGHT
TZOFFSETFROM:+0100
TZOFFSETTO:+0200
TZNAME:CEST
DTSTART;TZID=Europe/Berlin:19700329T020000
RRULE:FREQ=YEARLY;INTERVAL=1;BYDAY=-1SU;BYMONTH=3
END:DAYLIGHT
BEGIN:STANDARD
TZOFFSETFROM:+0200
TZOFFSETTO:+0100
TZNAME:CET
DTSTART;TZID=Europe/Berlin:19701025T030000
RRULE:FREQ=YEARLY;INTERVAL=1;BYDAY=-1SU;BYMONTH=10
END:STANDARD
END:VTIMEZONE
BEGIN:VEVENT
DTSTAMP:20260420T152423
DTSTART;TZID=Europe/Berlin:20260302T111500
DTEND;TZID=Europe/Berlin:20260302T124500
UID:261Z-S604-20260302T111500@VHSDONAUZUSAM
SUMMARY:English for Lunch: Englisch Mittelstufe (B1) (261Z-S604) 
LOCATION:vhs-Gebäude Wertingen, Mühlgasse 1a, Seminarraum 3, 2. OG, Mühlgasse 1a, 86637 Wertingen
END:VEVENT
BEGIN:VEVENT
DTSTAMP:20260420T152423
DTSTART;TZID=Europe/Berlin:20260309T111500
DTEND;TZID=Europe/Berlin:20260309T124500
UID:261Z-S604-20260309T111500@VHSDONAUZUSAM
SUMMARY:English for Lunch: Englisch Mittelstufe (B1) (261Z-S604) 
LOCATION:vhs-Gebäude Wertingen, Mühlgasse 1a, Seminarraum 3, 2. OG, Mühlgasse 1a, 86637 Wertingen
END:VEVENT
BEGIN:VEVENT
DTSTAMP:20260420T152423
DTSTART;TZID=Europe/Berlin:20260316T111500
DTEND;TZID=Europe/Berlin:20260316T124500
UID:261Z-S604-20260316T111500@VHSDONAUZUSAM
SUMMARY:English for Lunch: Englisch Mittelstufe (B1) (261Z-S604) 
LOCATION:vhs-Gebäude Wertingen, Mühlgasse 1a, Seminarraum 3, 2. OG, Mühlgasse 1a, 86637 Wertingen
END:VEVENT
BEGIN:VEVENT
DTSTAMP:20260420T152423
DTSTART;TZID=Europe/Berlin:20260323T111500
DTEND;TZID=Europe/Berlin:20260323T124500
UID:261Z-S604-20260323T111500@VHSDONAUZUSAM
SUMMARY:English for Lunch: Englisch Mittelstufe (B1) (261Z-S604) 
LOCATION:vhs-Gebäude Wertingen, Mühlgasse 1a, Seminarraum 3, 2. OG, Mühlgasse 1a, 86637 Wertingen
END:VEVENT
BEGIN:VEVENT
DTSTAMP:20260420T152423
DTSTART;TZID=Europe/Berlin:20260413T111500
DTEND;TZID=Europe/Berlin:20260413T124500
UID:261Z-S604-20260413T111500@VHSDONAUZUSAM
SUMMARY:English for Lunch: Englisch Mittelstufe (B1) (261Z-S604) 
LOCATION:vhs-Gebäude Wertingen, Mühlgasse 1a, Seminarraum 3, 2. OG, Mühlgasse 1a, 86637 Wertingen
END:VEVENT
BEGIN:VEVENT
DTSTAMP:20260420T152423
DTSTART;TZID=Europe/Berlin:20260420T111500
DTEND;TZID=Europe/Berlin:20260420T124500
UID:261Z-S604-20260420T111500@VHSDONAUZUSAM
SUMMARY:English for Lunch: Englisch Mittelstufe (B1) (261Z-S604) 
LOCATION:vhs-Gebäude Wertingen, Mühlgasse 1a, Seminarraum 3, 2. OG, Mühlgasse 1a, 86637 Wertingen
END:VEVENT
BEGIN:VEVENT
DTSTAMP:20260420T152423
DTSTART;TZID=Europe/Berlin:20260427T111500
DTEND;TZID=Europe/Berlin:20260427T124500
UID:261Z-S604-20260427T111500@VHSDONAUZUSAM
SUMMARY:English for Lunch: Englisch Mittelstufe (B1) (261Z-S604) 
LOCATION:vhs-Gebäude Wertingen, Mühlgasse 1a, Seminarraum 3, 2. OG, Mühlgasse 1a, 86637 Wertingen
END:VEVENT
BEGIN:VEVENT
DTSTAMP:20260420T152423
DTSTART;TZID=Europe/Berlin:20260511T111500
DTEND;TZID=Europe/Berlin:20260511T124500
UID:261Z-S604-20260511T111500@VHSDONAUZUSAM
SUMMARY:English for Lunch: Englisch Mittelstufe (B1) (261Z-S604) 
LOCATION:vhs-Gebäude Wertingen, Mühlgasse 1a, Seminarraum 3, 2. OG, Mühlgasse 1a, 86637 Wertingen
END:VEVENT
BEGIN:VEVENT
DTSTAMP:20260420T152423
DTSTART;TZID=Europe/Berlin:20260518T111500
DTEND;TZID=Europe/Berlin:20260518T124500
UID:261Z-S604-20260518T111500@VHSDONAUZUSAM
SUMMARY:English for Lunch: Englisch Mittelstufe (B1) (261Z-S604) 
LOCATION:vhs-Gebäude Wertingen, Mühlgasse 1a, Seminarraum 3, 2. OG, Mühlgasse 1a, 86637 Wertingen
END:VEVENT
BEGIN:VEVENT
DTSTAMP:20260420T152423
DTSTART;TZID=Europe/Berlin:20260608T111500
DTEND;TZID=Europe/Berlin:20260608T124500
UID:261Z-S604-20260608T111500@VHSDONAUZUSAM
SUMMARY:English for Lunch: Englisch Mittelstufe (B1) (261Z-S604) 
LOCATION:vhs-Gebäude Wertingen, Mühlgasse 1a, Seminarraum 3, 2. OG, Mühlgasse 1a, 86637 Wertingen
END:VEVENT
BEGIN:VEVENT
DTSTAMP:20260420T152423
DTSTART;TZID=Europe/Berlin:20260615T111500
DTEND;TZID=Europe/Berlin:20260615T124500
UID:261Z-S604-20260615T111500@VHSDONAUZUSAM
SUMMARY:English for Lunch: Englisch Mittelstufe (B1) (261Z-S604) 
LOCATION:vhs-Gebäude Wertingen, Mühlgasse 1a, Seminarraum 3, 2. OG, Mühlgasse 1a, 86637 Wertingen
END:VEVENT
BEGIN:VEVENT
DTSTAMP:20260420T152423
DTSTART;TZID=Europe/Berlin:20260622T111500
DTEND;TZID=Europe/Berlin:20260622T124500
UID:261Z-S604-20260622T111500@VHSDONAUZUSAM
SUMMARY:English for Lunch: Englisch Mittelstufe (B1) (261Z-S604) 
LOCATION:vhs-Gebäude Wertingen, Mühlgasse 1a, Seminarraum 3, 2. OG, Mühlgasse 1a, 86637 Wertingen
END:VEVENT
BEGIN:VEVENT
DTSTAMP:20260420T152423
DTSTART;TZID=Europe/Berlin:20260629T111500
DTEND;TZID=Europe/Berlin:20260629T124500
UID:261Z-S604-20260629T111500@VHSDONAUZUSAM
SUMMARY:English for Lunch: Englisch Mittelstufe (B1) (261Z-S604) 
LOCATION:vhs-Gebäude Wertingen, Mühlgasse 1a, Seminarraum 3, 2. OG, Mühlgasse 1a, 86637 Wertingen
END:VEVENT
END:VCALENDAR