BEGIN:VCALENDAR
VERSION:2.0
PRODID:http://www.kufer.de/kuferweb / DE
METHOD:PUBLISH
CALSCALE:GREGORIAN
X-WR-TIMEZONE:Europe/Berlin
BEGIN:VTIMEZONE
TZID:Europe/Berlin
X-LIC-LOCATION:Europe/Berlin
BEGIN:DAYLIGHT
TZOFFSETFROM:+0100
TZOFFSETTO:+0200
TZNAME:CEST
DTSTART;TZID=Europe/Berlin:19700329T020000
RRULE:FREQ=YEARLY;INTERVAL=1;BYDAY=-1SU;BYMONTH=3
END:DAYLIGHT
BEGIN:STANDARD
TZOFFSETFROM:+0200
TZOFFSETTO:+0100
TZNAME:CET
DTSTART;TZID=Europe/Berlin:19701025T030000
RRULE:FREQ=YEARLY;INTERVAL=1;BYDAY=-1SU;BYMONTH=10
END:STANDARD
END:VTIMEZONE
BEGIN:VEVENT
DTSTAMP:20260420T134840
DTSTART;TZID=Europe/Berlin:20260302T093000
DTEND;TZID=Europe/Berlin:20260302T110000
UID:261Z-S603-20260302T093000@VHSDONAUZUSAM
SUMMARY:Monday Morning Conversation: Englisch Mittelstufe (B1) (261Z-S603) 
LOCATION:vhs-Gebäude Wertingen, Mühlgasse 1a, Seminarraum 3, 2. OG, Mühlgasse 1a, 86637 Wertingen
END:VEVENT
BEGIN:VEVENT
DTSTAMP:20260420T134840
DTSTART;TZID=Europe/Berlin:20260309T093000
DTEND;TZID=Europe/Berlin:20260309T110000
UID:261Z-S603-20260309T093000@VHSDONAUZUSAM
SUMMARY:Monday Morning Conversation: Englisch Mittelstufe (B1) (261Z-S603) 
LOCATION:vhs-Gebäude Wertingen, Mühlgasse 1a, Seminarraum 3, 2. OG, Mühlgasse 1a, 86637 Wertingen
END:VEVENT
BEGIN:VEVENT
DTSTAMP:20260420T134840
DTSTART;TZID=Europe/Berlin:20260316T093000
DTEND;TZID=Europe/Berlin:20260316T110000
UID:261Z-S603-20260316T093000@VHSDONAUZUSAM
SUMMARY:Monday Morning Conversation: Englisch Mittelstufe (B1) (261Z-S603) 
LOCATION:vhs-Gebäude Wertingen, Mühlgasse 1a, Seminarraum 3, 2. OG, Mühlgasse 1a, 86637 Wertingen
END:VEVENT
BEGIN:VEVENT
DTSTAMP:20260420T134840
DTSTART;TZID=Europe/Berlin:20260323T093000
DTEND;TZID=Europe/Berlin:20260323T110000
UID:261Z-S603-20260323T093000@VHSDONAUZUSAM
SUMMARY:Monday Morning Conversation: Englisch Mittelstufe (B1) (261Z-S603) 
LOCATION:vhs-Gebäude Wertingen, Mühlgasse 1a, Seminarraum 3, 2. OG, Mühlgasse 1a, 86637 Wertingen
END:VEVENT
BEGIN:VEVENT
DTSTAMP:20260420T134840
DTSTART;TZID=Europe/Berlin:20260413T093000
DTEND;TZID=Europe/Berlin:20260413T110000
UID:261Z-S603-20260413T093000@VHSDONAUZUSAM
SUMMARY:Monday Morning Conversation: Englisch Mittelstufe (B1) (261Z-S603) 
LOCATION:vhs-Gebäude Wertingen, Mühlgasse 1a, Seminarraum 3, 2. OG, Mühlgasse 1a, 86637 Wertingen
END:VEVENT
BEGIN:VEVENT
DTSTAMP:20260420T134840
DTSTART;TZID=Europe/Berlin:20260420T093000
DTEND;TZID=Europe/Berlin:20260420T110000
UID:261Z-S603-20260420T093000@VHSDONAUZUSAM
SUMMARY:Monday Morning Conversation: Englisch Mittelstufe (B1) (261Z-S603) 
LOCATION:vhs-Gebäude Wertingen, Mühlgasse 1a, Seminarraum 3, 2. OG, Mühlgasse 1a, 86637 Wertingen
END:VEVENT
BEGIN:VEVENT
DTSTAMP:20260420T134840
DTSTART;TZID=Europe/Berlin:20260427T093000
DTEND;TZID=Europe/Berlin:20260427T110000
UID:261Z-S603-20260427T093000@VHSDONAUZUSAM
SUMMARY:Monday Morning Conversation: Englisch Mittelstufe (B1) (261Z-S603) 
LOCATION:vhs-Gebäude Wertingen, Mühlgasse 1a, Seminarraum 3, 2. OG, Mühlgasse 1a, 86637 Wertingen
END:VEVENT
BEGIN:VEVENT
DTSTAMP:20260420T134840
DTSTART;TZID=Europe/Berlin:20260511T093000
DTEND;TZID=Europe/Berlin:20260511T110000
UID:261Z-S603-20260511T093000@VHSDONAUZUSAM
SUMMARY:Monday Morning Conversation: Englisch Mittelstufe (B1) (261Z-S603) 
LOCATION:vhs-Gebäude Wertingen, Mühlgasse 1a, Seminarraum 3, 2. OG, Mühlgasse 1a, 86637 Wertingen
END:VEVENT
BEGIN:VEVENT
DTSTAMP:20260420T134840
DTSTART;TZID=Europe/Berlin:20260518T093000
DTEND;TZID=Europe/Berlin:20260518T110000
UID:261Z-S603-20260518T093000@VHSDONAUZUSAM
SUMMARY:Monday Morning Conversation: Englisch Mittelstufe (B1) (261Z-S603) 
LOCATION:vhs-Gebäude Wertingen, Mühlgasse 1a, Seminarraum 3, 2. OG, Mühlgasse 1a, 86637 Wertingen
END:VEVENT
BEGIN:VEVENT
DTSTAMP:20260420T134840
DTSTART;TZID=Europe/Berlin:20260608T093000
DTEND;TZID=Europe/Berlin:20260608T110000
UID:261Z-S603-20260608T093000@VHSDONAUZUSAM
SUMMARY:Monday Morning Conversation: Englisch Mittelstufe (B1) (261Z-S603) 
LOCATION:vhs-Gebäude Wertingen, Mühlgasse 1a, Seminarraum 3, 2. OG, Mühlgasse 1a, 86637 Wertingen
END:VEVENT
BEGIN:VEVENT
DTSTAMP:20260420T134840
DTSTART;TZID=Europe/Berlin:20260615T093000
DTEND;TZID=Europe/Berlin:20260615T110000
UID:261Z-S603-20260615T093000@VHSDONAUZUSAM
SUMMARY:Monday Morning Conversation: Englisch Mittelstufe (B1) (261Z-S603) 
LOCATION:vhs-Gebäude Wertingen, Mühlgasse 1a, Seminarraum 3, 2. OG, Mühlgasse 1a, 86637 Wertingen
END:VEVENT
BEGIN:VEVENT
DTSTAMP:20260420T134840
DTSTART;TZID=Europe/Berlin:20260622T093000
DTEND;TZID=Europe/Berlin:20260622T110000
UID:261Z-S603-20260622T093000@VHSDONAUZUSAM
SUMMARY:Monday Morning Conversation: Englisch Mittelstufe (B1) (261Z-S603) 
LOCATION:vhs-Gebäude Wertingen, Mühlgasse 1a, Seminarraum 3, 2. OG, Mühlgasse 1a, 86637 Wertingen
END:VEVENT
BEGIN:VEVENT
DTSTAMP:20260420T134840
DTSTART;TZID=Europe/Berlin:20260629T093000
DTEND;TZID=Europe/Berlin:20260629T110000
UID:261Z-S603-20260629T093000@VHSDONAUZUSAM
SUMMARY:Monday Morning Conversation: Englisch Mittelstufe (B1) (261Z-S603) 
LOCATION:vhs-Gebäude Wertingen, Mühlgasse 1a, Seminarraum 3, 2. OG, Mühlgasse 1a, 86637 Wertingen
END:VEVENT
END:VCALENDAR