BEGIN:VCALENDAR
VERSION:2.0
PRODID:http://www.kufer.de/kuferweb / DE
METHOD:PUBLISH
CALSCALE:GREGORIAN
X-WR-TIMEZONE:Europe/Berlin
BEGIN:VTIMEZONE
TZID:Europe/Berlin
X-LIC-LOCATION:Europe/Berlin
BEGIN:DAYLIGHT
TZOFFSETFROM:+0100
TZOFFSETTO:+0200
TZNAME:CEST
DTSTART;TZID=Europe/Berlin:19700329T020000
RRULE:FREQ=YEARLY;INTERVAL=1;BYDAY=-1SU;BYMONTH=3
END:DAYLIGHT
BEGIN:STANDARD
TZOFFSETFROM:+0200
TZOFFSETTO:+0100
TZNAME:CET
DTSTART;TZID=Europe/Berlin:19701025T030000
RRULE:FREQ=YEARLY;INTERVAL=1;BYDAY=-1SU;BYMONTH=10
END:STANDARD
END:VTIMEZONE
BEGIN:VEVENT
DTSTAMP:20260425T211427
DTSTART;TZID=Europe/Berlin:20260304T183000
DTEND;TZID=Europe/Berlin:20260304T193000
UID:261Z-G728-20260304T183000@VHSDONAUZUSAM
SUMMARY:Bodyworkout: Bauch, Beine, Po und Rücken (261Z-G728) 
LOCATION:vhs-Gebäude Wertingen, Mühlgasse 1a, Seminarraum 1, EG, Mühlgasse 1a, 86637 Wertingen
END:VEVENT
BEGIN:VEVENT
DTSTAMP:20260425T211427
DTSTART;TZID=Europe/Berlin:20260311T183000
DTEND;TZID=Europe/Berlin:20260311T193000
UID:261Z-G728-20260311T183000@VHSDONAUZUSAM
SUMMARY:Bodyworkout: Bauch, Beine, Po und Rücken (261Z-G728) 
LOCATION:vhs-Gebäude Wertingen, Mühlgasse 1a, Seminarraum 1, EG, Mühlgasse 1a, 86637 Wertingen
END:VEVENT
BEGIN:VEVENT
DTSTAMP:20260425T211427
DTSTART;TZID=Europe/Berlin:20260318T183000
DTEND;TZID=Europe/Berlin:20260318T193000
UID:261Z-G728-20260318T183000@VHSDONAUZUSAM
SUMMARY:Bodyworkout: Bauch, Beine, Po und Rücken (261Z-G728) 
LOCATION:vhs-Gebäude Wertingen, Mühlgasse 1a, Seminarraum 1, EG, Mühlgasse 1a, 86637 Wertingen
END:VEVENT
BEGIN:VEVENT
DTSTAMP:20260425T211427
DTSTART;TZID=Europe/Berlin:20260325T183000
DTEND;TZID=Europe/Berlin:20260325T193000
UID:261Z-G728-20260325T183000@VHSDONAUZUSAM
SUMMARY:Bodyworkout: Bauch, Beine, Po und Rücken (261Z-G728) 
LOCATION:vhs-Gebäude Wertingen, Mühlgasse 1a, Seminarraum 1, EG, Mühlgasse 1a, 86637 Wertingen
END:VEVENT
BEGIN:VEVENT
DTSTAMP:20260425T211427
DTSTART;TZID=Europe/Berlin:20260401T183000
DTEND;TZID=Europe/Berlin:20260401T193000
UID:261Z-G728-20260401T183000@VHSDONAUZUSAM
SUMMARY:Bodyworkout: Bauch, Beine, Po und Rücken (261Z-G728) 
LOCATION:vhs-Gebäude Wertingen, Mühlgasse 1a, Seminarraum 1, EG, Mühlgasse 1a, 86637 Wertingen
END:VEVENT
BEGIN:VEVENT
DTSTAMP:20260425T211427
DTSTART;TZID=Europe/Berlin:20260408T183000
DTEND;TZID=Europe/Berlin:20260408T193000
UID:261Z-G728-20260408T183000@VHSDONAUZUSAM
SUMMARY:Bodyworkout: Bauch, Beine, Po und Rücken (261Z-G728) 
LOCATION:vhs-Gebäude Wertingen, Mühlgasse 1a, Seminarraum 1, EG, Mühlgasse 1a, 86637 Wertingen
END:VEVENT
BEGIN:VEVENT
DTSTAMP:20260425T211427
DTSTART;TZID=Europe/Berlin:20260415T183000
DTEND;TZID=Europe/Berlin:20260415T193000
UID:261Z-G728-20260415T183000@VHSDONAUZUSAM
SUMMARY:Bodyworkout: Bauch, Beine, Po und Rücken (261Z-G728) 
LOCATION:vhs-Gebäude Wertingen, Mühlgasse 1a, Seminarraum 1, EG, Mühlgasse 1a, 86637 Wertingen
END:VEVENT
BEGIN:VEVENT
DTSTAMP:20260425T211427
DTSTART;TZID=Europe/Berlin:20260422T183000
DTEND;TZID=Europe/Berlin:20260422T193000
UID:261Z-G728-20260422T183000@VHSDONAUZUSAM
SUMMARY:Bodyworkout: Bauch, Beine, Po und Rücken (261Z-G728) 
LOCATION:vhs-Gebäude Wertingen, Mühlgasse 1a, Seminarraum 1, EG, Mühlgasse 1a, 86637 Wertingen
END:VEVENT
BEGIN:VEVENT
DTSTAMP:20260425T211427
DTSTART;TZID=Europe/Berlin:20260429T183000
DTEND;TZID=Europe/Berlin:20260429T193000
UID:261Z-G728-20260429T183000@VHSDONAUZUSAM
SUMMARY:Bodyworkout: Bauch, Beine, Po und Rücken (261Z-G728) 
LOCATION:vhs-Gebäude Wertingen, Mühlgasse 1a, Seminarraum 1, EG, Mühlgasse 1a, 86637 Wertingen
END:VEVENT
END:VCALENDAR