BEGIN:VCALENDAR
VERSION:2.0
PRODID:http://www.kufer.de/kuferweb / DE
METHOD:PUBLISH
CALSCALE:GREGORIAN
X-WR-TIMEZONE:Europe/Berlin
BEGIN:VTIMEZONE
TZID:Europe/Berlin
X-LIC-LOCATION:Europe/Berlin
BEGIN:DAYLIGHT
TZOFFSETFROM:+0100
TZOFFSETTO:+0200
TZNAME:CEST
DTSTART;TZID=Europe/Berlin:19700329T020000
RRULE:FREQ=YEARLY;INTERVAL=1;BYDAY=-1SU;BYMONTH=3
END:DAYLIGHT
BEGIN:STANDARD
TZOFFSETFROM:+0200
TZOFFSETTO:+0100
TZNAME:CET
DTSTART;TZID=Europe/Berlin:19701025T030000
RRULE:FREQ=YEARLY;INTERVAL=1;BYDAY=-1SU;BYMONTH=10
END:STANDARD
END:VTIMEZONE
BEGIN:VEVENT
DTSTAMP:20260425T210042
DTSTART;TZID=Europe/Berlin:20260303T193000
DTEND;TZID=Europe/Berlin:20260303T203000
UID:261Z-G681-20260303T193000@VHSDONAUZUSAM
SUMMARY:Fit und entspannt mit Qigong - Teilnehmer mit und ohne Vorkenntnisse (261Z-G681) 
LOCATION:vhs-Gebäude Wertingen, Mühlgasse 1a, Seminarraum 1, EG, Mühlgasse 1a, 86637 Wertingen
END:VEVENT
BEGIN:VEVENT
DTSTAMP:20260425T210042
DTSTART;TZID=Europe/Berlin:20260310T193000
DTEND;TZID=Europe/Berlin:20260310T203000
UID:261Z-G681-20260310T193000@VHSDONAUZUSAM
SUMMARY:Fit und entspannt mit Qigong - Teilnehmer mit und ohne Vorkenntnisse (261Z-G681) 
LOCATION:vhs-Gebäude Wertingen, Mühlgasse 1a, Seminarraum 1, EG, Mühlgasse 1a, 86637 Wertingen
END:VEVENT
BEGIN:VEVENT
DTSTAMP:20260425T210042
DTSTART;TZID=Europe/Berlin:20260317T193000
DTEND;TZID=Europe/Berlin:20260317T203000
UID:261Z-G681-20260317T193000@VHSDONAUZUSAM
SUMMARY:Fit und entspannt mit Qigong - Teilnehmer mit und ohne Vorkenntnisse (261Z-G681) 
LOCATION:vhs-Gebäude Wertingen, Mühlgasse 1a, Seminarraum 1, EG, Mühlgasse 1a, 86637 Wertingen
END:VEVENT
BEGIN:VEVENT
DTSTAMP:20260425T210042
DTSTART;TZID=Europe/Berlin:20260324T193000
DTEND;TZID=Europe/Berlin:20260324T203000
UID:261Z-G681-20260324T193000@VHSDONAUZUSAM
SUMMARY:Fit und entspannt mit Qigong - Teilnehmer mit und ohne Vorkenntnisse (261Z-G681) 
LOCATION:vhs-Gebäude Wertingen, Mühlgasse 1a, Seminarraum 1, EG, Mühlgasse 1a, 86637 Wertingen
END:VEVENT
BEGIN:VEVENT
DTSTAMP:20260425T210042
DTSTART;TZID=Europe/Berlin:20260414T193000
DTEND;TZID=Europe/Berlin:20260414T203000
UID:261Z-G681-20260414T193000@VHSDONAUZUSAM
SUMMARY:Fit und entspannt mit Qigong - Teilnehmer mit und ohne Vorkenntnisse (261Z-G681) 
LOCATION:vhs-Gebäude Wertingen, Mühlgasse 1a, Seminarraum 1, EG, Mühlgasse 1a, 86637 Wertingen
END:VEVENT
BEGIN:VEVENT
DTSTAMP:20260425T210042
DTSTART;TZID=Europe/Berlin:20260421T193000
DTEND;TZID=Europe/Berlin:20260421T203000
UID:261Z-G681-20260421T193000@VHSDONAUZUSAM
SUMMARY:Fit und entspannt mit Qigong - Teilnehmer mit und ohne Vorkenntnisse (261Z-G681) 
LOCATION:vhs-Gebäude Wertingen, Mühlgasse 1a, Seminarraum 1, EG, Mühlgasse 1a, 86637 Wertingen
END:VEVENT
BEGIN:VEVENT
DTSTAMP:20260425T210042
DTSTART;TZID=Europe/Berlin:20260428T193000
DTEND;TZID=Europe/Berlin:20260428T203000
UID:261Z-G681-20260428T193000@VHSDONAUZUSAM
SUMMARY:Fit und entspannt mit Qigong - Teilnehmer mit und ohne Vorkenntnisse (261Z-G681) 
LOCATION:vhs-Gebäude Wertingen, Mühlgasse 1a, Seminarraum 1, EG, Mühlgasse 1a, 86637 Wertingen
END:VEVENT
BEGIN:VEVENT
DTSTAMP:20260425T210042
DTSTART;TZID=Europe/Berlin:20260505T193000
DTEND;TZID=Europe/Berlin:20260505T203000
UID:261Z-G681-20260505T193000@VHSDONAUZUSAM
SUMMARY:Fit und entspannt mit Qigong - Teilnehmer mit und ohne Vorkenntnisse (261Z-G681) 
LOCATION:vhs-Gebäude Wertingen, Mühlgasse 1a, Seminarraum 1, EG, Mühlgasse 1a, 86637 Wertingen
END:VEVENT
BEGIN:VEVENT
DTSTAMP:20260425T210042
DTSTART;TZID=Europe/Berlin:20260512T193000
DTEND;TZID=Europe/Berlin:20260512T203000
UID:261Z-G681-20260512T193000@VHSDONAUZUSAM
SUMMARY:Fit und entspannt mit Qigong - Teilnehmer mit und ohne Vorkenntnisse (261Z-G681) 
LOCATION:vhs-Gebäude Wertingen, Mühlgasse 1a, Seminarraum 1, EG, Mühlgasse 1a, 86637 Wertingen
END:VEVENT
BEGIN:VEVENT
DTSTAMP:20260425T210042
DTSTART;TZID=Europe/Berlin:20260519T193000
DTEND;TZID=Europe/Berlin:20260519T203000
UID:261Z-G681-20260519T193000@VHSDONAUZUSAM
SUMMARY:Fit und entspannt mit Qigong - Teilnehmer mit und ohne Vorkenntnisse (261Z-G681) 
LOCATION:vhs-Gebäude Wertingen, Mühlgasse 1a, Seminarraum 1, EG, Mühlgasse 1a, 86637 Wertingen
END:VEVENT
END:VCALENDAR