BEGIN:VCALENDAR
VERSION:2.0
PRODID:http://www.kufer.de/kuferweb / DE
METHOD:PUBLISH
CALSCALE:GREGORIAN
X-WR-TIMEZONE:Europe/Berlin
BEGIN:VTIMEZONE
TZID:Europe/Berlin
X-LIC-LOCATION:Europe/Berlin
BEGIN:DAYLIGHT
TZOFFSETFROM:+0100
TZOFFSETTO:+0200
TZNAME:CEST
DTSTART;TZID=Europe/Berlin:19700329T020000
RRULE:FREQ=YEARLY;INTERVAL=1;BYDAY=-1SU;BYMONTH=3
END:DAYLIGHT
BEGIN:STANDARD
TZOFFSETFROM:+0200
TZOFFSETTO:+0100
TZNAME:CET
DTSTART;TZID=Europe/Berlin:19701025T030000
RRULE:FREQ=YEARLY;INTERVAL=1;BYDAY=-1SU;BYMONTH=10
END:STANDARD
END:VTIMEZONE
BEGIN:VEVENT
DTSTAMP:20260425T181959
DTSTART;TZID=Europe/Berlin:20260303T093000
DTEND;TZID=Europe/Berlin:20260303T103000
UID:261Z-G679-20260303T093000@VHSDONAUZUSAM
SUMMARY:Fit und entspannt mit Qi Gong  Kurs für Fortgeschrittene (261Z-G679) 
LOCATION:vhs-Gebäude Wertingen, Mühlgasse 1a, Seminarraum 1, EG, Mühlgasse 1a, 86637 Wertingen
END:VEVENT
BEGIN:VEVENT
DTSTAMP:20260425T181959
DTSTART;TZID=Europe/Berlin:20260310T093000
DTEND;TZID=Europe/Berlin:20260310T103000
UID:261Z-G679-20260310T093000@VHSDONAUZUSAM
SUMMARY:Fit und entspannt mit Qi Gong  Kurs für Fortgeschrittene (261Z-G679) 
LOCATION:vhs-Gebäude Wertingen, Mühlgasse 1a, Seminarraum 1, EG, Mühlgasse 1a, 86637 Wertingen
END:VEVENT
BEGIN:VEVENT
DTSTAMP:20260425T181959
DTSTART;TZID=Europe/Berlin:20260317T093000
DTEND;TZID=Europe/Berlin:20260317T103000
UID:261Z-G679-20260317T093000@VHSDONAUZUSAM
SUMMARY:Fit und entspannt mit Qi Gong  Kurs für Fortgeschrittene (261Z-G679) 
LOCATION:vhs-Gebäude Wertingen, Mühlgasse 1a, Seminarraum 1, EG, Mühlgasse 1a, 86637 Wertingen
END:VEVENT
BEGIN:VEVENT
DTSTAMP:20260425T181959
DTSTART;TZID=Europe/Berlin:20260324T093000
DTEND;TZID=Europe/Berlin:20260324T103000
UID:261Z-G679-20260324T093000@VHSDONAUZUSAM
SUMMARY:Fit und entspannt mit Qi Gong  Kurs für Fortgeschrittene (261Z-G679) 
LOCATION:vhs-Gebäude Wertingen, Mühlgasse 1a, Seminarraum 1, EG, Mühlgasse 1a, 86637 Wertingen
END:VEVENT
BEGIN:VEVENT
DTSTAMP:20260425T181959
DTSTART;TZID=Europe/Berlin:20260414T093000
DTEND;TZID=Europe/Berlin:20260414T103000
UID:261Z-G679-20260414T093000@VHSDONAUZUSAM
SUMMARY:Fit und entspannt mit Qi Gong  Kurs für Fortgeschrittene (261Z-G679) 
LOCATION:vhs-Gebäude Wertingen, Mühlgasse 1a, Seminarraum 1, EG, Mühlgasse 1a, 86637 Wertingen
END:VEVENT
BEGIN:VEVENT
DTSTAMP:20260425T181959
DTSTART;TZID=Europe/Berlin:20260421T093000
DTEND;TZID=Europe/Berlin:20260421T103000
UID:261Z-G679-20260421T093000@VHSDONAUZUSAM
SUMMARY:Fit und entspannt mit Qi Gong  Kurs für Fortgeschrittene (261Z-G679) 
LOCATION:vhs-Gebäude Wertingen, Mühlgasse 1a, Seminarraum 1, EG, Mühlgasse 1a, 86637 Wertingen
END:VEVENT
BEGIN:VEVENT
DTSTAMP:20260425T181959
DTSTART;TZID=Europe/Berlin:20260428T093000
DTEND;TZID=Europe/Berlin:20260428T103000
UID:261Z-G679-20260428T093000@VHSDONAUZUSAM
SUMMARY:Fit und entspannt mit Qi Gong  Kurs für Fortgeschrittene (261Z-G679) 
LOCATION:vhs-Gebäude Wertingen, Mühlgasse 1a, Seminarraum 1, EG, Mühlgasse 1a, 86637 Wertingen
END:VEVENT
BEGIN:VEVENT
DTSTAMP:20260425T181959
DTSTART;TZID=Europe/Berlin:20260505T093000
DTEND;TZID=Europe/Berlin:20260505T103000
UID:261Z-G679-20260505T093000@VHSDONAUZUSAM
SUMMARY:Fit und entspannt mit Qi Gong  Kurs für Fortgeschrittene (261Z-G679) 
LOCATION:vhs-Gebäude Wertingen, Mühlgasse 1a, Seminarraum 1, EG, Mühlgasse 1a, 86637 Wertingen
END:VEVENT
BEGIN:VEVENT
DTSTAMP:20260425T181959
DTSTART;TZID=Europe/Berlin:20260512T093000
DTEND;TZID=Europe/Berlin:20260512T103000
UID:261Z-G679-20260512T093000@VHSDONAUZUSAM
SUMMARY:Fit und entspannt mit Qi Gong  Kurs für Fortgeschrittene (261Z-G679) 
LOCATION:vhs-Gebäude Wertingen, Mühlgasse 1a, Seminarraum 1, EG, Mühlgasse 1a, 86637 Wertingen
END:VEVENT
BEGIN:VEVENT
DTSTAMP:20260425T181959
DTSTART;TZID=Europe/Berlin:20260519T093000
DTEND;TZID=Europe/Berlin:20260519T103000
UID:261Z-G679-20260519T093000@VHSDONAUZUSAM
SUMMARY:Fit und entspannt mit Qi Gong  Kurs für Fortgeschrittene (261Z-G679) 
LOCATION:vhs-Gebäude Wertingen, Mühlgasse 1a, Seminarraum 1, EG, Mühlgasse 1a, 86637 Wertingen
END:VEVENT
END:VCALENDAR