BEGIN:VCALENDAR
VERSION:2.0
PRODID:http://www.kufer.de/kuferweb / DE
METHOD:PUBLISH
CALSCALE:GREGORIAN
X-WR-TIMEZONE:Europe/Berlin
BEGIN:VTIMEZONE
TZID:Europe/Berlin
X-LIC-LOCATION:Europe/Berlin
BEGIN:DAYLIGHT
TZOFFSETFROM:+0100
TZOFFSETTO:+0200
TZNAME:CEST
DTSTART;TZID=Europe/Berlin:19700329T020000
RRULE:FREQ=YEARLY;INTERVAL=1;BYDAY=-1SU;BYMONTH=3
END:DAYLIGHT
BEGIN:STANDARD
TZOFFSETFROM:+0200
TZOFFSETTO:+0100
TZNAME:CET
DTSTART;TZID=Europe/Berlin:19701025T030000
RRULE:FREQ=YEARLY;INTERVAL=1;BYDAY=-1SU;BYMONTH=10
END:STANDARD
END:VTIMEZONE
BEGIN:VEVENT
DTSTAMP:20260425T055717
DTSTART;TZID=Europe/Berlin:20260302T173000
DTEND;TZID=Europe/Berlin:20260302T190000
UID:261W-S501-20260302T173000@VHSDONAUZUSAM
SUMMARY:Italienisch  mit Vergnügen - Gute Italienischkenntnisse gefragt! (261W-S501) 
LOCATION:Grund- und Mittelschule Wittislingen, Handarbeitsraum, Markstatt 4, 89426 Wittislingen
END:VEVENT
BEGIN:VEVENT
DTSTAMP:20260425T055717
DTSTART;TZID=Europe/Berlin:20260309T173000
DTEND;TZID=Europe/Berlin:20260309T190000
UID:261W-S501-20260309T173000@VHSDONAUZUSAM
SUMMARY:Italienisch  mit Vergnügen - Gute Italienischkenntnisse gefragt! (261W-S501) 
LOCATION:Grund- und Mittelschule Wittislingen, Handarbeitsraum, Markstatt 4, 89426 Wittislingen
END:VEVENT
BEGIN:VEVENT
DTSTAMP:20260425T055717
DTSTART;TZID=Europe/Berlin:20260316T173000
DTEND;TZID=Europe/Berlin:20260316T190000
UID:261W-S501-20260316T173000@VHSDONAUZUSAM
SUMMARY:Italienisch  mit Vergnügen - Gute Italienischkenntnisse gefragt! (261W-S501) 
LOCATION:Grund- und Mittelschule Wittislingen, Handarbeitsraum, Markstatt 4, 89426 Wittislingen
END:VEVENT
BEGIN:VEVENT
DTSTAMP:20260425T055717
DTSTART;TZID=Europe/Berlin:20260323T173000
DTEND;TZID=Europe/Berlin:20260323T190000
UID:261W-S501-20260323T173000@VHSDONAUZUSAM
SUMMARY:Italienisch  mit Vergnügen - Gute Italienischkenntnisse gefragt! (261W-S501) 
LOCATION:Grund- und Mittelschule Wittislingen, Handarbeitsraum, Markstatt 4, 89426 Wittislingen
END:VEVENT
BEGIN:VEVENT
DTSTAMP:20260425T055717
DTSTART;TZID=Europe/Berlin:20260413T173000
DTEND;TZID=Europe/Berlin:20260413T190000
UID:261W-S501-20260413T173000@VHSDONAUZUSAM
SUMMARY:Italienisch  mit Vergnügen - Gute Italienischkenntnisse gefragt! (261W-S501) 
LOCATION:Grund- und Mittelschule Wittislingen, Handarbeitsraum, Markstatt 4, 89426 Wittislingen
END:VEVENT
BEGIN:VEVENT
DTSTAMP:20260425T055717
DTSTART;TZID=Europe/Berlin:20260420T173000
DTEND;TZID=Europe/Berlin:20260420T190000
UID:261W-S501-20260420T173000@VHSDONAUZUSAM
SUMMARY:Italienisch  mit Vergnügen - Gute Italienischkenntnisse gefragt! (261W-S501) 
LOCATION:Grund- und Mittelschule Wittislingen, Handarbeitsraum, Markstatt 4, 89426 Wittislingen
END:VEVENT
BEGIN:VEVENT
DTSTAMP:20260425T055717
DTSTART;TZID=Europe/Berlin:20260427T173000
DTEND;TZID=Europe/Berlin:20260427T190000
UID:261W-S501-20260427T173000@VHSDONAUZUSAM
SUMMARY:Italienisch  mit Vergnügen - Gute Italienischkenntnisse gefragt! (261W-S501) 
LOCATION:Grund- und Mittelschule Wittislingen, Handarbeitsraum, Markstatt 4, 89426 Wittislingen
END:VEVENT
BEGIN:VEVENT
DTSTAMP:20260425T055717
DTSTART;TZID=Europe/Berlin:20260504T173000
DTEND;TZID=Europe/Berlin:20260504T190000
UID:261W-S501-20260504T173000@VHSDONAUZUSAM
SUMMARY:Italienisch  mit Vergnügen - Gute Italienischkenntnisse gefragt! (261W-S501) 
LOCATION:Grund- und Mittelschule Wittislingen, Handarbeitsraum, Markstatt 4, 89426 Wittislingen
END:VEVENT
BEGIN:VEVENT
DTSTAMP:20260425T055717
DTSTART;TZID=Europe/Berlin:20260511T173000
DTEND;TZID=Europe/Berlin:20260511T190000
UID:261W-S501-20260511T173000@VHSDONAUZUSAM
SUMMARY:Italienisch  mit Vergnügen - Gute Italienischkenntnisse gefragt! (261W-S501) 
LOCATION:Grund- und Mittelschule Wittislingen, Handarbeitsraum, Markstatt 4, 89426 Wittislingen
END:VEVENT
BEGIN:VEVENT
DTSTAMP:20260425T055717
DTSTART;TZID=Europe/Berlin:20260518T173000
DTEND;TZID=Europe/Berlin:20260518T190000
UID:261W-S501-20260518T173000@VHSDONAUZUSAM
SUMMARY:Italienisch  mit Vergnügen - Gute Italienischkenntnisse gefragt! (261W-S501) 
LOCATION:Grund- und Mittelschule Wittislingen, Handarbeitsraum, Markstatt 4, 89426 Wittislingen
END:VEVENT
END:VCALENDAR