BEGIN:VCALENDAR
VERSION:2.0
PRODID:http://www.kufer.de/kuferweb / DE
METHOD:PUBLISH
CALSCALE:GREGORIAN
X-WR-TIMEZONE:Europe/Berlin
BEGIN:VTIMEZONE
TZID:Europe/Berlin
X-LIC-LOCATION:Europe/Berlin
BEGIN:DAYLIGHT
TZOFFSETFROM:+0100
TZOFFSETTO:+0200
TZNAME:CEST
DTSTART;TZID=Europe/Berlin:19700329T020000
RRULE:FREQ=YEARLY;INTERVAL=1;BYDAY=-1SU;BYMONTH=3
END:DAYLIGHT
BEGIN:STANDARD
TZOFFSETFROM:+0200
TZOFFSETTO:+0100
TZNAME:CET
DTSTART;TZID=Europe/Berlin:19701025T030000
RRULE:FREQ=YEARLY;INTERVAL=1;BYDAY=-1SU;BYMONTH=10
END:STANDARD
END:VTIMEZONE
BEGIN:VEVENT
DTSTAMP:20260424T162256
DTSTART;TZID=Europe/Berlin:20260610T171500
DTEND;TZID=Europe/Berlin:20260610T181500
UID:261W-J501-20260610T171500@VHSDONAUZUSAM
SUMMARY:Zumba Kids FÜR KINDER AB 6 JAHREN (261W-J501) 
LOCATION:Grund- und Mittelschule Wittislingen, Empore der Aula, Markstatt 4, 89426 Wittislingen
END:VEVENT
BEGIN:VEVENT
DTSTAMP:20260424T162256
DTSTART;TZID=Europe/Berlin:20260617T171500
DTEND;TZID=Europe/Berlin:20260617T181500
UID:261W-J501-20260617T171500@VHSDONAUZUSAM
SUMMARY:Zumba Kids FÜR KINDER AB 6 JAHREN (261W-J501) 
LOCATION:Grund- und Mittelschule Wittislingen, Empore der Aula, Markstatt 4, 89426 Wittislingen
END:VEVENT
BEGIN:VEVENT
DTSTAMP:20260424T162256
DTSTART;TZID=Europe/Berlin:20260624T171500
DTEND;TZID=Europe/Berlin:20260624T181500
UID:261W-J501-20260624T171500@VHSDONAUZUSAM
SUMMARY:Zumba Kids FÜR KINDER AB 6 JAHREN (261W-J501) 
LOCATION:Grund- und Mittelschule Wittislingen, Empore der Aula, Markstatt 4, 89426 Wittislingen
END:VEVENT
BEGIN:VEVENT
DTSTAMP:20260424T162256
DTSTART;TZID=Europe/Berlin:20260701T171500
DTEND;TZID=Europe/Berlin:20260701T181500
UID:261W-J501-20260701T171500@VHSDONAUZUSAM
SUMMARY:Zumba Kids FÜR KINDER AB 6 JAHREN (261W-J501) 
LOCATION:Grund- und Mittelschule Wittislingen, Empore der Aula, Markstatt 4, 89426 Wittislingen
END:VEVENT
BEGIN:VEVENT
DTSTAMP:20260424T162256
DTSTART;TZID=Europe/Berlin:20260708T171500
DTEND;TZID=Europe/Berlin:20260708T181500
UID:261W-J501-20260708T171500@VHSDONAUZUSAM
SUMMARY:Zumba Kids FÜR KINDER AB 6 JAHREN (261W-J501) 
LOCATION:Grund- und Mittelschule Wittislingen, Empore der Aula, Markstatt 4, 89426 Wittislingen
END:VEVENT
BEGIN:VEVENT
DTSTAMP:20260424T162256
DTSTART;TZID=Europe/Berlin:20260715T171500
DTEND;TZID=Europe/Berlin:20260715T181500
UID:261W-J501-20260715T171500@VHSDONAUZUSAM
SUMMARY:Zumba Kids FÜR KINDER AB 6 JAHREN (261W-J501) 
LOCATION:Grund- und Mittelschule Wittislingen, Empore der Aula, Markstatt 4, 89426 Wittislingen
END:VEVENT
BEGIN:VEVENT
DTSTAMP:20260424T162256
DTSTART;TZID=Europe/Berlin:20260722T171500
DTEND;TZID=Europe/Berlin:20260722T181500
UID:261W-J501-20260722T171500@VHSDONAUZUSAM
SUMMARY:Zumba Kids FÜR KINDER AB 6 JAHREN (261W-J501) 
LOCATION:Grund- und Mittelschule Wittislingen, Empore der Aula, Markstatt 4, 89426 Wittislingen
END:VEVENT
BEGIN:VEVENT
DTSTAMP:20260424T162256
DTSTART;TZID=Europe/Berlin:20260729T171500
DTEND;TZID=Europe/Berlin:20260729T181500
UID:261W-J501-20260729T171500@VHSDONAUZUSAM
SUMMARY:Zumba Kids FÜR KINDER AB 6 JAHREN (261W-J501) 
LOCATION:Grund- und Mittelschule Wittislingen, Empore der Aula, Markstatt 4, 89426 Wittislingen
END:VEVENT
END:VCALENDAR