BEGIN:VCALENDAR
VERSION:2.0
PRODID:http://www.kufer.de/kuferweb / DE
METHOD:PUBLISH
CALSCALE:GREGORIAN
X-WR-TIMEZONE:Europe/Berlin
BEGIN:VTIMEZONE
TZID:Europe/Berlin
X-LIC-LOCATION:Europe/Berlin
BEGIN:DAYLIGHT
TZOFFSETFROM:+0100
TZOFFSETTO:+0200
TZNAME:CEST
DTSTART;TZID=Europe/Berlin:19700329T020000
RRULE:FREQ=YEARLY;INTERVAL=1;BYDAY=-1SU;BYMONTH=3
END:DAYLIGHT
BEGIN:STANDARD
TZOFFSETFROM:+0200
TZOFFSETTO:+0100
TZNAME:CET
DTSTART;TZID=Europe/Berlin:19701025T030000
RRULE:FREQ=YEARLY;INTERVAL=1;BYDAY=-1SU;BYMONTH=10
END:STANDARD
END:VTIMEZONE
BEGIN:VEVENT
DTSTAMP:20260426T005329
DTSTART;TZID=Europe/Berlin:20260310T143000
DTEND;TZID=Europe/Berlin:20260310T160000
UID:261L-X323-20260310T143000@VHSDONAUZUSAM
SUMMARY:Besuch bei der Dillinger Feuerwehr  BRANDSCHUTZTIPPS AUS DER PRAXIS –  LERNEN AUS SCHADENSFÄLLEN (261L-X323) 
LOCATION:Freiwillige Feuerwehr Dillingen, Kasernplatz 10 1/2, 89407 Dillingen
END:VEVENT
END:VCALENDAR