BEGIN:VCALENDAR
VERSION:2.0
PRODID:http://www.kufer.de/kuferweb / DE
METHOD:PUBLISH
CALSCALE:GREGORIAN
X-WR-TIMEZONE:Europe/Berlin
BEGIN:VTIMEZONE
TZID:Europe/Berlin
X-LIC-LOCATION:Europe/Berlin
BEGIN:DAYLIGHT
TZOFFSETFROM:+0100
TZOFFSETTO:+0200
TZNAME:CEST
DTSTART;TZID=Europe/Berlin:19700329T020000
RRULE:FREQ=YEARLY;INTERVAL=1;BYDAY=-1SU;BYMONTH=3
END:DAYLIGHT
BEGIN:STANDARD
TZOFFSETFROM:+0200
TZOFFSETTO:+0100
TZNAME:CET
DTSTART;TZID=Europe/Berlin:19701025T030000
RRULE:FREQ=YEARLY;INTERVAL=1;BYDAY=-1SU;BYMONTH=10
END:STANDARD
END:VTIMEZONE
BEGIN:VEVENT
DTSTAMP:20260425T054820
DTSTART;TZID=Europe/Berlin:20260302T163000
DTEND;TZID=Europe/Berlin:20260302T180000
UID:261L-S306-20260302T163000@VHSDONAUZUSAM
SUMMARY:Time to Talk: Englisch Mittelstufe (B1) (261L-S306) 
LOCATION:Mittelschule Lauingen, Raum 221 OG, Marienweg 2, 89415 Lauingen
END:VEVENT
BEGIN:VEVENT
DTSTAMP:20260425T054820
DTSTART;TZID=Europe/Berlin:20260309T163000
DTEND;TZID=Europe/Berlin:20260309T180000
UID:261L-S306-20260309T163000@VHSDONAUZUSAM
SUMMARY:Time to Talk: Englisch Mittelstufe (B1) (261L-S306) 
LOCATION:Mittelschule Lauingen, Raum 221 OG, Marienweg 2, 89415 Lauingen
END:VEVENT
BEGIN:VEVENT
DTSTAMP:20260425T054820
DTSTART;TZID=Europe/Berlin:20260316T163000
DTEND;TZID=Europe/Berlin:20260316T180000
UID:261L-S306-20260316T163000@VHSDONAUZUSAM
SUMMARY:Time to Talk: Englisch Mittelstufe (B1) (261L-S306) 
LOCATION:Mittelschule Lauingen, Raum 221 OG, Marienweg 2, 89415 Lauingen
END:VEVENT
BEGIN:VEVENT
DTSTAMP:20260425T054820
DTSTART;TZID=Europe/Berlin:20260323T163000
DTEND;TZID=Europe/Berlin:20260323T180000
UID:261L-S306-20260323T163000@VHSDONAUZUSAM
SUMMARY:Time to Talk: Englisch Mittelstufe (B1) (261L-S306) 
LOCATION:Mittelschule Lauingen, Raum 221 OG, Marienweg 2, 89415 Lauingen
END:VEVENT
BEGIN:VEVENT
DTSTAMP:20260425T054820
DTSTART;TZID=Europe/Berlin:20260413T163000
DTEND;TZID=Europe/Berlin:20260413T180000
UID:261L-S306-20260413T163000@VHSDONAUZUSAM
SUMMARY:Time to Talk: Englisch Mittelstufe (B1) (261L-S306) 
LOCATION:Mittelschule Lauingen, Raum 221 OG, Marienweg 2, 89415 Lauingen
END:VEVENT
BEGIN:VEVENT
DTSTAMP:20260425T054820
DTSTART;TZID=Europe/Berlin:20260420T163000
DTEND;TZID=Europe/Berlin:20260420T180000
UID:261L-S306-20260420T163000@VHSDONAUZUSAM
SUMMARY:Time to Talk: Englisch Mittelstufe (B1) (261L-S306) 
LOCATION:Mittelschule Lauingen, Raum 221 OG, Marienweg 2, 89415 Lauingen
END:VEVENT
BEGIN:VEVENT
DTSTAMP:20260425T054820
DTSTART;TZID=Europe/Berlin:20260427T163000
DTEND;TZID=Europe/Berlin:20260427T180000
UID:261L-S306-20260427T163000@VHSDONAUZUSAM
SUMMARY:Time to Talk: Englisch Mittelstufe (B1) (261L-S306) 
LOCATION:Mittelschule Lauingen, Raum 221 OG, Marienweg 2, 89415 Lauingen
END:VEVENT
BEGIN:VEVENT
DTSTAMP:20260425T054820
DTSTART;TZID=Europe/Berlin:20260511T163000
DTEND;TZID=Europe/Berlin:20260511T180000
UID:261L-S306-20260511T163000@VHSDONAUZUSAM
SUMMARY:Time to Talk: Englisch Mittelstufe (B1) (261L-S306) 
LOCATION:Mittelschule Lauingen, Raum 221 OG, Marienweg 2, 89415 Lauingen
END:VEVENT
BEGIN:VEVENT
DTSTAMP:20260425T054820
DTSTART;TZID=Europe/Berlin:20260518T163000
DTEND;TZID=Europe/Berlin:20260518T180000
UID:261L-S306-20260518T163000@VHSDONAUZUSAM
SUMMARY:Time to Talk: Englisch Mittelstufe (B1) (261L-S306) 
LOCATION:Mittelschule Lauingen, Raum 221 OG, Marienweg 2, 89415 Lauingen
END:VEVENT
BEGIN:VEVENT
DTSTAMP:20260425T054820
DTSTART;TZID=Europe/Berlin:20260608T163000
DTEND;TZID=Europe/Berlin:20260608T180000
UID:261L-S306-20260608T163000@VHSDONAUZUSAM
SUMMARY:Time to Talk: Englisch Mittelstufe (B1) (261L-S306) 
LOCATION:Mittelschule Lauingen, Raum 221 OG, Marienweg 2, 89415 Lauingen
END:VEVENT
BEGIN:VEVENT
DTSTAMP:20260425T054820
DTSTART;TZID=Europe/Berlin:20260615T163000
DTEND;TZID=Europe/Berlin:20260615T180000
UID:261L-S306-20260615T163000@VHSDONAUZUSAM
SUMMARY:Time to Talk: Englisch Mittelstufe (B1) (261L-S306) 
LOCATION:Mittelschule Lauingen, Raum 221 OG, Marienweg 2, 89415 Lauingen
END:VEVENT
BEGIN:VEVENT
DTSTAMP:20260425T054820
DTSTART;TZID=Europe/Berlin:20260622T163000
DTEND;TZID=Europe/Berlin:20260622T180000
UID:261L-S306-20260622T163000@VHSDONAUZUSAM
SUMMARY:Time to Talk: Englisch Mittelstufe (B1) (261L-S306) 
LOCATION:Mittelschule Lauingen, Raum 221 OG, Marienweg 2, 89415 Lauingen
END:VEVENT
BEGIN:VEVENT
DTSTAMP:20260425T054820
DTSTART;TZID=Europe/Berlin:20260629T163000
DTEND;TZID=Europe/Berlin:20260629T180000
UID:261L-S306-20260629T163000@VHSDONAUZUSAM
SUMMARY:Time to Talk: Englisch Mittelstufe (B1) (261L-S306) 
LOCATION:Mittelschule Lauingen, Raum 221 OG, Marienweg 2, 89415 Lauingen
END:VEVENT
END:VCALENDAR