BEGIN:VCALENDAR
VERSION:2.0
PRODID:http://www.kufer.de/kuferweb / DE
METHOD:PUBLISH
CALSCALE:GREGORIAN
X-WR-TIMEZONE:Europe/Berlin
BEGIN:VTIMEZONE
TZID:Europe/Berlin
X-LIC-LOCATION:Europe/Berlin
BEGIN:DAYLIGHT
TZOFFSETFROM:+0100
TZOFFSETTO:+0200
TZNAME:CEST
DTSTART;TZID=Europe/Berlin:19700329T020000
RRULE:FREQ=YEARLY;INTERVAL=1;BYDAY=-1SU;BYMONTH=3
END:DAYLIGHT
BEGIN:STANDARD
TZOFFSETFROM:+0200
TZOFFSETTO:+0100
TZNAME:CET
DTSTART;TZID=Europe/Berlin:19701025T030000
RRULE:FREQ=YEARLY;INTERVAL=1;BYDAY=-1SU;BYMONTH=10
END:STANDARD
END:VTIMEZONE
BEGIN:VEVENT
DTSTAMP:20260425T061232
DTSTART;TZID=Europe/Berlin:20260303T084500
DTEND;TZID=Europe/Berlin:20260303T094500
UID:261L-S303-20260303T084500@VHSDONAUZUSAM
SUMMARY:Englisch für junggebliebene Senioren (B1) (261L-S303) 
LOCATION:Rathaus Lauingen, Besprechungszimmer Nr. 117, Herzog-Georg-Straße 17, 89415 Lauingen (Donau)
END:VEVENT
BEGIN:VEVENT
DTSTAMP:20260425T061232
DTSTART;TZID=Europe/Berlin:20260310T084500
DTEND;TZID=Europe/Berlin:20260310T094500
UID:261L-S303-20260310T084500@VHSDONAUZUSAM
SUMMARY:Englisch für junggebliebene Senioren (B1) (261L-S303) 
LOCATION:Rathaus Lauingen, Besprechungszimmer Nr. 117, Herzog-Georg-Straße 17, 89415 Lauingen (Donau)
END:VEVENT
BEGIN:VEVENT
DTSTAMP:20260425T061232
DTSTART;TZID=Europe/Berlin:20260317T084500
DTEND;TZID=Europe/Berlin:20260317T094500
UID:261L-S303-20260317T084500@VHSDONAUZUSAM
SUMMARY:Englisch für junggebliebene Senioren (B1) (261L-S303) 
LOCATION:Rathaus Lauingen, Besprechungszimmer Nr. 117, Herzog-Georg-Straße 17, 89415 Lauingen (Donau)
END:VEVENT
BEGIN:VEVENT
DTSTAMP:20260425T061232
DTSTART;TZID=Europe/Berlin:20260324T084500
DTEND;TZID=Europe/Berlin:20260324T094500
UID:261L-S303-20260324T084500@VHSDONAUZUSAM
SUMMARY:Englisch für junggebliebene Senioren (B1) (261L-S303) 
LOCATION:Rathaus Lauingen, Besprechungszimmer Nr. 117, Herzog-Georg-Straße 17, 89415 Lauingen (Donau)
END:VEVENT
BEGIN:VEVENT
DTSTAMP:20260425T061232
DTSTART;TZID=Europe/Berlin:20260414T084500
DTEND;TZID=Europe/Berlin:20260414T094500
UID:261L-S303-20260414T084500@VHSDONAUZUSAM
SUMMARY:Englisch für junggebliebene Senioren (B1) (261L-S303) 
LOCATION:Rathaus Lauingen, Besprechungszimmer Nr. 117, Herzog-Georg-Straße 17, 89415 Lauingen (Donau)
END:VEVENT
BEGIN:VEVENT
DTSTAMP:20260425T061232
DTSTART;TZID=Europe/Berlin:20260421T084500
DTEND;TZID=Europe/Berlin:20260421T094500
UID:261L-S303-20260421T084500@VHSDONAUZUSAM
SUMMARY:Englisch für junggebliebene Senioren (B1) (261L-S303) 
LOCATION:Rathaus Lauingen, Besprechungszimmer Nr. 117, Herzog-Georg-Straße 17, 89415 Lauingen (Donau)
END:VEVENT
BEGIN:VEVENT
DTSTAMP:20260425T061232
DTSTART;TZID=Europe/Berlin:20260428T084500
DTEND;TZID=Europe/Berlin:20260428T094500
UID:261L-S303-20260428T084500@VHSDONAUZUSAM
SUMMARY:Englisch für junggebliebene Senioren (B1) (261L-S303) 
LOCATION:Rathaus Lauingen, Besprechungszimmer Nr. 117, Herzog-Georg-Straße 17, 89415 Lauingen (Donau)
END:VEVENT
BEGIN:VEVENT
DTSTAMP:20260425T061232
DTSTART;TZID=Europe/Berlin:20260505T084500
DTEND;TZID=Europe/Berlin:20260505T094500
UID:261L-S303-20260505T084500@VHSDONAUZUSAM
SUMMARY:Englisch für junggebliebene Senioren (B1) (261L-S303) 
LOCATION:Rathaus Lauingen, Besprechungszimmer Nr. 117, Herzog-Georg-Straße 17, 89415 Lauingen (Donau)
END:VEVENT
BEGIN:VEVENT
DTSTAMP:20260425T061232
DTSTART;TZID=Europe/Berlin:20260512T084500
DTEND;TZID=Europe/Berlin:20260512T094500
UID:261L-S303-20260512T084500@VHSDONAUZUSAM
SUMMARY:Englisch für junggebliebene Senioren (B1) (261L-S303) 
LOCATION:Rathaus Lauingen, Besprechungszimmer Nr. 117, Herzog-Georg-Straße 17, 89415 Lauingen (Donau)
END:VEVENT
BEGIN:VEVENT
DTSTAMP:20260425T061232
DTSTART;TZID=Europe/Berlin:20260519T084500
DTEND;TZID=Europe/Berlin:20260519T094500
UID:261L-S303-20260519T084500@VHSDONAUZUSAM
SUMMARY:Englisch für junggebliebene Senioren (B1) (261L-S303) 
LOCATION:Rathaus Lauingen, Besprechungszimmer Nr. 117, Herzog-Georg-Straße 17, 89415 Lauingen (Donau)
END:VEVENT
END:VCALENDAR