BEGIN:VCALENDAR
VERSION:2.0
PRODID:http://www.kufer.de/kuferweb / DE
METHOD:PUBLISH
CALSCALE:GREGORIAN
X-WR-TIMEZONE:Europe/Berlin
BEGIN:VTIMEZONE
TZID:Europe/Berlin
X-LIC-LOCATION:Europe/Berlin
BEGIN:DAYLIGHT
TZOFFSETFROM:+0100
TZOFFSETTO:+0200
TZNAME:CEST
DTSTART;TZID=Europe/Berlin:19700329T020000
RRULE:FREQ=YEARLY;INTERVAL=1;BYDAY=-1SU;BYMONTH=3
END:DAYLIGHT
BEGIN:STANDARD
TZOFFSETFROM:+0200
TZOFFSETTO:+0100
TZNAME:CET
DTSTART;TZID=Europe/Berlin:19701025T030000
RRULE:FREQ=YEARLY;INTERVAL=1;BYDAY=-1SU;BYMONTH=10
END:STANDARD
END:VTIMEZONE
BEGIN:VEVENT
DTSTAMP:20260425T055728
DTSTART;TZID=Europe/Berlin:20260304T180000
DTEND;TZID=Europe/Berlin:20260304T193000
UID:261L-S302-20260304T180000@VHSDONAUZUSAM
SUMMARY:Englisch für Wiedereinsteiger (B1.1) FÜR TEILNEHMER MIT VORKENNTNISSEN (261L-S302) 
LOCATION:Mittelschule Lauingen, Raum 221 OG, Marienweg 2, 89415 Lauingen
END:VEVENT
BEGIN:VEVENT
DTSTAMP:20260425T055728
DTSTART;TZID=Europe/Berlin:20260311T180000
DTEND;TZID=Europe/Berlin:20260311T193000
UID:261L-S302-20260311T180000@VHSDONAUZUSAM
SUMMARY:Englisch für Wiedereinsteiger (B1.1) FÜR TEILNEHMER MIT VORKENNTNISSEN (261L-S302) 
LOCATION:Mittelschule Lauingen, Raum 221 OG, Marienweg 2, 89415 Lauingen
END:VEVENT
BEGIN:VEVENT
DTSTAMP:20260425T055728
DTSTART;TZID=Europe/Berlin:20260318T180000
DTEND;TZID=Europe/Berlin:20260318T193000
UID:261L-S302-20260318T180000@VHSDONAUZUSAM
SUMMARY:Englisch für Wiedereinsteiger (B1.1) FÜR TEILNEHMER MIT VORKENNTNISSEN (261L-S302) 
LOCATION:Mittelschule Lauingen, Raum 221 OG, Marienweg 2, 89415 Lauingen
END:VEVENT
BEGIN:VEVENT
DTSTAMP:20260425T055728
DTSTART;TZID=Europe/Berlin:20260325T180000
DTEND;TZID=Europe/Berlin:20260325T193000
UID:261L-S302-20260325T180000@VHSDONAUZUSAM
SUMMARY:Englisch für Wiedereinsteiger (B1.1) FÜR TEILNEHMER MIT VORKENNTNISSEN (261L-S302) 
LOCATION:Mittelschule Lauingen, Raum 221 OG, Marienweg 2, 89415 Lauingen
END:VEVENT
BEGIN:VEVENT
DTSTAMP:20260425T055728
DTSTART;TZID=Europe/Berlin:20260415T180000
DTEND;TZID=Europe/Berlin:20260415T193000
UID:261L-S302-20260415T180000@VHSDONAUZUSAM
SUMMARY:Englisch für Wiedereinsteiger (B1.1) FÜR TEILNEHMER MIT VORKENNTNISSEN (261L-S302) 
LOCATION:Mittelschule Lauingen, Raum 221 OG, Marienweg 2, 89415 Lauingen
END:VEVENT
BEGIN:VEVENT
DTSTAMP:20260425T055728
DTSTART;TZID=Europe/Berlin:20260422T180000
DTEND;TZID=Europe/Berlin:20260422T193000
UID:261L-S302-20260422T180000@VHSDONAUZUSAM
SUMMARY:Englisch für Wiedereinsteiger (B1.1) FÜR TEILNEHMER MIT VORKENNTNISSEN (261L-S302) 
LOCATION:Mittelschule Lauingen, Raum 221 OG, Marienweg 2, 89415 Lauingen
END:VEVENT
BEGIN:VEVENT
DTSTAMP:20260425T055728
DTSTART;TZID=Europe/Berlin:20260429T180000
DTEND;TZID=Europe/Berlin:20260429T193000
UID:261L-S302-20260429T180000@VHSDONAUZUSAM
SUMMARY:Englisch für Wiedereinsteiger (B1.1) FÜR TEILNEHMER MIT VORKENNTNISSEN (261L-S302) 
LOCATION:Mittelschule Lauingen, Raum 221 OG, Marienweg 2, 89415 Lauingen
END:VEVENT
BEGIN:VEVENT
DTSTAMP:20260425T055728
DTSTART;TZID=Europe/Berlin:20260506T180000
DTEND;TZID=Europe/Berlin:20260506T193000
UID:261L-S302-20260506T180000@VHSDONAUZUSAM
SUMMARY:Englisch für Wiedereinsteiger (B1.1) FÜR TEILNEHMER MIT VORKENNTNISSEN (261L-S302) 
LOCATION:Mittelschule Lauingen, Raum 221 OG, Marienweg 2, 89415 Lauingen
END:VEVENT
BEGIN:VEVENT
DTSTAMP:20260425T055728
DTSTART;TZID=Europe/Berlin:20260513T180000
DTEND;TZID=Europe/Berlin:20260513T193000
UID:261L-S302-20260513T180000@VHSDONAUZUSAM
SUMMARY:Englisch für Wiedereinsteiger (B1.1) FÜR TEILNEHMER MIT VORKENNTNISSEN (261L-S302) 
LOCATION:Mittelschule Lauingen, Raum 221 OG, Marienweg 2, 89415 Lauingen
END:VEVENT
BEGIN:VEVENT
DTSTAMP:20260425T055728
DTSTART;TZID=Europe/Berlin:20260520T180000
DTEND;TZID=Europe/Berlin:20260520T193000
UID:261L-S302-20260520T180000@VHSDONAUZUSAM
SUMMARY:Englisch für Wiedereinsteiger (B1.1) FÜR TEILNEHMER MIT VORKENNTNISSEN (261L-S302) 
LOCATION:Mittelschule Lauingen, Raum 221 OG, Marienweg 2, 89415 Lauingen
END:VEVENT
END:VCALENDAR