BEGIN:VCALENDAR
VERSION:2.0
PRODID:http://www.kufer.de/kuferweb / DE
METHOD:PUBLISH
CALSCALE:GREGORIAN
X-WR-TIMEZONE:Europe/Berlin
BEGIN:VTIMEZONE
TZID:Europe/Berlin
X-LIC-LOCATION:Europe/Berlin
BEGIN:DAYLIGHT
TZOFFSETFROM:+0100
TZOFFSETTO:+0200
TZNAME:CEST
DTSTART;TZID=Europe/Berlin:19700329T020000
RRULE:FREQ=YEARLY;INTERVAL=1;BYDAY=-1SU;BYMONTH=3
END:DAYLIGHT
BEGIN:STANDARD
TZOFFSETFROM:+0200
TZOFFSETTO:+0100
TZNAME:CET
DTSTART;TZID=Europe/Berlin:19701025T030000
RRULE:FREQ=YEARLY;INTERVAL=1;BYDAY=-1SU;BYMONTH=10
END:STANDARD
END:VTIMEZONE
BEGIN:VEVENT
DTSTAMP:20260425T060802
DTSTART;TZID=Europe/Berlin:20260303T094500
DTEND;TZID=Europe/Berlin:20260303T104500
UID:261L-S300-20260303T094500@VHSDONAUZUSAM
SUMMARY:Für Englisch ist es nie zu spät! (A1) ENGLISCH FÜR SENIOREN AM VORMITTAG (261L-S300) 
LOCATION:Rathaus Lauingen, Besprechungszimmer Nr. 117, Herzog-Georg-Straße 17, 89415 Lauingen (Donau)
END:VEVENT
BEGIN:VEVENT
DTSTAMP:20260425T060802
DTSTART;TZID=Europe/Berlin:20260310T094500
DTEND;TZID=Europe/Berlin:20260310T104500
UID:261L-S300-20260310T094500@VHSDONAUZUSAM
SUMMARY:Für Englisch ist es nie zu spät! (A1) ENGLISCH FÜR SENIOREN AM VORMITTAG (261L-S300) 
LOCATION:Rathaus Lauingen, Besprechungszimmer Nr. 117, Herzog-Georg-Straße 17, 89415 Lauingen (Donau)
END:VEVENT
BEGIN:VEVENT
DTSTAMP:20260425T060802
DTSTART;TZID=Europe/Berlin:20260317T094500
DTEND;TZID=Europe/Berlin:20260317T104500
UID:261L-S300-20260317T094500@VHSDONAUZUSAM
SUMMARY:Für Englisch ist es nie zu spät! (A1) ENGLISCH FÜR SENIOREN AM VORMITTAG (261L-S300) 
LOCATION:Rathaus Lauingen, Besprechungszimmer Nr. 117, Herzog-Georg-Straße 17, 89415 Lauingen (Donau)
END:VEVENT
BEGIN:VEVENT
DTSTAMP:20260425T060802
DTSTART;TZID=Europe/Berlin:20260324T094500
DTEND;TZID=Europe/Berlin:20260324T104500
UID:261L-S300-20260324T094500@VHSDONAUZUSAM
SUMMARY:Für Englisch ist es nie zu spät! (A1) ENGLISCH FÜR SENIOREN AM VORMITTAG (261L-S300) 
LOCATION:Rathaus Lauingen, Besprechungszimmer Nr. 117, Herzog-Georg-Straße 17, 89415 Lauingen (Donau)
END:VEVENT
BEGIN:VEVENT
DTSTAMP:20260425T060802
DTSTART;TZID=Europe/Berlin:20260414T094500
DTEND;TZID=Europe/Berlin:20260414T104500
UID:261L-S300-20260414T094500@VHSDONAUZUSAM
SUMMARY:Für Englisch ist es nie zu spät! (A1) ENGLISCH FÜR SENIOREN AM VORMITTAG (261L-S300) 
LOCATION:Rathaus Lauingen, Besprechungszimmer Nr. 117, Herzog-Georg-Straße 17, 89415 Lauingen (Donau)
END:VEVENT
BEGIN:VEVENT
DTSTAMP:20260425T060802
DTSTART;TZID=Europe/Berlin:20260421T094500
DTEND;TZID=Europe/Berlin:20260421T104500
UID:261L-S300-20260421T094500@VHSDONAUZUSAM
SUMMARY:Für Englisch ist es nie zu spät! (A1) ENGLISCH FÜR SENIOREN AM VORMITTAG (261L-S300) 
LOCATION:Rathaus Lauingen, Besprechungszimmer Nr. 117, Herzog-Georg-Straße 17, 89415 Lauingen (Donau)
END:VEVENT
BEGIN:VEVENT
DTSTAMP:20260425T060802
DTSTART;TZID=Europe/Berlin:20260428T094500
DTEND;TZID=Europe/Berlin:20260428T104500
UID:261L-S300-20260428T094500@VHSDONAUZUSAM
SUMMARY:Für Englisch ist es nie zu spät! (A1) ENGLISCH FÜR SENIOREN AM VORMITTAG (261L-S300) 
LOCATION:Rathaus Lauingen, Besprechungszimmer Nr. 117, Herzog-Georg-Straße 17, 89415 Lauingen (Donau)
END:VEVENT
BEGIN:VEVENT
DTSTAMP:20260425T060802
DTSTART;TZID=Europe/Berlin:20260505T094500
DTEND;TZID=Europe/Berlin:20260505T104500
UID:261L-S300-20260505T094500@VHSDONAUZUSAM
SUMMARY:Für Englisch ist es nie zu spät! (A1) ENGLISCH FÜR SENIOREN AM VORMITTAG (261L-S300) 
LOCATION:Rathaus Lauingen, Besprechungszimmer Nr. 117, Herzog-Georg-Straße 17, 89415 Lauingen (Donau)
END:VEVENT
BEGIN:VEVENT
DTSTAMP:20260425T060802
DTSTART;TZID=Europe/Berlin:20260512T094500
DTEND;TZID=Europe/Berlin:20260512T104500
UID:261L-S300-20260512T094500@VHSDONAUZUSAM
SUMMARY:Für Englisch ist es nie zu spät! (A1) ENGLISCH FÜR SENIOREN AM VORMITTAG (261L-S300) 
LOCATION:Rathaus Lauingen, Besprechungszimmer Nr. 117, Herzog-Georg-Straße 17, 89415 Lauingen (Donau)
END:VEVENT
BEGIN:VEVENT
DTSTAMP:20260425T060802
DTSTART;TZID=Europe/Berlin:20260519T094500
DTEND;TZID=Europe/Berlin:20260519T104500
UID:261L-S300-20260519T094500@VHSDONAUZUSAM
SUMMARY:Für Englisch ist es nie zu spät! (A1) ENGLISCH FÜR SENIOREN AM VORMITTAG (261L-S300) 
LOCATION:Rathaus Lauingen, Besprechungszimmer Nr. 117, Herzog-Georg-Straße 17, 89415 Lauingen (Donau)
END:VEVENT
END:VCALENDAR