BEGIN:VCALENDAR
VERSION:2.0
PRODID:http://www.kufer.de/kuferweb / DE
METHOD:PUBLISH
CALSCALE:GREGORIAN
X-WR-TIMEZONE:Europe/Berlin
BEGIN:VTIMEZONE
TZID:Europe/Berlin
X-LIC-LOCATION:Europe/Berlin
BEGIN:DAYLIGHT
TZOFFSETFROM:+0100
TZOFFSETTO:+0200
TZNAME:CEST
DTSTART;TZID=Europe/Berlin:19700329T020000
RRULE:FREQ=YEARLY;INTERVAL=1;BYDAY=-1SU;BYMONTH=3
END:DAYLIGHT
BEGIN:STANDARD
TZOFFSETFROM:+0200
TZOFFSETTO:+0100
TZNAME:CET
DTSTART;TZID=Europe/Berlin:19701025T030000
RRULE:FREQ=YEARLY;INTERVAL=1;BYDAY=-1SU;BYMONTH=10
END:STANDARD
END:VTIMEZONE
BEGIN:VEVENT
DTSTAMP:20260426T003439
DTSTART;TZID=Europe/Berlin:20260305T153000
DTEND;TZID=Europe/Berlin:20260305T163000
UID:261L-J337-20260305T153000@VHSDONAUZUSAM
SUMMARY:Kindertanzen  FÜR KINDER IM ALTER VON 5-7 JAHREN (261L-J337) 
LOCATION:Kinderhaus Lauingen Bahnhofstr./Mehrzweckraum, Bahnhofstraße 8, 89415 Lauingen
END:VEVENT
BEGIN:VEVENT
DTSTAMP:20260426T003439
DTSTART;TZID=Europe/Berlin:20260312T153000
DTEND;TZID=Europe/Berlin:20260312T163000
UID:261L-J337-20260312T153000@VHSDONAUZUSAM
SUMMARY:Kindertanzen  FÜR KINDER IM ALTER VON 5-7 JAHREN (261L-J337) 
LOCATION:Kinderhaus Lauingen Bahnhofstr./Mehrzweckraum, Bahnhofstraße 8, 89415 Lauingen
END:VEVENT
BEGIN:VEVENT
DTSTAMP:20260426T003439
DTSTART;TZID=Europe/Berlin:20260317T153000
DTEND;TZID=Europe/Berlin:20260317T163000
UID:261L-J337-20260317T153000@VHSDONAUZUSAM
DESCRIPTION:04.03.26 (*CR): Ersatztermin für 19.3.26
SUMMARY:Kindertanzen  FÜR KINDER IM ALTER VON 5-7 JAHREN (261L-J337) 
LOCATION:Kinderhaus Lauingen Bahnhofstr./Mehrzweckraum, Bahnhofstraße 8, 89415 Lauingen
END:VEVENT
BEGIN:VEVENT
DTSTAMP:20260426T003439
DTSTART;TZID=Europe/Berlin:20260326T153000
DTEND;TZID=Europe/Berlin:20260326T163000
UID:261L-J337-20260326T153000@VHSDONAUZUSAM
SUMMARY:Kindertanzen  FÜR KINDER IM ALTER VON 5-7 JAHREN (261L-J337) 
LOCATION:Kinderhaus Lauingen Bahnhofstr./Mehrzweckraum, Bahnhofstraße 8, 89415 Lauingen
END:VEVENT
BEGIN:VEVENT
DTSTAMP:20260426T003439
DTSTART;TZID=Europe/Berlin:20260331T153000
DTEND;TZID=Europe/Berlin:20260331T163000
UID:261L-J337-20260331T153000@VHSDONAUZUSAM
DESCRIPTION:04.03.26 (*CR): Ersatztermin für 2.4.26
SUMMARY:Kindertanzen  FÜR KINDER IM ALTER VON 5-7 JAHREN (261L-J337) 
LOCATION:Kinderhaus Lauingen Bahnhofstr./Mehrzweckraum, Bahnhofstraße 8, 89415 Lauingen
END:VEVENT
END:VCALENDAR