BEGIN:VCALENDAR
VERSION:2.0
PRODID:http://www.kufer.de/kuferweb / DE
METHOD:PUBLISH
CALSCALE:GREGORIAN
X-WR-TIMEZONE:Europe/Berlin
BEGIN:VTIMEZONE
TZID:Europe/Berlin
X-LIC-LOCATION:Europe/Berlin
BEGIN:DAYLIGHT
TZOFFSETFROM:+0100
TZOFFSETTO:+0200
TZNAME:CEST
DTSTART;TZID=Europe/Berlin:19700329T020000
RRULE:FREQ=YEARLY;INTERVAL=1;BYDAY=-1SU;BYMONTH=3
END:DAYLIGHT
BEGIN:STANDARD
TZOFFSETFROM:+0200
TZOFFSETTO:+0100
TZNAME:CET
DTSTART;TZID=Europe/Berlin:19701025T030000
RRULE:FREQ=YEARLY;INTERVAL=1;BYDAY=-1SU;BYMONTH=10
END:STANDARD
END:VTIMEZONE
BEGIN:VEVENT
DTSTAMP:20260426T055710
DTSTART;TZID=Europe/Berlin:20260421T163000
DTEND;TZID=Europe/Berlin:20260421T173000
UID:261L-J331-20260421T163000@VHSDONAUZUSAM
SUMMARY:Kinder-Yoga  Für Kinder von 6 - 8 Jahren (261L-J331) 
LOCATION:Kinderhaus Lauingen St. Martin, Gymnastikraum UG, St. Martin-Str. 1, 89415 Lauingen (Donau)
END:VEVENT
BEGIN:VEVENT
DTSTAMP:20260426T055710
DTSTART;TZID=Europe/Berlin:20260428T163000
DTEND;TZID=Europe/Berlin:20260428T173000
UID:261L-J331-20260428T163000@VHSDONAUZUSAM
SUMMARY:Kinder-Yoga  Für Kinder von 6 - 8 Jahren (261L-J331) 
LOCATION:Kinderhaus Lauingen St. Martin, Gymnastikraum UG, St. Martin-Str. 1, 89415 Lauingen (Donau)
END:VEVENT
BEGIN:VEVENT
DTSTAMP:20260426T055710
DTSTART;TZID=Europe/Berlin:20260505T163000
DTEND;TZID=Europe/Berlin:20260505T173000
UID:261L-J331-20260505T163000@VHSDONAUZUSAM
SUMMARY:Kinder-Yoga  Für Kinder von 6 - 8 Jahren (261L-J331) 
LOCATION:Kinderhaus Lauingen St. Martin, Gymnastikraum UG, St. Martin-Str. 1, 89415 Lauingen (Donau)
END:VEVENT
BEGIN:VEVENT
DTSTAMP:20260426T055710
DTSTART;TZID=Europe/Berlin:20260512T163000
DTEND;TZID=Europe/Berlin:20260512T173000
UID:261L-J331-20260512T163000@VHSDONAUZUSAM
SUMMARY:Kinder-Yoga  Für Kinder von 6 - 8 Jahren (261L-J331) 
LOCATION:Kinderhaus Lauingen St. Martin, Gymnastikraum UG, St. Martin-Str. 1, 89415 Lauingen (Donau)
END:VEVENT
BEGIN:VEVENT
DTSTAMP:20260426T055710
DTSTART;TZID=Europe/Berlin:20260519T163000
DTEND;TZID=Europe/Berlin:20260519T173000
UID:261L-J331-20260519T163000@VHSDONAUZUSAM
SUMMARY:Kinder-Yoga  Für Kinder von 6 - 8 Jahren (261L-J331) 
LOCATION:Kinderhaus Lauingen St. Martin, Gymnastikraum UG, St. Martin-Str. 1, 89415 Lauingen (Donau)
END:VEVENT
END:VCALENDAR