BEGIN:VCALENDAR
VERSION:2.0
PRODID:http://www.kufer.de/kuferweb / DE
METHOD:PUBLISH
CALSCALE:GREGORIAN
X-WR-TIMEZONE:Europe/Berlin
BEGIN:VTIMEZONE
TZID:Europe/Berlin
X-LIC-LOCATION:Europe/Berlin
BEGIN:DAYLIGHT
TZOFFSETFROM:+0100
TZOFFSETTO:+0200
TZNAME:CEST
DTSTART;TZID=Europe/Berlin:19700329T020000
RRULE:FREQ=YEARLY;INTERVAL=1;BYDAY=-1SU;BYMONTH=3
END:DAYLIGHT
BEGIN:STANDARD
TZOFFSETFROM:+0200
TZOFFSETTO:+0100
TZNAME:CET
DTSTART;TZID=Europe/Berlin:19701025T030000
RRULE:FREQ=YEARLY;INTERVAL=1;BYDAY=-1SU;BYMONTH=10
END:STANDARD
END:VTIMEZONE
BEGIN:VEVENT
DTSTAMP:20260426T055705
DTSTART;TZID=Europe/Berlin:20260616T163000
DTEND;TZID=Europe/Berlin:20260616T173000
UID:261L-J330-20260616T163000@VHSDONAUZUSAM
SUMMARY:Kinder-Yoga  Für Kinder von 4 - 6 Jahren (261L-J330) 
LOCATION:Kinderhaus Lauingen St. Martin, Gymnastikraum UG, St. Martin-Str. 1, 89415 Lauingen (Donau)
END:VEVENT
BEGIN:VEVENT
DTSTAMP:20260426T055705
DTSTART;TZID=Europe/Berlin:20260623T163000
DTEND;TZID=Europe/Berlin:20260623T173000
UID:261L-J330-20260623T163000@VHSDONAUZUSAM
SUMMARY:Kinder-Yoga  Für Kinder von 4 - 6 Jahren (261L-J330) 
LOCATION:Kinderhaus Lauingen St. Martin, Gymnastikraum UG, St. Martin-Str. 1, 89415 Lauingen (Donau)
END:VEVENT
BEGIN:VEVENT
DTSTAMP:20260426T055705
DTSTART;TZID=Europe/Berlin:20260630T163000
DTEND;TZID=Europe/Berlin:20260630T173000
UID:261L-J330-20260630T163000@VHSDONAUZUSAM
SUMMARY:Kinder-Yoga  Für Kinder von 4 - 6 Jahren (261L-J330) 
LOCATION:Kinderhaus Lauingen St. Martin, Gymnastikraum UG, St. Martin-Str. 1, 89415 Lauingen (Donau)
END:VEVENT
BEGIN:VEVENT
DTSTAMP:20260426T055705
DTSTART;TZID=Europe/Berlin:20260707T163000
DTEND;TZID=Europe/Berlin:20260707T173000
UID:261L-J330-20260707T163000@VHSDONAUZUSAM
SUMMARY:Kinder-Yoga  Für Kinder von 4 - 6 Jahren (261L-J330) 
LOCATION:Kinderhaus Lauingen St. Martin, Gymnastikraum UG, St. Martin-Str. 1, 89415 Lauingen (Donau)
END:VEVENT
BEGIN:VEVENT
DTSTAMP:20260426T055705
DTSTART;TZID=Europe/Berlin:20260714T163000
DTEND;TZID=Europe/Berlin:20260714T173000
UID:261L-J330-20260714T163000@VHSDONAUZUSAM
SUMMARY:Kinder-Yoga  Für Kinder von 4 - 6 Jahren (261L-J330) 
LOCATION:Kinderhaus Lauingen St. Martin, Gymnastikraum UG, St. Martin-Str. 1, 89415 Lauingen (Donau)
END:VEVENT
BEGIN:VEVENT
DTSTAMP:20260426T055705
DTSTART;TZID=Europe/Berlin:20260721T163000
DTEND;TZID=Europe/Berlin:20260721T173000
UID:261L-J330-20260721T163000@VHSDONAUZUSAM
SUMMARY:Kinder-Yoga  Für Kinder von 4 - 6 Jahren (261L-J330) 
LOCATION:Kinderhaus Lauingen St. Martin, Gymnastikraum UG, St. Martin-Str. 1, 89415 Lauingen (Donau)
END:VEVENT
END:VCALENDAR