BEGIN:VCALENDAR
VERSION:2.0
PRODID:http://www.kufer.de/kuferweb / DE
METHOD:PUBLISH
CALSCALE:GREGORIAN
X-WR-TIMEZONE:Europe/Berlin
BEGIN:VTIMEZONE
TZID:Europe/Berlin
X-LIC-LOCATION:Europe/Berlin
BEGIN:DAYLIGHT
TZOFFSETFROM:+0100
TZOFFSETTO:+0200
TZNAME:CEST
DTSTART;TZID=Europe/Berlin:19700329T020000
RRULE:FREQ=YEARLY;INTERVAL=1;BYDAY=-1SU;BYMONTH=3
END:DAYLIGHT
BEGIN:STANDARD
TZOFFSETFROM:+0200
TZOFFSETTO:+0100
TZNAME:CET
DTSTART;TZID=Europe/Berlin:19701025T030000
RRULE:FREQ=YEARLY;INTERVAL=1;BYDAY=-1SU;BYMONTH=10
END:STANDARD
END:VTIMEZONE
BEGIN:VEVENT
DTSTAMP:20260425T225414
DTSTART;TZID=Europe/Berlin:20260312T183000
DTEND;TZID=Europe/Berlin:20260312T193000
UID:261L-G390-20260312T183000@VHSDONAUZUSAM
SUMMARY:Aqua Fit (261L-G390) 
LOCATION:Schwimmbad Lebenshilfe Hausen, Untere Hauptstraße 34, 89407 Dillingen/Hausen
END:VEVENT
BEGIN:VEVENT
DTSTAMP:20260425T225414
DTSTART;TZID=Europe/Berlin:20260319T183000
DTEND;TZID=Europe/Berlin:20260319T193000
UID:261L-G390-20260319T183000@VHSDONAUZUSAM
SUMMARY:Aqua Fit (261L-G390) 
LOCATION:Schwimmbad Lebenshilfe Hausen, Untere Hauptstraße 34, 89407 Dillingen/Hausen
END:VEVENT
BEGIN:VEVENT
DTSTAMP:20260425T225414
DTSTART;TZID=Europe/Berlin:20260326T183000
DTEND;TZID=Europe/Berlin:20260326T193000
UID:261L-G390-20260326T183000@VHSDONAUZUSAM
SUMMARY:Aqua Fit (261L-G390) 
LOCATION:Schwimmbad Lebenshilfe Hausen, Untere Hauptstraße 34, 89407 Dillingen/Hausen
END:VEVENT
BEGIN:VEVENT
DTSTAMP:20260425T225414
DTSTART;TZID=Europe/Berlin:20260416T174500
DTEND;TZID=Europe/Berlin:20260416T184500
UID:261L-G390-20260416T174500@VHSDONAUZUSAM
DESCRIPTION:15.04.26 (*CR): Beginn muss auf 17.45 Uhr (Treffpunkt auf 17.30) lt. Cello, aufgrund von nachfolgenden Reinigungsarbeiten, vorverlegt werden. Für alle Termine ab 16.4.26
SUMMARY:Aqua Fit (261L-G390) 
LOCATION:Schwimmbad Lebenshilfe Hausen, Untere Hauptstraße 34, 89407 Dillingen/Hausen
END:VEVENT
BEGIN:VEVENT
DTSTAMP:20260425T225414
DTSTART;TZID=Europe/Berlin:20260423T174500
DTEND;TZID=Europe/Berlin:20260423T184500
UID:261L-G390-20260423T174500@VHSDONAUZUSAM
SUMMARY:Aqua Fit (261L-G390) 
LOCATION:Schwimmbad Lebenshilfe Hausen, Untere Hauptstraße 34, 89407 Dillingen/Hausen
END:VEVENT
BEGIN:VEVENT
DTSTAMP:20260425T225414
DTSTART;TZID=Europe/Berlin:20260430T174500
DTEND;TZID=Europe/Berlin:20260430T184500
UID:261L-G390-20260430T174500@VHSDONAUZUSAM
SUMMARY:Aqua Fit (261L-G390) 
LOCATION:Schwimmbad Lebenshilfe Hausen, Untere Hauptstraße 34, 89407 Dillingen/Hausen
END:VEVENT
BEGIN:VEVENT
DTSTAMP:20260425T225414
DTSTART;TZID=Europe/Berlin:20260507T174500
DTEND;TZID=Europe/Berlin:20260507T184500
UID:261L-G390-20260507T174500@VHSDONAUZUSAM
SUMMARY:Aqua Fit (261L-G390) 
LOCATION:Schwimmbad Lebenshilfe Hausen, Untere Hauptstraße 34, 89407 Dillingen/Hausen
END:VEVENT
BEGIN:VEVENT
DTSTAMP:20260425T225414
DTSTART;TZID=Europe/Berlin:20260521T174500
DTEND;TZID=Europe/Berlin:20260521T184500
UID:261L-G390-20260521T174500@VHSDONAUZUSAM
SUMMARY:Aqua Fit (261L-G390) 
LOCATION:Schwimmbad Lebenshilfe Hausen, Untere Hauptstraße 34, 89407 Dillingen/Hausen
END:VEVENT
END:VCALENDAR