BEGIN:VCALENDAR
VERSION:2.0
PRODID:http://www.kufer.de/kuferweb / DE
METHOD:PUBLISH
CALSCALE:GREGORIAN
X-WR-TIMEZONE:Europe/Berlin
BEGIN:VTIMEZONE
TZID:Europe/Berlin
X-LIC-LOCATION:Europe/Berlin
BEGIN:DAYLIGHT
TZOFFSETFROM:+0100
TZOFFSETTO:+0200
TZNAME:CEST
DTSTART;TZID=Europe/Berlin:19700329T020000
RRULE:FREQ=YEARLY;INTERVAL=1;BYDAY=-1SU;BYMONTH=3
END:DAYLIGHT
BEGIN:STANDARD
TZOFFSETFROM:+0200
TZOFFSETTO:+0100
TZNAME:CET
DTSTART;TZID=Europe/Berlin:19701025T030000
RRULE:FREQ=YEARLY;INTERVAL=1;BYDAY=-1SU;BYMONTH=10
END:STANDARD
END:VTIMEZONE
BEGIN:VEVENT
DTSTAMP:20260426T001848
DTSTART;TZID=Europe/Berlin:20260315T181500
DTEND;TZID=Europe/Berlin:20260315T191500
UID:261L-G388-20260315T181500@VHSDONAUZUSAM
SUMMARY:Indoor Cycling am Sonntag (261L-G388) 
LOCATION:Cello’s Sports Area, Riedhauser Straße 3, 89415 Lauingen (Donau)
END:VEVENT
BEGIN:VEVENT
DTSTAMP:20260426T001848
DTSTART;TZID=Europe/Berlin:20260322T181500
DTEND;TZID=Europe/Berlin:20260322T191500
UID:261L-G388-20260322T181500@VHSDONAUZUSAM
SUMMARY:Indoor Cycling am Sonntag (261L-G388) 
LOCATION:Cello’s Sports Area, Riedhauser Straße 3, 89415 Lauingen (Donau)
END:VEVENT
BEGIN:VEVENT
DTSTAMP:20260426T001848
DTSTART;TZID=Europe/Berlin:20260329T181500
DTEND;TZID=Europe/Berlin:20260329T191500
UID:261L-G388-20260329T181500@VHSDONAUZUSAM
SUMMARY:Indoor Cycling am Sonntag (261L-G388) 
LOCATION:Cello’s Sports Area, Riedhauser Straße 3, 89415 Lauingen (Donau)
END:VEVENT
BEGIN:VEVENT
DTSTAMP:20260426T001848
DTSTART;TZID=Europe/Berlin:20260405T181500
DTEND;TZID=Europe/Berlin:20260405T191500
UID:261L-G388-20260405T181500@VHSDONAUZUSAM
SUMMARY:Indoor Cycling am Sonntag (261L-G388) 
LOCATION:Cello’s Sports Area, Riedhauser Straße 3, 89415 Lauingen (Donau)
END:VEVENT
BEGIN:VEVENT
DTSTAMP:20260426T001848
DTSTART;TZID=Europe/Berlin:20260412T181500
DTEND;TZID=Europe/Berlin:20260412T191500
UID:261L-G388-20260412T181500@VHSDONAUZUSAM
SUMMARY:Indoor Cycling am Sonntag (261L-G388) 
LOCATION:Cello’s Sports Area, Riedhauser Straße 3, 89415 Lauingen (Donau)
END:VEVENT
BEGIN:VEVENT
DTSTAMP:20260426T001848
DTSTART;TZID=Europe/Berlin:20260419T181500
DTEND;TZID=Europe/Berlin:20260419T191500
UID:261L-G388-20260419T181500@VHSDONAUZUSAM
SUMMARY:Indoor Cycling am Sonntag (261L-G388) 
LOCATION:Cello’s Sports Area, Riedhauser Straße 3, 89415 Lauingen (Donau)
END:VEVENT
BEGIN:VEVENT
DTSTAMP:20260426T001848
DTSTART;TZID=Europe/Berlin:20260426T181500
DTEND;TZID=Europe/Berlin:20260426T191500
UID:261L-G388-20260426T181500@VHSDONAUZUSAM
SUMMARY:Indoor Cycling am Sonntag (261L-G388) 
LOCATION:Cello’s Sports Area, Riedhauser Straße 3, 89415 Lauingen (Donau)
END:VEVENT
BEGIN:VEVENT
DTSTAMP:20260426T001848
DTSTART;TZID=Europe/Berlin:20260503T181500
DTEND;TZID=Europe/Berlin:20260503T191500
UID:261L-G388-20260503T181500@VHSDONAUZUSAM
SUMMARY:Indoor Cycling am Sonntag (261L-G388) 
LOCATION:Cello’s Sports Area, Riedhauser Straße 3, 89415 Lauingen (Donau)
END:VEVENT
END:VCALENDAR