BEGIN:VCALENDAR
VERSION:2.0
PRODID:http://www.kufer.de/kuferweb / DE
METHOD:PUBLISH
CALSCALE:GREGORIAN
X-WR-TIMEZONE:Europe/Berlin
BEGIN:VTIMEZONE
TZID:Europe/Berlin
X-LIC-LOCATION:Europe/Berlin
BEGIN:DAYLIGHT
TZOFFSETFROM:+0100
TZOFFSETTO:+0200
TZNAME:CEST
DTSTART;TZID=Europe/Berlin:19700329T020000
RRULE:FREQ=YEARLY;INTERVAL=1;BYDAY=-1SU;BYMONTH=3
END:DAYLIGHT
BEGIN:STANDARD
TZOFFSETFROM:+0200
TZOFFSETTO:+0100
TZNAME:CET
DTSTART;TZID=Europe/Berlin:19701025T030000
RRULE:FREQ=YEARLY;INTERVAL=1;BYDAY=-1SU;BYMONTH=10
END:STANDARD
END:VTIMEZONE
BEGIN:VEVENT
DTSTAMP:20260425T225404
DTSTART;TZID=Europe/Berlin:20260311T182000
DTEND;TZID=Europe/Berlin:20260311T192000
UID:261L-G386-20260311T182000@VHSDONAUZUSAM
SUMMARY:Indoor Cycling am Mittwoch (261L-G386) 
LOCATION:Cello’s Sports Area, Riedhauser Straße 3, 89415 Lauingen (Donau)
END:VEVENT
BEGIN:VEVENT
DTSTAMP:20260425T225404
DTSTART;TZID=Europe/Berlin:20260318T182000
DTEND;TZID=Europe/Berlin:20260318T192000
UID:261L-G386-20260318T182000@VHSDONAUZUSAM
SUMMARY:Indoor Cycling am Mittwoch (261L-G386) 
LOCATION:Cello’s Sports Area, Riedhauser Straße 3, 89415 Lauingen (Donau)
END:VEVENT
BEGIN:VEVENT
DTSTAMP:20260425T225404
DTSTART;TZID=Europe/Berlin:20260325T182000
DTEND;TZID=Europe/Berlin:20260325T192000
UID:261L-G386-20260325T182000@VHSDONAUZUSAM
SUMMARY:Indoor Cycling am Mittwoch (261L-G386) 
LOCATION:Cello’s Sports Area, Riedhauser Straße 3, 89415 Lauingen (Donau)
END:VEVENT
BEGIN:VEVENT
DTSTAMP:20260425T225404
DTSTART;TZID=Europe/Berlin:20260401T182000
DTEND;TZID=Europe/Berlin:20260401T192000
UID:261L-G386-20260401T182000@VHSDONAUZUSAM
SUMMARY:Indoor Cycling am Mittwoch (261L-G386) 
LOCATION:Cello’s Sports Area, Riedhauser Straße 3, 89415 Lauingen (Donau)
END:VEVENT
BEGIN:VEVENT
DTSTAMP:20260425T225404
DTSTART;TZID=Europe/Berlin:20260408T182000
DTEND;TZID=Europe/Berlin:20260408T192000
UID:261L-G386-20260408T182000@VHSDONAUZUSAM
SUMMARY:Indoor Cycling am Mittwoch (261L-G386) 
LOCATION:Cello’s Sports Area, Riedhauser Straße 3, 89415 Lauingen (Donau)
END:VEVENT
BEGIN:VEVENT
DTSTAMP:20260425T225404
DTSTART;TZID=Europe/Berlin:20260415T182000
DTEND;TZID=Europe/Berlin:20260415T192000
UID:261L-G386-20260415T182000@VHSDONAUZUSAM
SUMMARY:Indoor Cycling am Mittwoch (261L-G386) 
LOCATION:Cello’s Sports Area, Riedhauser Straße 3, 89415 Lauingen (Donau)
END:VEVENT
BEGIN:VEVENT
DTSTAMP:20260425T225404
DTSTART;TZID=Europe/Berlin:20260422T182000
DTEND;TZID=Europe/Berlin:20260422T192000
UID:261L-G386-20260422T182000@VHSDONAUZUSAM
SUMMARY:Indoor Cycling am Mittwoch (261L-G386) 
LOCATION:Cello’s Sports Area, Riedhauser Straße 3, 89415 Lauingen (Donau)
END:VEVENT
BEGIN:VEVENT
DTSTAMP:20260425T225404
DTSTART;TZID=Europe/Berlin:20260429T182000
DTEND;TZID=Europe/Berlin:20260429T192000
UID:261L-G386-20260429T182000@VHSDONAUZUSAM
SUMMARY:Indoor Cycling am Mittwoch (261L-G386) 
LOCATION:Cello’s Sports Area, Riedhauser Straße 3, 89415 Lauingen (Donau)
END:VEVENT
END:VCALENDAR