BEGIN:VCALENDAR
VERSION:2.0
PRODID:http://www.kufer.de/kuferweb / DE
METHOD:PUBLISH
CALSCALE:GREGORIAN
X-WR-TIMEZONE:Europe/Berlin
BEGIN:VTIMEZONE
TZID:Europe/Berlin
X-LIC-LOCATION:Europe/Berlin
BEGIN:DAYLIGHT
TZOFFSETFROM:+0100
TZOFFSETTO:+0200
TZNAME:CEST
DTSTART;TZID=Europe/Berlin:19700329T020000
RRULE:FREQ=YEARLY;INTERVAL=1;BYDAY=-1SU;BYMONTH=3
END:DAYLIGHT
BEGIN:STANDARD
TZOFFSETFROM:+0200
TZOFFSETTO:+0100
TZNAME:CET
DTSTART;TZID=Europe/Berlin:19701025T030000
RRULE:FREQ=YEARLY;INTERVAL=1;BYDAY=-1SU;BYMONTH=10
END:STANDARD
END:VTIMEZONE
BEGIN:VEVENT
DTSTAMP:20260425T205628
DTSTART;TZID=Europe/Berlin:20260315T094500
DTEND;TZID=Europe/Berlin:20260315T104500
UID:261L-G382-20260315T094500@VHSDONAUZUSAM
SUMMARY:Life Fitness Kraftzirkel  (auch für Anfänger) (261L-G382) 
LOCATION:Cello’s Sports Area, Riedhauser Straße 3, 89415 Lauingen (Donau)
END:VEVENT
BEGIN:VEVENT
DTSTAMP:20260425T205628
DTSTART;TZID=Europe/Berlin:20260322T094500
DTEND;TZID=Europe/Berlin:20260322T104500
UID:261L-G382-20260322T094500@VHSDONAUZUSAM
SUMMARY:Life Fitness Kraftzirkel  (auch für Anfänger) (261L-G382) 
LOCATION:Cello’s Sports Area, Riedhauser Straße 3, 89415 Lauingen (Donau)
END:VEVENT
BEGIN:VEVENT
DTSTAMP:20260425T205628
DTSTART;TZID=Europe/Berlin:20260329T094500
DTEND;TZID=Europe/Berlin:20260329T104500
UID:261L-G382-20260329T094500@VHSDONAUZUSAM
SUMMARY:Life Fitness Kraftzirkel  (auch für Anfänger) (261L-G382) 
LOCATION:Cello’s Sports Area, Riedhauser Straße 3, 89415 Lauingen (Donau)
END:VEVENT
BEGIN:VEVENT
DTSTAMP:20260425T205628
DTSTART;TZID=Europe/Berlin:20260405T094500
DTEND;TZID=Europe/Berlin:20260405T104500
UID:261L-G382-20260405T094500@VHSDONAUZUSAM
SUMMARY:Life Fitness Kraftzirkel  (auch für Anfänger) (261L-G382) 
LOCATION:Cello’s Sports Area, Riedhauser Straße 3, 89415 Lauingen (Donau)
END:VEVENT
BEGIN:VEVENT
DTSTAMP:20260425T205628
DTSTART;TZID=Europe/Berlin:20260412T094500
DTEND;TZID=Europe/Berlin:20260412T104500
UID:261L-G382-20260412T094500@VHSDONAUZUSAM
SUMMARY:Life Fitness Kraftzirkel  (auch für Anfänger) (261L-G382) 
LOCATION:Cello’s Sports Area, Riedhauser Straße 3, 89415 Lauingen (Donau)
END:VEVENT
BEGIN:VEVENT
DTSTAMP:20260425T205628
DTSTART;TZID=Europe/Berlin:20260419T094500
DTEND;TZID=Europe/Berlin:20260419T104500
UID:261L-G382-20260419T094500@VHSDONAUZUSAM
SUMMARY:Life Fitness Kraftzirkel  (auch für Anfänger) (261L-G382) 
LOCATION:Cello’s Sports Area, Riedhauser Straße 3, 89415 Lauingen (Donau)
END:VEVENT
BEGIN:VEVENT
DTSTAMP:20260425T205628
DTSTART;TZID=Europe/Berlin:20260426T094500
DTEND;TZID=Europe/Berlin:20260426T104500
UID:261L-G382-20260426T094500@VHSDONAUZUSAM
SUMMARY:Life Fitness Kraftzirkel  (auch für Anfänger) (261L-G382) 
LOCATION:Cello’s Sports Area, Riedhauser Straße 3, 89415 Lauingen (Donau)
END:VEVENT
BEGIN:VEVENT
DTSTAMP:20260425T205628
DTSTART;TZID=Europe/Berlin:20260503T094500
DTEND;TZID=Europe/Berlin:20260503T104500
UID:261L-G382-20260503T094500@VHSDONAUZUSAM
SUMMARY:Life Fitness Kraftzirkel  (auch für Anfänger) (261L-G382) 
LOCATION:Cello’s Sports Area, Riedhauser Straße 3, 89415 Lauingen (Donau)
END:VEVENT
END:VCALENDAR