BEGIN:VCALENDAR
VERSION:2.0
PRODID:http://www.kufer.de/kuferweb / DE
METHOD:PUBLISH
CALSCALE:GREGORIAN
X-WR-TIMEZONE:Europe/Berlin
BEGIN:VTIMEZONE
TZID:Europe/Berlin
X-LIC-LOCATION:Europe/Berlin
BEGIN:DAYLIGHT
TZOFFSETFROM:+0100
TZOFFSETTO:+0200
TZNAME:CEST
DTSTART;TZID=Europe/Berlin:19700329T020000
RRULE:FREQ=YEARLY;INTERVAL=1;BYDAY=-1SU;BYMONTH=3
END:DAYLIGHT
BEGIN:STANDARD
TZOFFSETFROM:+0200
TZOFFSETTO:+0100
TZNAME:CET
DTSTART;TZID=Europe/Berlin:19701025T030000
RRULE:FREQ=YEARLY;INTERVAL=1;BYDAY=-1SU;BYMONTH=10
END:STANDARD
END:VTIMEZONE
BEGIN:VEVENT
DTSTAMP:20260425T205526
DTSTART;TZID=Europe/Berlin:20260314T091500
DTEND;TZID=Europe/Berlin:20260314T101500
UID:261L-G381-20260314T091500@VHSDONAUZUSAM
SUMMARY:Tabata Kraftraining (261L-G381) 
LOCATION:Cello’s Sports Area, Riedhauser Straße 3, 89415 Lauingen (Donau)
END:VEVENT
BEGIN:VEVENT
DTSTAMP:20260425T205526
DTSTART;TZID=Europe/Berlin:20260321T091500
DTEND;TZID=Europe/Berlin:20260321T101500
UID:261L-G381-20260321T091500@VHSDONAUZUSAM
SUMMARY:Tabata Kraftraining (261L-G381) 
LOCATION:Cello’s Sports Area, Riedhauser Straße 3, 89415 Lauingen (Donau)
END:VEVENT
BEGIN:VEVENT
DTSTAMP:20260425T205526
DTSTART;TZID=Europe/Berlin:20260328T091500
DTEND;TZID=Europe/Berlin:20260328T101500
UID:261L-G381-20260328T091500@VHSDONAUZUSAM
SUMMARY:Tabata Kraftraining (261L-G381) 
LOCATION:Cello’s Sports Area, Riedhauser Straße 3, 89415 Lauingen (Donau)
END:VEVENT
BEGIN:VEVENT
DTSTAMP:20260425T205526
DTSTART;TZID=Europe/Berlin:20260404T091500
DTEND;TZID=Europe/Berlin:20260404T101500
UID:261L-G381-20260404T091500@VHSDONAUZUSAM
SUMMARY:Tabata Kraftraining (261L-G381) 
LOCATION:Cello’s Sports Area, Riedhauser Straße 3, 89415 Lauingen (Donau)
END:VEVENT
BEGIN:VEVENT
DTSTAMP:20260425T205526
DTSTART;TZID=Europe/Berlin:20260411T091500
DTEND;TZID=Europe/Berlin:20260411T101500
UID:261L-G381-20260411T091500@VHSDONAUZUSAM
SUMMARY:Tabata Kraftraining (261L-G381) 
LOCATION:Cello’s Sports Area, Riedhauser Straße 3, 89415 Lauingen (Donau)
END:VEVENT
BEGIN:VEVENT
DTSTAMP:20260425T205526
DTSTART;TZID=Europe/Berlin:20260418T091500
DTEND;TZID=Europe/Berlin:20260418T101500
UID:261L-G381-20260418T091500@VHSDONAUZUSAM
SUMMARY:Tabata Kraftraining (261L-G381) 
LOCATION:Cello’s Sports Area, Riedhauser Straße 3, 89415 Lauingen (Donau)
END:VEVENT
BEGIN:VEVENT
DTSTAMP:20260425T205526
DTSTART;TZID=Europe/Berlin:20260425T091500
DTEND;TZID=Europe/Berlin:20260425T101500
UID:261L-G381-20260425T091500@VHSDONAUZUSAM
SUMMARY:Tabata Kraftraining (261L-G381) 
LOCATION:Cello’s Sports Area, Riedhauser Straße 3, 89415 Lauingen (Donau)
END:VEVENT
BEGIN:VEVENT
DTSTAMP:20260425T205526
DTSTART;TZID=Europe/Berlin:20260502T091500
DTEND;TZID=Europe/Berlin:20260502T101500
UID:261L-G381-20260502T091500@VHSDONAUZUSAM
SUMMARY:Tabata Kraftraining (261L-G381) 
LOCATION:Cello’s Sports Area, Riedhauser Straße 3, 89415 Lauingen (Donau)
END:VEVENT
END:VCALENDAR