BEGIN:VCALENDAR
VERSION:2.0
PRODID:http://www.kufer.de/kuferweb / DE
METHOD:PUBLISH
CALSCALE:GREGORIAN
X-WR-TIMEZONE:Europe/Berlin
BEGIN:VTIMEZONE
TZID:Europe/Berlin
X-LIC-LOCATION:Europe/Berlin
BEGIN:DAYLIGHT
TZOFFSETFROM:+0100
TZOFFSETTO:+0200
TZNAME:CEST
DTSTART;TZID=Europe/Berlin:19700329T020000
RRULE:FREQ=YEARLY;INTERVAL=1;BYDAY=-1SU;BYMONTH=3
END:DAYLIGHT
BEGIN:STANDARD
TZOFFSETFROM:+0200
TZOFFSETTO:+0100
TZNAME:CET
DTSTART;TZID=Europe/Berlin:19701025T030000
RRULE:FREQ=YEARLY;INTERVAL=1;BYDAY=-1SU;BYMONTH=10
END:STANDARD
END:VTIMEZONE
BEGIN:VEVENT
DTSTAMP:20260425T210148
DTSTART;TZID=Europe/Berlin:20260310T181000
DTEND;TZID=Europe/Berlin:20260310T191000
UID:261L-G373-20260310T181000@VHSDONAUZUSAM
SUMMARY:FitBoxing (261L-G373) 
LOCATION:Cello’s Sports Area, Riedhauser Straße 3, 89415 Lauingen (Donau)
END:VEVENT
BEGIN:VEVENT
DTSTAMP:20260425T210148
DTSTART;TZID=Europe/Berlin:20260317T181000
DTEND;TZID=Europe/Berlin:20260317T191000
UID:261L-G373-20260317T181000@VHSDONAUZUSAM
SUMMARY:FitBoxing (261L-G373) 
LOCATION:Cello’s Sports Area, Riedhauser Straße 3, 89415 Lauingen (Donau)
END:VEVENT
BEGIN:VEVENT
DTSTAMP:20260425T210148
DTSTART;TZID=Europe/Berlin:20260324T181000
DTEND;TZID=Europe/Berlin:20260324T191000
UID:261L-G373-20260324T181000@VHSDONAUZUSAM
SUMMARY:FitBoxing (261L-G373) 
LOCATION:Cello’s Sports Area, Riedhauser Straße 3, 89415 Lauingen (Donau)
END:VEVENT
BEGIN:VEVENT
DTSTAMP:20260425T210148
DTSTART;TZID=Europe/Berlin:20260331T181000
DTEND;TZID=Europe/Berlin:20260331T191000
UID:261L-G373-20260331T181000@VHSDONAUZUSAM
SUMMARY:FitBoxing (261L-G373) 
LOCATION:Cello’s Sports Area, Riedhauser Straße 3, 89415 Lauingen (Donau)
END:VEVENT
BEGIN:VEVENT
DTSTAMP:20260425T210148
DTSTART;TZID=Europe/Berlin:20260407T181000
DTEND;TZID=Europe/Berlin:20260407T191000
UID:261L-G373-20260407T181000@VHSDONAUZUSAM
SUMMARY:FitBoxing (261L-G373) 
LOCATION:Cello’s Sports Area, Riedhauser Straße 3, 89415 Lauingen (Donau)
END:VEVENT
BEGIN:VEVENT
DTSTAMP:20260425T210148
DTSTART;TZID=Europe/Berlin:20260414T181000
DTEND;TZID=Europe/Berlin:20260414T191000
UID:261L-G373-20260414T181000@VHSDONAUZUSAM
SUMMARY:FitBoxing (261L-G373) 
LOCATION:Cello’s Sports Area, Riedhauser Straße 3, 89415 Lauingen (Donau)
END:VEVENT
BEGIN:VEVENT
DTSTAMP:20260425T210148
DTSTART;TZID=Europe/Berlin:20260421T181000
DTEND;TZID=Europe/Berlin:20260421T191000
UID:261L-G373-20260421T181000@VHSDONAUZUSAM
SUMMARY:FitBoxing (261L-G373) 
LOCATION:Cello’s Sports Area, Riedhauser Straße 3, 89415 Lauingen (Donau)
END:VEVENT
BEGIN:VEVENT
DTSTAMP:20260425T210148
DTSTART;TZID=Europe/Berlin:20260428T181000
DTEND;TZID=Europe/Berlin:20260428T191000
UID:261L-G373-20260428T181000@VHSDONAUZUSAM
SUMMARY:FitBoxing (261L-G373) 
LOCATION:Cello’s Sports Area, Riedhauser Straße 3, 89415 Lauingen (Donau)
END:VEVENT
END:VCALENDAR