BEGIN:VCALENDAR
VERSION:2.0
PRODID:http://www.kufer.de/kuferweb / DE
METHOD:PUBLISH
CALSCALE:GREGORIAN
X-WR-TIMEZONE:Europe/Berlin
BEGIN:VTIMEZONE
TZID:Europe/Berlin
X-LIC-LOCATION:Europe/Berlin
BEGIN:DAYLIGHT
TZOFFSETFROM:+0100
TZOFFSETTO:+0200
TZNAME:CEST
DTSTART;TZID=Europe/Berlin:19700329T020000
RRULE:FREQ=YEARLY;INTERVAL=1;BYDAY=-1SU;BYMONTH=3
END:DAYLIGHT
BEGIN:STANDARD
TZOFFSETFROM:+0200
TZOFFSETTO:+0100
TZNAME:CET
DTSTART;TZID=Europe/Berlin:19701025T030000
RRULE:FREQ=YEARLY;INTERVAL=1;BYDAY=-1SU;BYMONTH=10
END:STANDARD
END:VTIMEZONE
BEGIN:VEVENT
DTSTAMP:20260425T193754
DTSTART;TZID=Europe/Berlin:20260311T171500
DTEND;TZID=Europe/Berlin:20260311T181500
UID:261L-G372-20260311T171500@VHSDONAUZUSAM
SUMMARY:TRX-Training (261L-G372) 
LOCATION:Cello’s Sports Area, Riedhauser Straße 3, 89415 Lauingen (Donau)
END:VEVENT
BEGIN:VEVENT
DTSTAMP:20260425T193754
DTSTART;TZID=Europe/Berlin:20260318T171500
DTEND;TZID=Europe/Berlin:20260318T181500
UID:261L-G372-20260318T171500@VHSDONAUZUSAM
SUMMARY:TRX-Training (261L-G372) 
LOCATION:Cello’s Sports Area, Riedhauser Straße 3, 89415 Lauingen (Donau)
END:VEVENT
BEGIN:VEVENT
DTSTAMP:20260425T193754
DTSTART;TZID=Europe/Berlin:20260325T171500
DTEND;TZID=Europe/Berlin:20260325T181500
UID:261L-G372-20260325T171500@VHSDONAUZUSAM
SUMMARY:TRX-Training (261L-G372) 
LOCATION:Cello’s Sports Area, Riedhauser Straße 3, 89415 Lauingen (Donau)
END:VEVENT
BEGIN:VEVENT
DTSTAMP:20260425T193754
DTSTART;TZID=Europe/Berlin:20260401T171500
DTEND;TZID=Europe/Berlin:20260401T181500
UID:261L-G372-20260401T171500@VHSDONAUZUSAM
SUMMARY:TRX-Training (261L-G372) 
LOCATION:Cello’s Sports Area, Riedhauser Straße 3, 89415 Lauingen (Donau)
END:VEVENT
BEGIN:VEVENT
DTSTAMP:20260425T193754
DTSTART;TZID=Europe/Berlin:20260408T171500
DTEND;TZID=Europe/Berlin:20260408T181500
UID:261L-G372-20260408T171500@VHSDONAUZUSAM
SUMMARY:TRX-Training (261L-G372) 
LOCATION:Cello’s Sports Area, Riedhauser Straße 3, 89415 Lauingen (Donau)
END:VEVENT
BEGIN:VEVENT
DTSTAMP:20260425T193754
DTSTART;TZID=Europe/Berlin:20260415T171500
DTEND;TZID=Europe/Berlin:20260415T181500
UID:261L-G372-20260415T171500@VHSDONAUZUSAM
SUMMARY:TRX-Training (261L-G372) 
LOCATION:Cello’s Sports Area, Riedhauser Straße 3, 89415 Lauingen (Donau)
END:VEVENT
BEGIN:VEVENT
DTSTAMP:20260425T193754
DTSTART;TZID=Europe/Berlin:20260422T171500
DTEND;TZID=Europe/Berlin:20260422T181500
UID:261L-G372-20260422T171500@VHSDONAUZUSAM
SUMMARY:TRX-Training (261L-G372) 
LOCATION:Cello’s Sports Area, Riedhauser Straße 3, 89415 Lauingen (Donau)
END:VEVENT
BEGIN:VEVENT
DTSTAMP:20260425T193754
DTSTART;TZID=Europe/Berlin:20260429T171500
DTEND;TZID=Europe/Berlin:20260429T181500
UID:261L-G372-20260429T171500@VHSDONAUZUSAM
SUMMARY:TRX-Training (261L-G372) 
LOCATION:Cello’s Sports Area, Riedhauser Straße 3, 89415 Lauingen (Donau)
END:VEVENT
END:VCALENDAR