BEGIN:VCALENDAR
VERSION:2.0
PRODID:http://www.kufer.de/kuferweb / DE
METHOD:PUBLISH
CALSCALE:GREGORIAN
X-WR-TIMEZONE:Europe/Berlin
BEGIN:VTIMEZONE
TZID:Europe/Berlin
X-LIC-LOCATION:Europe/Berlin
BEGIN:DAYLIGHT
TZOFFSETFROM:+0100
TZOFFSETTO:+0200
TZNAME:CEST
DTSTART;TZID=Europe/Berlin:19700329T020000
RRULE:FREQ=YEARLY;INTERVAL=1;BYDAY=-1SU;BYMONTH=3
END:DAYLIGHT
BEGIN:STANDARD
TZOFFSETFROM:+0200
TZOFFSETTO:+0100
TZNAME:CET
DTSTART;TZID=Europe/Berlin:19701025T030000
RRULE:FREQ=YEARLY;INTERVAL=1;BYDAY=-1SU;BYMONTH=10
END:STANDARD
END:VTIMEZONE
BEGIN:VEVENT
DTSTAMP:20260426T001828
DTSTART;TZID=Europe/Berlin:20260309T183000
DTEND;TZID=Europe/Berlin:20260309T193000
UID:261L-G371-20260309T183000@VHSDONAUZUSAM
SUMMARY:TRX-Training (261L-G371) 
LOCATION:Cello’s Sports Area, Riedhauser Straße 3, 89415 Lauingen (Donau)
END:VEVENT
BEGIN:VEVENT
DTSTAMP:20260426T001828
DTSTART;TZID=Europe/Berlin:20260316T183000
DTEND;TZID=Europe/Berlin:20260316T193000
UID:261L-G371-20260316T183000@VHSDONAUZUSAM
SUMMARY:TRX-Training (261L-G371) 
LOCATION:Cello’s Sports Area, Riedhauser Straße 3, 89415 Lauingen (Donau)
END:VEVENT
BEGIN:VEVENT
DTSTAMP:20260426T001828
DTSTART;TZID=Europe/Berlin:20260323T183000
DTEND;TZID=Europe/Berlin:20260323T193000
UID:261L-G371-20260323T183000@VHSDONAUZUSAM
SUMMARY:TRX-Training (261L-G371) 
LOCATION:Cello’s Sports Area, Riedhauser Straße 3, 89415 Lauingen (Donau)
END:VEVENT
BEGIN:VEVENT
DTSTAMP:20260426T001828
DTSTART;TZID=Europe/Berlin:20260330T183000
DTEND;TZID=Europe/Berlin:20260330T193000
UID:261L-G371-20260330T183000@VHSDONAUZUSAM
SUMMARY:TRX-Training (261L-G371) 
LOCATION:Cello’s Sports Area, Riedhauser Straße 3, 89415 Lauingen (Donau)
END:VEVENT
BEGIN:VEVENT
DTSTAMP:20260426T001828
DTSTART;TZID=Europe/Berlin:20260413T183000
DTEND;TZID=Europe/Berlin:20260413T193000
UID:261L-G371-20260413T183000@VHSDONAUZUSAM
SUMMARY:TRX-Training (261L-G371) 
LOCATION:Cello’s Sports Area, Riedhauser Straße 3, 89415 Lauingen (Donau)
END:VEVENT
BEGIN:VEVENT
DTSTAMP:20260426T001828
DTSTART;TZID=Europe/Berlin:20260420T183000
DTEND;TZID=Europe/Berlin:20260420T193000
UID:261L-G371-20260420T183000@VHSDONAUZUSAM
SUMMARY:TRX-Training (261L-G371) 
LOCATION:Cello’s Sports Area, Riedhauser Straße 3, 89415 Lauingen (Donau)
END:VEVENT
BEGIN:VEVENT
DTSTAMP:20260426T001828
DTSTART;TZID=Europe/Berlin:20260427T183000
DTEND;TZID=Europe/Berlin:20260427T193000
UID:261L-G371-20260427T183000@VHSDONAUZUSAM
SUMMARY:TRX-Training (261L-G371) 
LOCATION:Cello’s Sports Area, Riedhauser Straße 3, 89415 Lauingen (Donau)
END:VEVENT
BEGIN:VEVENT
DTSTAMP:20260426T001828
DTSTART;TZID=Europe/Berlin:20260504T183000
DTEND;TZID=Europe/Berlin:20260504T193000
UID:261L-G371-20260504T183000@VHSDONAUZUSAM
SUMMARY:TRX-Training (261L-G371) 
LOCATION:Cello’s Sports Area, Riedhauser Straße 3, 89415 Lauingen (Donau)
END:VEVENT
END:VCALENDAR