BEGIN:VCALENDAR
VERSION:2.0
PRODID:http://www.kufer.de/kuferweb / DE
METHOD:PUBLISH
CALSCALE:GREGORIAN
X-WR-TIMEZONE:Europe/Berlin
BEGIN:VTIMEZONE
TZID:Europe/Berlin
X-LIC-LOCATION:Europe/Berlin
BEGIN:DAYLIGHT
TZOFFSETFROM:+0100
TZOFFSETTO:+0200
TZNAME:CEST
DTSTART;TZID=Europe/Berlin:19700329T020000
RRULE:FREQ=YEARLY;INTERVAL=1;BYDAY=-1SU;BYMONTH=3
END:DAYLIGHT
BEGIN:STANDARD
TZOFFSETFROM:+0200
TZOFFSETTO:+0100
TZNAME:CET
DTSTART;TZID=Europe/Berlin:19701025T030000
RRULE:FREQ=YEARLY;INTERVAL=1;BYDAY=-1SU;BYMONTH=10
END:STANDARD
END:VTIMEZONE
BEGIN:VEVENT
DTSTAMP:20260426T004337
DTSTART;TZID=Europe/Berlin:20260305T174500
DTEND;TZID=Europe/Berlin:20260305T184500
UID:261L-G338-20260305T174500@VHSDONAUZUSAM
SUMMARY:Smovey für Alle (261L-G338) 
LOCATION:Turnhalle Marienweg, Lauingen, Marienweg 2, 89415 Lauingen
END:VEVENT
BEGIN:VEVENT
DTSTAMP:20260426T004337
DTSTART;TZID=Europe/Berlin:20260319T174500
DTEND;TZID=Europe/Berlin:20260319T184500
UID:261L-G338-20260319T174500@VHSDONAUZUSAM
SUMMARY:Smovey für Alle (261L-G338) 
LOCATION:Turnhalle Marienweg, Lauingen, Marienweg 2, 89415 Lauingen
END:VEVENT
BEGIN:VEVENT
DTSTAMP:20260426T004337
DTSTART;TZID=Europe/Berlin:20260326T174500
DTEND;TZID=Europe/Berlin:20260326T184500
UID:261L-G338-20260326T174500@VHSDONAUZUSAM
SUMMARY:Smovey für Alle (261L-G338) 
LOCATION:Turnhalle Marienweg, Lauingen, Marienweg 2, 89415 Lauingen
END:VEVENT
BEGIN:VEVENT
DTSTAMP:20260426T004337
DTSTART;TZID=Europe/Berlin:20260416T174500
DTEND;TZID=Europe/Berlin:20260416T184500
UID:261L-G338-20260416T174500@VHSDONAUZUSAM
SUMMARY:Smovey für Alle (261L-G338) 
LOCATION:Turnhalle Marienweg, Lauingen, Marienweg 2, 89415 Lauingen
END:VEVENT
BEGIN:VEVENT
DTSTAMP:20260426T004337
DTSTART;TZID=Europe/Berlin:20260423T174500
DTEND;TZID=Europe/Berlin:20260423T184500
UID:261L-G338-20260423T174500@VHSDONAUZUSAM
SUMMARY:Smovey für Alle (261L-G338) 
LOCATION:Turnhalle Marienweg, Lauingen, Marienweg 2, 89415 Lauingen
END:VEVENT
BEGIN:VEVENT
DTSTAMP:20260426T004337
DTSTART;TZID=Europe/Berlin:20260430T174500
DTEND;TZID=Europe/Berlin:20260430T184500
UID:261L-G338-20260430T174500@VHSDONAUZUSAM
SUMMARY:Smovey für Alle (261L-G338) 
LOCATION:Turnhalle Marienweg, Lauingen, Marienweg 2, 89415 Lauingen
END:VEVENT
BEGIN:VEVENT
DTSTAMP:20260426T004337
DTSTART;TZID=Europe/Berlin:20260507T174500
DTEND;TZID=Europe/Berlin:20260507T184500
UID:261L-G338-20260507T174500@VHSDONAUZUSAM
SUMMARY:Smovey für Alle (261L-G338) 
LOCATION:Turnhalle Marienweg, Lauingen, Marienweg 2, 89415 Lauingen
END:VEVENT
BEGIN:VEVENT
DTSTAMP:20260426T004337
DTSTART;TZID=Europe/Berlin:20260521T174500
DTEND;TZID=Europe/Berlin:20260521T184500
UID:261L-G338-20260521T174500@VHSDONAUZUSAM
SUMMARY:Smovey für Alle (261L-G338) 
LOCATION:Turnhalle Marienweg, Lauingen, Marienweg 2, 89415 Lauingen
END:VEVENT
END:VCALENDAR