BEGIN:VCALENDAR
VERSION:2.0
PRODID:http://www.kufer.de/kuferweb / DE
METHOD:PUBLISH
CALSCALE:GREGORIAN
X-WR-TIMEZONE:Europe/Berlin
BEGIN:VTIMEZONE
TZID:Europe/Berlin
X-LIC-LOCATION:Europe/Berlin
BEGIN:DAYLIGHT
TZOFFSETFROM:+0100
TZOFFSETTO:+0200
TZNAME:CEST
DTSTART;TZID=Europe/Berlin:19700329T020000
RRULE:FREQ=YEARLY;INTERVAL=1;BYDAY=-1SU;BYMONTH=3
END:DAYLIGHT
BEGIN:STANDARD
TZOFFSETFROM:+0200
TZOFFSETTO:+0100
TZNAME:CET
DTSTART;TZID=Europe/Berlin:19701025T030000
RRULE:FREQ=YEARLY;INTERVAL=1;BYDAY=-1SU;BYMONTH=10
END:STANDARD
END:VTIMEZONE
BEGIN:VEVENT
DTSTAMP:20260425T223615
DTSTART;TZID=Europe/Berlin:20260304T190000
DTEND;TZID=Europe/Berlin:20260304T200000
UID:261L-G328-20260304T190000@VHSDONAUZUSAM
SUMMARY:Salsa (261L-G328) 
LOCATION:feel good - Fitness & Gesundheitsstudio Lauingen, Kastellstraße 8, 89415 Lauingen
END:VEVENT
BEGIN:VEVENT
DTSTAMP:20260425T223615
DTSTART;TZID=Europe/Berlin:20260311T190000
DTEND;TZID=Europe/Berlin:20260311T200000
UID:261L-G328-20260311T190000@VHSDONAUZUSAM
SUMMARY:Salsa (261L-G328) 
LOCATION:feel good - Fitness & Gesundheitsstudio Lauingen, Kastellstraße 8, 89415 Lauingen
END:VEVENT
BEGIN:VEVENT
DTSTAMP:20260425T223615
DTSTART;TZID=Europe/Berlin:20260318T190000
DTEND;TZID=Europe/Berlin:20260318T200000
UID:261L-G328-20260318T190000@VHSDONAUZUSAM
SUMMARY:Salsa (261L-G328) 
LOCATION:feel good - Fitness & Gesundheitsstudio Lauingen, Kastellstraße 8, 89415 Lauingen
END:VEVENT
BEGIN:VEVENT
DTSTAMP:20260425T223615
DTSTART;TZID=Europe/Berlin:20260325T190000
DTEND;TZID=Europe/Berlin:20260325T200000
UID:261L-G328-20260325T190000@VHSDONAUZUSAM
SUMMARY:Salsa (261L-G328) 
LOCATION:feel good - Fitness & Gesundheitsstudio Lauingen, Kastellstraße 8, 89415 Lauingen
END:VEVENT
BEGIN:VEVENT
DTSTAMP:20260425T223615
DTSTART;TZID=Europe/Berlin:20260415T190000
DTEND;TZID=Europe/Berlin:20260415T200000
UID:261L-G328-20260415T190000@VHSDONAUZUSAM
SUMMARY:Salsa (261L-G328) 
LOCATION:feel good - Fitness & Gesundheitsstudio Lauingen, Kastellstraße 8, 89415 Lauingen
END:VEVENT
BEGIN:VEVENT
DTSTAMP:20260425T223615
DTSTART;TZID=Europe/Berlin:20260422T190000
DTEND;TZID=Europe/Berlin:20260422T200000
UID:261L-G328-20260422T190000@VHSDONAUZUSAM
SUMMARY:Salsa (261L-G328) 
LOCATION:feel good - Fitness & Gesundheitsstudio Lauingen, Kastellstraße 8, 89415 Lauingen
END:VEVENT
BEGIN:VEVENT
DTSTAMP:20260425T223615
DTSTART;TZID=Europe/Berlin:20260429T190000
DTEND;TZID=Europe/Berlin:20260429T200000
UID:261L-G328-20260429T190000@VHSDONAUZUSAM
SUMMARY:Salsa (261L-G328) 
LOCATION:feel good - Fitness & Gesundheitsstudio Lauingen, Kastellstraße 8, 89415 Lauingen
END:VEVENT
BEGIN:VEVENT
DTSTAMP:20260425T223615
DTSTART;TZID=Europe/Berlin:20260506T190000
DTEND;TZID=Europe/Berlin:20260506T200000
UID:261L-G328-20260506T190000@VHSDONAUZUSAM
SUMMARY:Salsa (261L-G328) 
LOCATION:feel good - Fitness & Gesundheitsstudio Lauingen, Kastellstraße 8, 89415 Lauingen
END:VEVENT
BEGIN:VEVENT
DTSTAMP:20260425T223615
DTSTART;TZID=Europe/Berlin:20260513T190000
DTEND;TZID=Europe/Berlin:20260513T200000
UID:261L-G328-20260513T190000@VHSDONAUZUSAM
SUMMARY:Salsa (261L-G328) 
LOCATION:feel good - Fitness & Gesundheitsstudio Lauingen, Kastellstraße 8, 89415 Lauingen
END:VEVENT
BEGIN:VEVENT
DTSTAMP:20260425T223615
DTSTART;TZID=Europe/Berlin:20260520T190000
DTEND;TZID=Europe/Berlin:20260520T200000
UID:261L-G328-20260520T190000@VHSDONAUZUSAM
SUMMARY:Salsa (261L-G328) 
LOCATION:feel good - Fitness & Gesundheitsstudio Lauingen, Kastellstraße 8, 89415 Lauingen
END:VEVENT
END:VCALENDAR