BEGIN:VCALENDAR
VERSION:2.0
PRODID:http://www.kufer.de/kuferweb / DE
METHOD:PUBLISH
CALSCALE:GREGORIAN
X-WR-TIMEZONE:Europe/Berlin
BEGIN:VTIMEZONE
TZID:Europe/Berlin
X-LIC-LOCATION:Europe/Berlin
BEGIN:DAYLIGHT
TZOFFSETFROM:+0100
TZOFFSETTO:+0200
TZNAME:CEST
DTSTART;TZID=Europe/Berlin:19700329T020000
RRULE:FREQ=YEARLY;INTERVAL=1;BYDAY=-1SU;BYMONTH=3
END:DAYLIGHT
BEGIN:STANDARD
TZOFFSETFROM:+0200
TZOFFSETTO:+0100
TZNAME:CET
DTSTART;TZID=Europe/Berlin:19701025T030000
RRULE:FREQ=YEARLY;INTERVAL=1;BYDAY=-1SU;BYMONTH=10
END:STANDARD
END:VTIMEZONE
BEGIN:VEVENT
DTSTAMP:20260425T182003
DTSTART;TZID=Europe/Berlin:20260302T190000
DTEND;TZID=Europe/Berlin:20260302T200000
UID:261L-G317-20260302T190000@VHSDONAUZUSAM
SUMMARY:Fit und entspannt mit QiGong 2 (261L-G317) 
LOCATION:Grundschule Lauingen, Musikraum EG (links), Marienweg 4, 89415 Lauingen
END:VEVENT
BEGIN:VEVENT
DTSTAMP:20260425T182003
DTSTART;TZID=Europe/Berlin:20260309T190000
DTEND;TZID=Europe/Berlin:20260309T200000
UID:261L-G317-20260309T190000@VHSDONAUZUSAM
SUMMARY:Fit und entspannt mit QiGong 2 (261L-G317) 
LOCATION:Grundschule Lauingen, Musikraum EG (links), Marienweg 4, 89415 Lauingen
END:VEVENT
BEGIN:VEVENT
DTSTAMP:20260425T182003
DTSTART;TZID=Europe/Berlin:20260323T190000
DTEND;TZID=Europe/Berlin:20260323T200000
UID:261L-G317-20260323T190000@VHSDONAUZUSAM
SUMMARY:Fit und entspannt mit QiGong 2 (261L-G317) 
LOCATION:Grundschule Lauingen, Musikraum EG (links), Marienweg 4, 89415 Lauingen
END:VEVENT
BEGIN:VEVENT
DTSTAMP:20260425T182003
DTSTART;TZID=Europe/Berlin:20260413T190000
DTEND;TZID=Europe/Berlin:20260413T200000
UID:261L-G317-20260413T190000@VHSDONAUZUSAM
SUMMARY:Fit und entspannt mit QiGong 2 (261L-G317) 
LOCATION:Grundschule Lauingen, Musikraum EG (links), Marienweg 4, 89415 Lauingen
END:VEVENT
BEGIN:VEVENT
DTSTAMP:20260425T182003
DTSTART;TZID=Europe/Berlin:20260420T190000
DTEND;TZID=Europe/Berlin:20260420T200000
UID:261L-G317-20260420T190000@VHSDONAUZUSAM
SUMMARY:Fit und entspannt mit QiGong 2 (261L-G317) 
LOCATION:Grundschule Lauingen, Musikraum EG (links), Marienweg 4, 89415 Lauingen
END:VEVENT
BEGIN:VEVENT
DTSTAMP:20260425T182003
DTSTART;TZID=Europe/Berlin:20260427T190000
DTEND;TZID=Europe/Berlin:20260427T200000
UID:261L-G317-20260427T190000@VHSDONAUZUSAM
SUMMARY:Fit und entspannt mit QiGong 2 (261L-G317) 
LOCATION:Grundschule Lauingen, Musikraum EG (links), Marienweg 4, 89415 Lauingen
END:VEVENT
BEGIN:VEVENT
DTSTAMP:20260425T182003
DTSTART;TZID=Europe/Berlin:20260504T190000
DTEND;TZID=Europe/Berlin:20260504T200000
UID:261L-G317-20260504T190000@VHSDONAUZUSAM
SUMMARY:Fit und entspannt mit QiGong 2 (261L-G317) 
LOCATION:Grundschule Lauingen, Musikraum EG (links), Marienweg 4, 89415 Lauingen
END:VEVENT
BEGIN:VEVENT
DTSTAMP:20260425T182003
DTSTART;TZID=Europe/Berlin:20260511T190000
DTEND;TZID=Europe/Berlin:20260511T200000
UID:261L-G317-20260511T190000@VHSDONAUZUSAM
SUMMARY:Fit und entspannt mit QiGong 2 (261L-G317) 
LOCATION:Grundschule Lauingen, Musikraum EG (links), Marienweg 4, 89415 Lauingen
END:VEVENT
BEGIN:VEVENT
DTSTAMP:20260425T182003
DTSTART;TZID=Europe/Berlin:20260518T190000
DTEND;TZID=Europe/Berlin:20260518T200000
UID:261L-G317-20260518T190000@VHSDONAUZUSAM
SUMMARY:Fit und entspannt mit QiGong 2 (261L-G317) 
LOCATION:Grundschule Lauingen, Musikraum EG (links), Marienweg 4, 89415 Lauingen
END:VEVENT
BEGIN:VEVENT
DTSTAMP:20260425T182003
DTSTART;TZID=Europe/Berlin:20260608T190000
DTEND;TZID=Europe/Berlin:20260608T200000
UID:261L-G317-20260608T190000@VHSDONAUZUSAM
DESCRIPTION:30.03.26 (*CR): Ersatz für 16.3.2026
SUMMARY:Fit und entspannt mit QiGong 2 (261L-G317) 
LOCATION:Grundschule Lauingen, Musikraum EG (links), Marienweg 4, 89415 Lauingen
END:VEVENT
END:VCALENDAR