BEGIN:VCALENDAR
VERSION:2.0
PRODID:http://www.kufer.de/kuferweb / DE
METHOD:PUBLISH
CALSCALE:GREGORIAN
X-WR-TIMEZONE:Europe/Berlin
BEGIN:VTIMEZONE
TZID:Europe/Berlin
X-LIC-LOCATION:Europe/Berlin
BEGIN:DAYLIGHT
TZOFFSETFROM:+0100
TZOFFSETTO:+0200
TZNAME:CEST
DTSTART;TZID=Europe/Berlin:19700329T020000
RRULE:FREQ=YEARLY;INTERVAL=1;BYDAY=-1SU;BYMONTH=3
END:DAYLIGHT
BEGIN:STANDARD
TZOFFSETFROM:+0200
TZOFFSETTO:+0100
TZNAME:CET
DTSTART;TZID=Europe/Berlin:19701025T030000
RRULE:FREQ=YEARLY;INTERVAL=1;BYDAY=-1SU;BYMONTH=10
END:STANDARD
END:VTIMEZONE
BEGIN:VEVENT
DTSTAMP:20260425T211534
DTSTART;TZID=Europe/Berlin:20260226T183500
DTEND;TZID=Europe/Berlin:20260226T200500
UID:261L-G315-20260226T183500@VHSDONAUZUSAM
SUMMARY:Meditation für Anfänger und Fortgeschrittene (261L-G315) 
LOCATION:Kinderhaus Lauingen Bahnhofstr./Mehrzweckraum, Bahnhofstraße 8, 89415 Lauingen
END:VEVENT
BEGIN:VEVENT
DTSTAMP:20260425T211534
DTSTART;TZID=Europe/Berlin:20260305T183500
DTEND;TZID=Europe/Berlin:20260305T200500
UID:261L-G315-20260305T183500@VHSDONAUZUSAM
SUMMARY:Meditation für Anfänger und Fortgeschrittene (261L-G315) 
LOCATION:Kinderhaus Lauingen Bahnhofstr./Mehrzweckraum, Bahnhofstraße 8, 89415 Lauingen
END:VEVENT
BEGIN:VEVENT
DTSTAMP:20260425T211534
DTSTART;TZID=Europe/Berlin:20260312T183500
DTEND;TZID=Europe/Berlin:20260312T200500
UID:261L-G315-20260312T183500@VHSDONAUZUSAM
SUMMARY:Meditation für Anfänger und Fortgeschrittene (261L-G315) 
LOCATION:Kinderhaus Lauingen Bahnhofstr./Mehrzweckraum, Bahnhofstraße 8, 89415 Lauingen
END:VEVENT
BEGIN:VEVENT
DTSTAMP:20260425T211534
DTSTART;TZID=Europe/Berlin:20260319T183500
DTEND;TZID=Europe/Berlin:20260319T200500
UID:261L-G315-20260319T183500@VHSDONAUZUSAM
SUMMARY:Meditation für Anfänger und Fortgeschrittene (261L-G315) 
LOCATION:Kinderhaus Lauingen Bahnhofstr./Mehrzweckraum, Bahnhofstraße 8, 89415 Lauingen
END:VEVENT
BEGIN:VEVENT
DTSTAMP:20260425T211534
DTSTART;TZID=Europe/Berlin:20260326T183500
DTEND;TZID=Europe/Berlin:20260326T200500
UID:261L-G315-20260326T183500@VHSDONAUZUSAM
SUMMARY:Meditation für Anfänger und Fortgeschrittene (261L-G315) 
LOCATION:Kinderhaus Lauingen Bahnhofstr./Mehrzweckraum, Bahnhofstraße 8, 89415 Lauingen
END:VEVENT
BEGIN:VEVENT
DTSTAMP:20260425T211534
DTSTART;TZID=Europe/Berlin:20260416T183500
DTEND;TZID=Europe/Berlin:20260416T200500
UID:261L-G315-20260416T183500@VHSDONAUZUSAM
SUMMARY:Meditation für Anfänger und Fortgeschrittene (261L-G315) 
LOCATION:Kinderhaus Lauingen Bahnhofstr./Mehrzweckraum, Bahnhofstraße 8, 89415 Lauingen
END:VEVENT
BEGIN:VEVENT
DTSTAMP:20260425T211534
DTSTART;TZID=Europe/Berlin:20260423T183500
DTEND;TZID=Europe/Berlin:20260423T200500
UID:261L-G315-20260423T183500@VHSDONAUZUSAM
SUMMARY:Meditation für Anfänger und Fortgeschrittene (261L-G315) 
LOCATION:Kinderhaus Lauingen Bahnhofstr./Mehrzweckraum, Bahnhofstraße 8, 89415 Lauingen
END:VEVENT
BEGIN:VEVENT
DTSTAMP:20260425T211534
DTSTART;TZID=Europe/Berlin:20260430T183500
DTEND;TZID=Europe/Berlin:20260430T200500
UID:261L-G315-20260430T183500@VHSDONAUZUSAM
SUMMARY:Meditation für Anfänger und Fortgeschrittene (261L-G315) 
LOCATION:Kinderhaus Lauingen Bahnhofstr./Mehrzweckraum, Bahnhofstraße 8, 89415 Lauingen
END:VEVENT
BEGIN:VEVENT
DTSTAMP:20260425T211534
DTSTART;TZID=Europe/Berlin:20260507T183500
DTEND;TZID=Europe/Berlin:20260507T200500
UID:261L-G315-20260507T183500@VHSDONAUZUSAM
SUMMARY:Meditation für Anfänger und Fortgeschrittene (261L-G315) 
LOCATION:Kinderhaus Lauingen Bahnhofstr./Mehrzweckraum, Bahnhofstraße 8, 89415 Lauingen
END:VEVENT
BEGIN:VEVENT
DTSTAMP:20260425T211534
DTSTART;TZID=Europe/Berlin:20260521T183500
DTEND;TZID=Europe/Berlin:20260521T200500
UID:261L-G315-20260521T183500@VHSDONAUZUSAM
SUMMARY:Meditation für Anfänger und Fortgeschrittene (261L-G315) 
LOCATION:Kinderhaus Lauingen Bahnhofstr./Mehrzweckraum, Bahnhofstraße 8, 89415 Lauingen
END:VEVENT
BEGIN:VEVENT
DTSTAMP:20260425T211534
DTSTART;TZID=Europe/Berlin:20260611T183500
DTEND;TZID=Europe/Berlin:20260611T200500
UID:261L-G315-20260611T183500@VHSDONAUZUSAM
SUMMARY:Meditation für Anfänger und Fortgeschrittene (261L-G315) 
LOCATION:Kinderhaus Lauingen Bahnhofstr./Mehrzweckraum, Bahnhofstraße 8, 89415 Lauingen
END:VEVENT
BEGIN:VEVENT
DTSTAMP:20260425T211534
DTSTART;TZID=Europe/Berlin:20260618T183500
DTEND;TZID=Europe/Berlin:20260618T200500
UID:261L-G315-20260618T183500@VHSDONAUZUSAM
SUMMARY:Meditation für Anfänger und Fortgeschrittene (261L-G315) 
LOCATION:Kinderhaus Lauingen Bahnhofstr./Mehrzweckraum, Bahnhofstraße 8, 89415 Lauingen
END:VEVENT
BEGIN:VEVENT
DTSTAMP:20260425T211534
DTSTART;TZID=Europe/Berlin:20260625T183500
DTEND;TZID=Europe/Berlin:20260625T200500
UID:261L-G315-20260625T183500@VHSDONAUZUSAM
SUMMARY:Meditation für Anfänger und Fortgeschrittene (261L-G315) 
LOCATION:Kinderhaus Lauingen Bahnhofstr./Mehrzweckraum, Bahnhofstraße 8, 89415 Lauingen
END:VEVENT
BEGIN:VEVENT
DTSTAMP:20260425T211534
DTSTART;TZID=Europe/Berlin:20260709T183500
DTEND;TZID=Europe/Berlin:20260709T200500
UID:261L-G315-20260709T183500@VHSDONAUZUSAM
SUMMARY:Meditation für Anfänger und Fortgeschrittene (261L-G315) 
LOCATION:Kinderhaus Lauingen Bahnhofstr./Mehrzweckraum, Bahnhofstraße 8, 89415 Lauingen
END:VEVENT
BEGIN:VEVENT
DTSTAMP:20260425T211534
DTSTART;TZID=Europe/Berlin:20260716T183500
DTEND;TZID=Europe/Berlin:20260716T200500
UID:261L-G315-20260716T183500@VHSDONAUZUSAM
SUMMARY:Meditation für Anfänger und Fortgeschrittene (261L-G315) 
LOCATION:Kinderhaus Lauingen Bahnhofstr./Mehrzweckraum, Bahnhofstraße 8, 89415 Lauingen
END:VEVENT
BEGIN:VEVENT
DTSTAMP:20260425T211534
DTSTART;TZID=Europe/Berlin:20260723T183500
DTEND;TZID=Europe/Berlin:20260723T200500
UID:261L-G315-20260723T183500@VHSDONAUZUSAM
SUMMARY:Meditation für Anfänger und Fortgeschrittene (261L-G315) 
LOCATION:Kinderhaus Lauingen Bahnhofstr./Mehrzweckraum, Bahnhofstraße 8, 89415 Lauingen
END:VEVENT
BEGIN:VEVENT
DTSTAMP:20260425T211534
DTSTART;TZID=Europe/Berlin:20260730T183500
DTEND;TZID=Europe/Berlin:20260730T200500
UID:261L-G315-20260730T183500@VHSDONAUZUSAM
DESCRIPTION:28.01.26 (*CR): Ersatz für Ausfall
SUMMARY:Meditation für Anfänger und Fortgeschrittene (261L-G315) 
LOCATION:Kinderhaus Lauingen Bahnhofstr./Mehrzweckraum, Bahnhofstraße 8, 89415 Lauingen
END:VEVENT
END:VCALENDAR