BEGIN:VCALENDAR
VERSION:2.0
PRODID:http://www.kufer.de/kuferweb / DE
METHOD:PUBLISH
CALSCALE:GREGORIAN
X-WR-TIMEZONE:Europe/Berlin
BEGIN:VTIMEZONE
TZID:Europe/Berlin
X-LIC-LOCATION:Europe/Berlin
BEGIN:DAYLIGHT
TZOFFSETFROM:+0100
TZOFFSETTO:+0200
TZNAME:CEST
DTSTART;TZID=Europe/Berlin:19700329T020000
RRULE:FREQ=YEARLY;INTERVAL=1;BYDAY=-1SU;BYMONTH=3
END:DAYLIGHT
BEGIN:STANDARD
TZOFFSETFROM:+0200
TZOFFSETTO:+0100
TZNAME:CET
DTSTART;TZID=Europe/Berlin:19701025T030000
RRULE:FREQ=YEARLY;INTERVAL=1;BYDAY=-1SU;BYMONTH=10
END:STANDARD
END:VTIMEZONE
BEGIN:VEVENT
DTSTAMP:20260425T231922
DTSTART;TZID=Europe/Berlin:20260226T170000
DTEND;TZID=Europe/Berlin:20260226T183000
UID:261L-G314-20260226T170000@VHSDONAUZUSAM
SUMMARY:Aranja-Yoga für Fortgeschrittene (261L-G314) 
LOCATION:Kinderhaus Lauingen Bahnhofstr./Mehrzweckraum, Bahnhofstraße 8, 89415 Lauingen
END:VEVENT
BEGIN:VEVENT
DTSTAMP:20260425T231922
DTSTART;TZID=Europe/Berlin:20260305T170000
DTEND;TZID=Europe/Berlin:20260305T183000
UID:261L-G314-20260305T170000@VHSDONAUZUSAM
SUMMARY:Aranja-Yoga für Fortgeschrittene (261L-G314) 
LOCATION:Kinderhaus Lauingen Bahnhofstr./Mehrzweckraum, Bahnhofstraße 8, 89415 Lauingen
END:VEVENT
BEGIN:VEVENT
DTSTAMP:20260425T231922
DTSTART;TZID=Europe/Berlin:20260312T170000
DTEND;TZID=Europe/Berlin:20260312T183000
UID:261L-G314-20260312T170000@VHSDONAUZUSAM
SUMMARY:Aranja-Yoga für Fortgeschrittene (261L-G314) 
LOCATION:Kinderhaus Lauingen Bahnhofstr./Mehrzweckraum, Bahnhofstraße 8, 89415 Lauingen
END:VEVENT
BEGIN:VEVENT
DTSTAMP:20260425T231922
DTSTART;TZID=Europe/Berlin:20260319T170000
DTEND;TZID=Europe/Berlin:20260319T183000
UID:261L-G314-20260319T170000@VHSDONAUZUSAM
SUMMARY:Aranja-Yoga für Fortgeschrittene (261L-G314) 
LOCATION:Kinderhaus Lauingen Bahnhofstr./Mehrzweckraum, Bahnhofstraße 8, 89415 Lauingen
END:VEVENT
BEGIN:VEVENT
DTSTAMP:20260425T231922
DTSTART;TZID=Europe/Berlin:20260326T170000
DTEND;TZID=Europe/Berlin:20260326T183000
UID:261L-G314-20260326T170000@VHSDONAUZUSAM
SUMMARY:Aranja-Yoga für Fortgeschrittene (261L-G314) 
LOCATION:Kinderhaus Lauingen Bahnhofstr./Mehrzweckraum, Bahnhofstraße 8, 89415 Lauingen
END:VEVENT
BEGIN:VEVENT
DTSTAMP:20260425T231922
DTSTART;TZID=Europe/Berlin:20260416T170000
DTEND;TZID=Europe/Berlin:20260416T183000
UID:261L-G314-20260416T170000@VHSDONAUZUSAM
SUMMARY:Aranja-Yoga für Fortgeschrittene (261L-G314) 
LOCATION:Kinderhaus Lauingen Bahnhofstr./Mehrzweckraum, Bahnhofstraße 8, 89415 Lauingen
END:VEVENT
BEGIN:VEVENT
DTSTAMP:20260425T231922
DTSTART;TZID=Europe/Berlin:20260423T170000
DTEND;TZID=Europe/Berlin:20260423T183000
UID:261L-G314-20260423T170000@VHSDONAUZUSAM
SUMMARY:Aranja-Yoga für Fortgeschrittene (261L-G314) 
LOCATION:Kinderhaus Lauingen Bahnhofstr./Mehrzweckraum, Bahnhofstraße 8, 89415 Lauingen
END:VEVENT
BEGIN:VEVENT
DTSTAMP:20260425T231922
DTSTART;TZID=Europe/Berlin:20260430T170000
DTEND;TZID=Europe/Berlin:20260430T183000
UID:261L-G314-20260430T170000@VHSDONAUZUSAM
SUMMARY:Aranja-Yoga für Fortgeschrittene (261L-G314) 
LOCATION:Kinderhaus Lauingen Bahnhofstr./Mehrzweckraum, Bahnhofstraße 8, 89415 Lauingen
END:VEVENT
BEGIN:VEVENT
DTSTAMP:20260425T231922
DTSTART;TZID=Europe/Berlin:20260507T170000
DTEND;TZID=Europe/Berlin:20260507T183000
UID:261L-G314-20260507T170000@VHSDONAUZUSAM
SUMMARY:Aranja-Yoga für Fortgeschrittene (261L-G314) 
LOCATION:Kinderhaus Lauingen Bahnhofstr./Mehrzweckraum, Bahnhofstraße 8, 89415 Lauingen
END:VEVENT
BEGIN:VEVENT
DTSTAMP:20260425T231922
DTSTART;TZID=Europe/Berlin:20260521T170000
DTEND;TZID=Europe/Berlin:20260521T183000
UID:261L-G314-20260521T170000@VHSDONAUZUSAM
SUMMARY:Aranja-Yoga für Fortgeschrittene (261L-G314) 
LOCATION:Kinderhaus Lauingen Bahnhofstr./Mehrzweckraum, Bahnhofstraße 8, 89415 Lauingen
END:VEVENT
BEGIN:VEVENT
DTSTAMP:20260425T231922
DTSTART;TZID=Europe/Berlin:20260611T170000
DTEND;TZID=Europe/Berlin:20260611T183000
UID:261L-G314-20260611T170000@VHSDONAUZUSAM
SUMMARY:Aranja-Yoga für Fortgeschrittene (261L-G314) 
LOCATION:Kinderhaus Lauingen Bahnhofstr./Mehrzweckraum, Bahnhofstraße 8, 89415 Lauingen
END:VEVENT
BEGIN:VEVENT
DTSTAMP:20260425T231922
DTSTART;TZID=Europe/Berlin:20260618T170000
DTEND;TZID=Europe/Berlin:20260618T183000
UID:261L-G314-20260618T170000@VHSDONAUZUSAM
SUMMARY:Aranja-Yoga für Fortgeschrittene (261L-G314) 
LOCATION:Kinderhaus Lauingen Bahnhofstr./Mehrzweckraum, Bahnhofstraße 8, 89415 Lauingen
END:VEVENT
BEGIN:VEVENT
DTSTAMP:20260425T231922
DTSTART;TZID=Europe/Berlin:20260625T170000
DTEND;TZID=Europe/Berlin:20260625T183000
UID:261L-G314-20260625T170000@VHSDONAUZUSAM
SUMMARY:Aranja-Yoga für Fortgeschrittene (261L-G314) 
LOCATION:Kinderhaus Lauingen Bahnhofstr./Mehrzweckraum, Bahnhofstraße 8, 89415 Lauingen
END:VEVENT
BEGIN:VEVENT
DTSTAMP:20260425T231922
DTSTART;TZID=Europe/Berlin:20260709T170000
DTEND;TZID=Europe/Berlin:20260709T183000
UID:261L-G314-20260709T170000@VHSDONAUZUSAM
SUMMARY:Aranja-Yoga für Fortgeschrittene (261L-G314) 
LOCATION:Kinderhaus Lauingen Bahnhofstr./Mehrzweckraum, Bahnhofstraße 8, 89415 Lauingen
END:VEVENT
BEGIN:VEVENT
DTSTAMP:20260425T231922
DTSTART;TZID=Europe/Berlin:20260716T170000
DTEND;TZID=Europe/Berlin:20260716T183000
UID:261L-G314-20260716T170000@VHSDONAUZUSAM
SUMMARY:Aranja-Yoga für Fortgeschrittene (261L-G314) 
LOCATION:Kinderhaus Lauingen Bahnhofstr./Mehrzweckraum, Bahnhofstraße 8, 89415 Lauingen
END:VEVENT
BEGIN:VEVENT
DTSTAMP:20260425T231922
DTSTART;TZID=Europe/Berlin:20260723T170000
DTEND;TZID=Europe/Berlin:20260723T183000
UID:261L-G314-20260723T170000@VHSDONAUZUSAM
SUMMARY:Aranja-Yoga für Fortgeschrittene (261L-G314) 
LOCATION:Kinderhaus Lauingen Bahnhofstr./Mehrzweckraum, Bahnhofstraße 8, 89415 Lauingen
END:VEVENT
BEGIN:VEVENT
DTSTAMP:20260425T231922
DTSTART;TZID=Europe/Berlin:20260730T170000
DTEND;TZID=Europe/Berlin:20260730T183000
UID:261L-G314-20260730T170000@VHSDONAUZUSAM
DESCRIPTION:28.01.26 (*CR): Ersatz für Ausfall
SUMMARY:Aranja-Yoga für Fortgeschrittene (261L-G314) 
LOCATION:Kinderhaus Lauingen Bahnhofstr./Mehrzweckraum, Bahnhofstraße 8, 89415 Lauingen
END:VEVENT
END:VCALENDAR