BEGIN:VCALENDAR
VERSION:2.0
PRODID:http://www.kufer.de/kuferweb / DE
METHOD:PUBLISH
CALSCALE:GREGORIAN
X-WR-TIMEZONE:Europe/Berlin
BEGIN:VTIMEZONE
TZID:Europe/Berlin
X-LIC-LOCATION:Europe/Berlin
BEGIN:DAYLIGHT
TZOFFSETFROM:+0100
TZOFFSETTO:+0200
TZNAME:CEST
DTSTART;TZID=Europe/Berlin:19700329T020000
RRULE:FREQ=YEARLY;INTERVAL=1;BYDAY=-1SU;BYMONTH=3
END:DAYLIGHT
BEGIN:STANDARD
TZOFFSETFROM:+0200
TZOFFSETTO:+0100
TZNAME:CET
DTSTART;TZID=Europe/Berlin:19701025T030000
RRULE:FREQ=YEARLY;INTERVAL=1;BYDAY=-1SU;BYMONTH=10
END:STANDARD
END:VTIMEZONE
BEGIN:VEVENT
DTSTAMP:20260426T003554
DTSTART;TZID=Europe/Berlin:20260302T080000
DTEND;TZID=Europe/Berlin:20260302T090000
UID:261G-X174-20260302T080000@VHSDONAUZUSAM
SUMMARY:Fit Ü-60 Männer (261G-X174) 
LOCATION:womens hub Gundelfingen, Obere Vorstadt 37d, 89423 Gundelfingen
END:VEVENT
BEGIN:VEVENT
DTSTAMP:20260426T003554
DTSTART;TZID=Europe/Berlin:20260309T080000
DTEND;TZID=Europe/Berlin:20260309T090000
UID:261G-X174-20260309T080000@VHSDONAUZUSAM
SUMMARY:Fit Ü-60 Männer (261G-X174) 
LOCATION:womens hub Gundelfingen, Obere Vorstadt 37d, 89423 Gundelfingen
END:VEVENT
BEGIN:VEVENT
DTSTAMP:20260426T003554
DTSTART;TZID=Europe/Berlin:20260316T080000
DTEND;TZID=Europe/Berlin:20260316T090000
UID:261G-X174-20260316T080000@VHSDONAUZUSAM
SUMMARY:Fit Ü-60 Männer (261G-X174) 
LOCATION:womens hub Gundelfingen, Obere Vorstadt 37d, 89423 Gundelfingen
END:VEVENT
BEGIN:VEVENT
DTSTAMP:20260426T003554
DTSTART;TZID=Europe/Berlin:20260323T080000
DTEND;TZID=Europe/Berlin:20260323T090000
UID:261G-X174-20260323T080000@VHSDONAUZUSAM
SUMMARY:Fit Ü-60 Männer (261G-X174) 
LOCATION:womens hub Gundelfingen, Obere Vorstadt 37d, 89423 Gundelfingen
END:VEVENT
BEGIN:VEVENT
DTSTAMP:20260426T003554
DTSTART;TZID=Europe/Berlin:20260330T080000
DTEND;TZID=Europe/Berlin:20260330T090000
UID:261G-X174-20260330T080000@VHSDONAUZUSAM
SUMMARY:Fit Ü-60 Männer (261G-X174) 
LOCATION:womens hub Gundelfingen, Obere Vorstadt 37d, 89423 Gundelfingen
END:VEVENT
BEGIN:VEVENT
DTSTAMP:20260426T003554
DTSTART;TZID=Europe/Berlin:20260406T080000
DTEND;TZID=Europe/Berlin:20260406T090000
UID:261G-X174-20260406T080000@VHSDONAUZUSAM
SUMMARY:Fit Ü-60 Männer (261G-X174) 
LOCATION:womens hub Gundelfingen, Obere Vorstadt 37d, 89423 Gundelfingen
END:VEVENT
BEGIN:VEVENT
DTSTAMP:20260426T003554
DTSTART;TZID=Europe/Berlin:20260413T080000
DTEND;TZID=Europe/Berlin:20260413T090000
UID:261G-X174-20260413T080000@VHSDONAUZUSAM
SUMMARY:Fit Ü-60 Männer (261G-X174) 
LOCATION:womens hub Gundelfingen, Obere Vorstadt 37d, 89423 Gundelfingen
END:VEVENT
BEGIN:VEVENT
DTSTAMP:20260426T003554
DTSTART;TZID=Europe/Berlin:20260420T080000
DTEND;TZID=Europe/Berlin:20260420T090000
UID:261G-X174-20260420T080000@VHSDONAUZUSAM
SUMMARY:Fit Ü-60 Männer (261G-X174) 
LOCATION:womens hub Gundelfingen, Obere Vorstadt 37d, 89423 Gundelfingen
END:VEVENT
BEGIN:VEVENT
DTSTAMP:20260426T003554
DTSTART;TZID=Europe/Berlin:20260427T080000
DTEND;TZID=Europe/Berlin:20260427T090000
UID:261G-X174-20260427T080000@VHSDONAUZUSAM
SUMMARY:Fit Ü-60 Männer (261G-X174) 
LOCATION:womens hub Gundelfingen, Obere Vorstadt 37d, 89423 Gundelfingen
END:VEVENT
BEGIN:VEVENT
DTSTAMP:20260426T003554
DTSTART;TZID=Europe/Berlin:20260504T080000
DTEND;TZID=Europe/Berlin:20260504T090000
UID:261G-X174-20260504T080000@VHSDONAUZUSAM
SUMMARY:Fit Ü-60 Männer (261G-X174) 
LOCATION:womens hub Gundelfingen, Obere Vorstadt 37d, 89423 Gundelfingen
END:VEVENT
END:VCALENDAR