BEGIN:VCALENDAR
VERSION:2.0
PRODID:http://www.kufer.de/kuferweb / DE
METHOD:PUBLISH
CALSCALE:GREGORIAN
X-WR-TIMEZONE:Europe/Berlin
BEGIN:VTIMEZONE
TZID:Europe/Berlin
X-LIC-LOCATION:Europe/Berlin
BEGIN:DAYLIGHT
TZOFFSETFROM:+0100
TZOFFSETTO:+0200
TZNAME:CEST
DTSTART;TZID=Europe/Berlin:19700329T020000
RRULE:FREQ=YEARLY;INTERVAL=1;BYDAY=-1SU;BYMONTH=3
END:DAYLIGHT
BEGIN:STANDARD
TZOFFSETFROM:+0200
TZOFFSETTO:+0100
TZNAME:CET
DTSTART;TZID=Europe/Berlin:19701025T030000
RRULE:FREQ=YEARLY;INTERVAL=1;BYDAY=-1SU;BYMONTH=10
END:STANDARD
END:VTIMEZONE
BEGIN:VEVENT
DTSTAMP:20260426T005319
DTSTART;TZID=Europe/Berlin:20260308T100000
DTEND;TZID=Europe/Berlin:20260308T110000
UID:261G-X170-20260308T100000@VHSDONAUZUSAM
SUMMARY:Strong & Flexible II (261G-X170) 
LOCATION:womens hub Gundelfingen, Obere Vorstadt 37d, 89423 Gundelfingen
END:VEVENT
BEGIN:VEVENT
DTSTAMP:20260426T005319
DTSTART;TZID=Europe/Berlin:20260315T100000
DTEND;TZID=Europe/Berlin:20260315T110000
UID:261G-X170-20260315T100000@VHSDONAUZUSAM
SUMMARY:Strong & Flexible II (261G-X170) 
LOCATION:womens hub Gundelfingen, Obere Vorstadt 37d, 89423 Gundelfingen
END:VEVENT
BEGIN:VEVENT
DTSTAMP:20260426T005319
DTSTART;TZID=Europe/Berlin:20260322T100000
DTEND;TZID=Europe/Berlin:20260322T110000
UID:261G-X170-20260322T100000@VHSDONAUZUSAM
SUMMARY:Strong & Flexible II (261G-X170) 
LOCATION:womens hub Gundelfingen, Obere Vorstadt 37d, 89423 Gundelfingen
END:VEVENT
BEGIN:VEVENT
DTSTAMP:20260426T005319
DTSTART;TZID=Europe/Berlin:20260329T100000
DTEND;TZID=Europe/Berlin:20260329T110000
UID:261G-X170-20260329T100000@VHSDONAUZUSAM
SUMMARY:Strong & Flexible II (261G-X170) 
LOCATION:womens hub Gundelfingen, Obere Vorstadt 37d, 89423 Gundelfingen
END:VEVENT
BEGIN:VEVENT
DTSTAMP:20260426T005319
DTSTART;TZID=Europe/Berlin:20260405T100000
DTEND;TZID=Europe/Berlin:20260405T110000
UID:261G-X170-20260405T100000@VHSDONAUZUSAM
SUMMARY:Strong & Flexible II (261G-X170) 
LOCATION:womens hub Gundelfingen, Obere Vorstadt 37d, 89423 Gundelfingen
END:VEVENT
BEGIN:VEVENT
DTSTAMP:20260426T005319
DTSTART;TZID=Europe/Berlin:20260412T100000
DTEND;TZID=Europe/Berlin:20260412T110000
UID:261G-X170-20260412T100000@VHSDONAUZUSAM
SUMMARY:Strong & Flexible II (261G-X170) 
LOCATION:womens hub Gundelfingen, Obere Vorstadt 37d, 89423 Gundelfingen
END:VEVENT
BEGIN:VEVENT
DTSTAMP:20260426T005319
DTSTART;TZID=Europe/Berlin:20260419T100000
DTEND;TZID=Europe/Berlin:20260419T110000
UID:261G-X170-20260419T100000@VHSDONAUZUSAM
SUMMARY:Strong & Flexible II (261G-X170) 
LOCATION:womens hub Gundelfingen, Obere Vorstadt 37d, 89423 Gundelfingen
END:VEVENT
BEGIN:VEVENT
DTSTAMP:20260426T005319
DTSTART;TZID=Europe/Berlin:20260426T100000
DTEND;TZID=Europe/Berlin:20260426T110000
UID:261G-X170-20260426T100000@VHSDONAUZUSAM
SUMMARY:Strong & Flexible II (261G-X170) 
LOCATION:womens hub Gundelfingen, Obere Vorstadt 37d, 89423 Gundelfingen
END:VEVENT
BEGIN:VEVENT
DTSTAMP:20260426T005319
DTSTART;TZID=Europe/Berlin:20260503T100000
DTEND;TZID=Europe/Berlin:20260503T110000
UID:261G-X170-20260503T100000@VHSDONAUZUSAM
SUMMARY:Strong & Flexible II (261G-X170) 
LOCATION:womens hub Gundelfingen, Obere Vorstadt 37d, 89423 Gundelfingen
END:VEVENT
BEGIN:VEVENT
DTSTAMP:20260426T005319
DTSTART;TZID=Europe/Berlin:20260510T100000
DTEND;TZID=Europe/Berlin:20260510T110000
UID:261G-X170-20260510T100000@VHSDONAUZUSAM
SUMMARY:Strong & Flexible II (261G-X170) 
LOCATION:womens hub Gundelfingen, Obere Vorstadt 37d, 89423 Gundelfingen
END:VEVENT
END:VCALENDAR