BEGIN:VCALENDAR
VERSION:2.0
PRODID:http://www.kufer.de/kuferweb / DE
METHOD:PUBLISH
CALSCALE:GREGORIAN
X-WR-TIMEZONE:Europe/Berlin
BEGIN:VTIMEZONE
TZID:Europe/Berlin
X-LIC-LOCATION:Europe/Berlin
BEGIN:DAYLIGHT
TZOFFSETFROM:+0100
TZOFFSETTO:+0200
TZNAME:CEST
DTSTART;TZID=Europe/Berlin:19700329T020000
RRULE:FREQ=YEARLY;INTERVAL=1;BYDAY=-1SU;BYMONTH=3
END:DAYLIGHT
BEGIN:STANDARD
TZOFFSETFROM:+0200
TZOFFSETTO:+0100
TZNAME:CET
DTSTART;TZID=Europe/Berlin:19701025T030000
RRULE:FREQ=YEARLY;INTERVAL=1;BYDAY=-1SU;BYMONTH=10
END:STANDARD
END:VTIMEZONE
BEGIN:VEVENT
DTSTAMP:20260425T200553
DTSTART;TZID=Europe/Berlin:20260303T184500
DTEND;TZID=Europe/Berlin:20260303T194500
UID:261G-X168-20260303T184500@VHSDONAUZUSAM
SUMMARY:HILIT - High Intensity Low Impact Training (261G-X168) 
LOCATION:womens hub Gundelfingen, Obere Vorstadt 37d, 89423 Gundelfingen
END:VEVENT
BEGIN:VEVENT
DTSTAMP:20260425T200553
DTSTART;TZID=Europe/Berlin:20260310T184500
DTEND;TZID=Europe/Berlin:20260310T194500
UID:261G-X168-20260310T184500@VHSDONAUZUSAM
SUMMARY:HILIT - High Intensity Low Impact Training (261G-X168) 
LOCATION:womens hub Gundelfingen, Obere Vorstadt 37d, 89423 Gundelfingen
END:VEVENT
BEGIN:VEVENT
DTSTAMP:20260425T200553
DTSTART;TZID=Europe/Berlin:20260317T184500
DTEND;TZID=Europe/Berlin:20260317T194500
UID:261G-X168-20260317T184500@VHSDONAUZUSAM
SUMMARY:HILIT - High Intensity Low Impact Training (261G-X168) 
LOCATION:womens hub Gundelfingen, Obere Vorstadt 37d, 89423 Gundelfingen
END:VEVENT
BEGIN:VEVENT
DTSTAMP:20260425T200553
DTSTART;TZID=Europe/Berlin:20260324T184500
DTEND;TZID=Europe/Berlin:20260324T194500
UID:261G-X168-20260324T184500@VHSDONAUZUSAM
SUMMARY:HILIT - High Intensity Low Impact Training (261G-X168) 
LOCATION:womens hub Gundelfingen, Obere Vorstadt 37d, 89423 Gundelfingen
END:VEVENT
BEGIN:VEVENT
DTSTAMP:20260425T200553
DTSTART;TZID=Europe/Berlin:20260331T184500
DTEND;TZID=Europe/Berlin:20260331T194500
UID:261G-X168-20260331T184500@VHSDONAUZUSAM
SUMMARY:HILIT - High Intensity Low Impact Training (261G-X168) 
LOCATION:womens hub Gundelfingen, Obere Vorstadt 37d, 89423 Gundelfingen
END:VEVENT
BEGIN:VEVENT
DTSTAMP:20260425T200553
DTSTART;TZID=Europe/Berlin:20260407T184500
DTEND;TZID=Europe/Berlin:20260407T194500
UID:261G-X168-20260407T184500@VHSDONAUZUSAM
SUMMARY:HILIT - High Intensity Low Impact Training (261G-X168) 
LOCATION:womens hub Gundelfingen, Obere Vorstadt 37d, 89423 Gundelfingen
END:VEVENT
BEGIN:VEVENT
DTSTAMP:20260425T200553
DTSTART;TZID=Europe/Berlin:20260414T184500
DTEND;TZID=Europe/Berlin:20260414T194500
UID:261G-X168-20260414T184500@VHSDONAUZUSAM
SUMMARY:HILIT - High Intensity Low Impact Training (261G-X168) 
LOCATION:womens hub Gundelfingen, Obere Vorstadt 37d, 89423 Gundelfingen
END:VEVENT
BEGIN:VEVENT
DTSTAMP:20260425T200553
DTSTART;TZID=Europe/Berlin:20260421T184500
DTEND;TZID=Europe/Berlin:20260421T194500
UID:261G-X168-20260421T184500@VHSDONAUZUSAM
SUMMARY:HILIT - High Intensity Low Impact Training (261G-X168) 
LOCATION:womens hub Gundelfingen, Obere Vorstadt 37d, 89423 Gundelfingen
END:VEVENT
BEGIN:VEVENT
DTSTAMP:20260425T200553
DTSTART;TZID=Europe/Berlin:20260428T184500
DTEND;TZID=Europe/Berlin:20260428T194500
UID:261G-X168-20260428T184500@VHSDONAUZUSAM
SUMMARY:HILIT - High Intensity Low Impact Training (261G-X168) 
LOCATION:womens hub Gundelfingen, Obere Vorstadt 37d, 89423 Gundelfingen
END:VEVENT
BEGIN:VEVENT
DTSTAMP:20260425T200553
DTSTART;TZID=Europe/Berlin:20260505T184500
DTEND;TZID=Europe/Berlin:20260505T194500
UID:261G-X168-20260505T184500@VHSDONAUZUSAM
SUMMARY:HILIT - High Intensity Low Impact Training (261G-X168) 
LOCATION:womens hub Gundelfingen, Obere Vorstadt 37d, 89423 Gundelfingen
END:VEVENT
END:VCALENDAR