BEGIN:VCALENDAR
VERSION:2.0
PRODID:http://www.kufer.de/kuferweb / DE
METHOD:PUBLISH
CALSCALE:GREGORIAN
X-WR-TIMEZONE:Europe/Berlin
BEGIN:VTIMEZONE
TZID:Europe/Berlin
X-LIC-LOCATION:Europe/Berlin
BEGIN:DAYLIGHT
TZOFFSETFROM:+0100
TZOFFSETTO:+0200
TZNAME:CEST
DTSTART;TZID=Europe/Berlin:19700329T020000
RRULE:FREQ=YEARLY;INTERVAL=1;BYDAY=-1SU;BYMONTH=3
END:DAYLIGHT
BEGIN:STANDARD
TZOFFSETFROM:+0200
TZOFFSETTO:+0100
TZNAME:CET
DTSTART;TZID=Europe/Berlin:19701025T030000
RRULE:FREQ=YEARLY;INTERVAL=1;BYDAY=-1SU;BYMONTH=10
END:STANDARD
END:VTIMEZONE
BEGIN:VEVENT
DTSTAMP:20260426T003636
DTSTART;TZID=Europe/Berlin:20260306T174500
DTEND;TZID=Europe/Berlin:20260306T184500
UID:261G-X167-20260306T174500@VHSDONAUZUSAM
SUMMARY:Functional Step (261G-X167) 
LOCATION:womens hub Gundelfingen, Obere Vorstadt 37d, 89423 Gundelfingen
END:VEVENT
BEGIN:VEVENT
DTSTAMP:20260426T003636
DTSTART;TZID=Europe/Berlin:20260313T174500
DTEND;TZID=Europe/Berlin:20260313T184500
UID:261G-X167-20260313T174500@VHSDONAUZUSAM
SUMMARY:Functional Step (261G-X167) 
LOCATION:womens hub Gundelfingen, Obere Vorstadt 37d, 89423 Gundelfingen
END:VEVENT
BEGIN:VEVENT
DTSTAMP:20260426T003636
DTSTART;TZID=Europe/Berlin:20260320T174500
DTEND;TZID=Europe/Berlin:20260320T184500
UID:261G-X167-20260320T174500@VHSDONAUZUSAM
SUMMARY:Functional Step (261G-X167) 
LOCATION:womens hub Gundelfingen, Obere Vorstadt 37d, 89423 Gundelfingen
END:VEVENT
BEGIN:VEVENT
DTSTAMP:20260426T003636
DTSTART;TZID=Europe/Berlin:20260327T174500
DTEND;TZID=Europe/Berlin:20260327T184500
UID:261G-X167-20260327T174500@VHSDONAUZUSAM
SUMMARY:Functional Step (261G-X167) 
LOCATION:womens hub Gundelfingen, Obere Vorstadt 37d, 89423 Gundelfingen
END:VEVENT
BEGIN:VEVENT
DTSTAMP:20260426T003636
DTSTART;TZID=Europe/Berlin:20260403T174500
DTEND;TZID=Europe/Berlin:20260403T184500
UID:261G-X167-20260403T174500@VHSDONAUZUSAM
SUMMARY:Functional Step (261G-X167) 
LOCATION:womens hub Gundelfingen, Obere Vorstadt 37d, 89423 Gundelfingen
END:VEVENT
BEGIN:VEVENT
DTSTAMP:20260426T003636
DTSTART;TZID=Europe/Berlin:20260410T174500
DTEND;TZID=Europe/Berlin:20260410T184500
UID:261G-X167-20260410T174500@VHSDONAUZUSAM
SUMMARY:Functional Step (261G-X167) 
LOCATION:womens hub Gundelfingen, Obere Vorstadt 37d, 89423 Gundelfingen
END:VEVENT
BEGIN:VEVENT
DTSTAMP:20260426T003636
DTSTART;TZID=Europe/Berlin:20260417T174500
DTEND;TZID=Europe/Berlin:20260417T184500
UID:261G-X167-20260417T174500@VHSDONAUZUSAM
SUMMARY:Functional Step (261G-X167) 
LOCATION:womens hub Gundelfingen, Obere Vorstadt 37d, 89423 Gundelfingen
END:VEVENT
BEGIN:VEVENT
DTSTAMP:20260426T003636
DTSTART;TZID=Europe/Berlin:20260424T174500
DTEND;TZID=Europe/Berlin:20260424T184500
UID:261G-X167-20260424T174500@VHSDONAUZUSAM
SUMMARY:Functional Step (261G-X167) 
LOCATION:womens hub Gundelfingen, Obere Vorstadt 37d, 89423 Gundelfingen
END:VEVENT
BEGIN:VEVENT
DTSTAMP:20260426T003636
DTSTART;TZID=Europe/Berlin:20260501T174500
DTEND;TZID=Europe/Berlin:20260501T184500
UID:261G-X167-20260501T174500@VHSDONAUZUSAM
SUMMARY:Functional Step (261G-X167) 
LOCATION:womens hub Gundelfingen, Obere Vorstadt 37d, 89423 Gundelfingen
END:VEVENT
BEGIN:VEVENT
DTSTAMP:20260426T003636
DTSTART;TZID=Europe/Berlin:20260508T174500
DTEND;TZID=Europe/Berlin:20260508T184500
UID:261G-X167-20260508T174500@VHSDONAUZUSAM
SUMMARY:Functional Step (261G-X167) 
LOCATION:womens hub Gundelfingen, Obere Vorstadt 37d, 89423 Gundelfingen
END:VEVENT
END:VCALENDAR