BEGIN:VCALENDAR
VERSION:2.0
PRODID:http://www.kufer.de/kuferweb / DE
METHOD:PUBLISH
CALSCALE:GREGORIAN
X-WR-TIMEZONE:Europe/Berlin
BEGIN:VTIMEZONE
TZID:Europe/Berlin
X-LIC-LOCATION:Europe/Berlin
BEGIN:DAYLIGHT
TZOFFSETFROM:+0100
TZOFFSETTO:+0200
TZNAME:CEST
DTSTART;TZID=Europe/Berlin:19700329T020000
RRULE:FREQ=YEARLY;INTERVAL=1;BYDAY=-1SU;BYMONTH=3
END:DAYLIGHT
BEGIN:STANDARD
TZOFFSETFROM:+0200
TZOFFSETTO:+0100
TZNAME:CET
DTSTART;TZID=Europe/Berlin:19701025T030000
RRULE:FREQ=YEARLY;INTERVAL=1;BYDAY=-1SU;BYMONTH=10
END:STANDARD
END:VTIMEZONE
BEGIN:VEVENT
DTSTAMP:20260426T012514
DTSTART;TZID=Europe/Berlin:20260307T090000
DTEND;TZID=Europe/Berlin:20260307T100000
UID:261G-X165-20260307T090000@VHSDONAUZUSAM
SUMMARY:Zirkeltraining III (261G-X165) 
LOCATION:womens hub Gundelfingen, Obere Vorstadt 37d, 89423 Gundelfingen
END:VEVENT
BEGIN:VEVENT
DTSTAMP:20260426T012514
DTSTART;TZID=Europe/Berlin:20260314T090000
DTEND;TZID=Europe/Berlin:20260314T100000
UID:261G-X165-20260314T090000@VHSDONAUZUSAM
SUMMARY:Zirkeltraining III (261G-X165) 
LOCATION:womens hub Gundelfingen, Obere Vorstadt 37d, 89423 Gundelfingen
END:VEVENT
BEGIN:VEVENT
DTSTAMP:20260426T012514
DTSTART;TZID=Europe/Berlin:20260321T090000
DTEND;TZID=Europe/Berlin:20260321T100000
UID:261G-X165-20260321T090000@VHSDONAUZUSAM
SUMMARY:Zirkeltraining III (261G-X165) 
LOCATION:womens hub Gundelfingen, Obere Vorstadt 37d, 89423 Gundelfingen
END:VEVENT
BEGIN:VEVENT
DTSTAMP:20260426T012514
DTSTART;TZID=Europe/Berlin:20260328T090000
DTEND;TZID=Europe/Berlin:20260328T100000
UID:261G-X165-20260328T090000@VHSDONAUZUSAM
SUMMARY:Zirkeltraining III (261G-X165) 
LOCATION:womens hub Gundelfingen, Obere Vorstadt 37d, 89423 Gundelfingen
END:VEVENT
BEGIN:VEVENT
DTSTAMP:20260426T012514
DTSTART;TZID=Europe/Berlin:20260404T090000
DTEND;TZID=Europe/Berlin:20260404T100000
UID:261G-X165-20260404T090000@VHSDONAUZUSAM
SUMMARY:Zirkeltraining III (261G-X165) 
LOCATION:womens hub Gundelfingen, Obere Vorstadt 37d, 89423 Gundelfingen
END:VEVENT
BEGIN:VEVENT
DTSTAMP:20260426T012514
DTSTART;TZID=Europe/Berlin:20260411T090000
DTEND;TZID=Europe/Berlin:20260411T100000
UID:261G-X165-20260411T090000@VHSDONAUZUSAM
SUMMARY:Zirkeltraining III (261G-X165) 
LOCATION:womens hub Gundelfingen, Obere Vorstadt 37d, 89423 Gundelfingen
END:VEVENT
BEGIN:VEVENT
DTSTAMP:20260426T012514
DTSTART;TZID=Europe/Berlin:20260418T090000
DTEND;TZID=Europe/Berlin:20260418T100000
UID:261G-X165-20260418T090000@VHSDONAUZUSAM
SUMMARY:Zirkeltraining III (261G-X165) 
LOCATION:womens hub Gundelfingen, Obere Vorstadt 37d, 89423 Gundelfingen
END:VEVENT
BEGIN:VEVENT
DTSTAMP:20260426T012514
DTSTART;TZID=Europe/Berlin:20260425T090000
DTEND;TZID=Europe/Berlin:20260425T100000
UID:261G-X165-20260425T090000@VHSDONAUZUSAM
SUMMARY:Zirkeltraining III (261G-X165) 
LOCATION:womens hub Gundelfingen, Obere Vorstadt 37d, 89423 Gundelfingen
END:VEVENT
BEGIN:VEVENT
DTSTAMP:20260426T012514
DTSTART;TZID=Europe/Berlin:20260502T090000
DTEND;TZID=Europe/Berlin:20260502T100000
UID:261G-X165-20260502T090000@VHSDONAUZUSAM
SUMMARY:Zirkeltraining III (261G-X165) 
LOCATION:womens hub Gundelfingen, Obere Vorstadt 37d, 89423 Gundelfingen
END:VEVENT
BEGIN:VEVENT
DTSTAMP:20260426T012514
DTSTART;TZID=Europe/Berlin:20260509T090000
DTEND;TZID=Europe/Berlin:20260509T100000
UID:261G-X165-20260509T090000@VHSDONAUZUSAM
SUMMARY:Zirkeltraining III (261G-X165) 
LOCATION:womens hub Gundelfingen, Obere Vorstadt 37d, 89423 Gundelfingen
END:VEVENT
END:VCALENDAR