BEGIN:VCALENDAR
VERSION:2.0
PRODID:http://www.kufer.de/kuferweb / DE
METHOD:PUBLISH
CALSCALE:GREGORIAN
X-WR-TIMEZONE:Europe/Berlin
BEGIN:VTIMEZONE
TZID:Europe/Berlin
X-LIC-LOCATION:Europe/Berlin
BEGIN:DAYLIGHT
TZOFFSETFROM:+0100
TZOFFSETTO:+0200
TZNAME:CEST
DTSTART;TZID=Europe/Berlin:19700329T020000
RRULE:FREQ=YEARLY;INTERVAL=1;BYDAY=-1SU;BYMONTH=3
END:DAYLIGHT
BEGIN:STANDARD
TZOFFSETFROM:+0200
TZOFFSETTO:+0100
TZNAME:CET
DTSTART;TZID=Europe/Berlin:19701025T030000
RRULE:FREQ=YEARLY;INTERVAL=1;BYDAY=-1SU;BYMONTH=10
END:STANDARD
END:VTIMEZONE
BEGIN:VEVENT
DTSTAMP:20260426T012549
DTSTART;TZID=Europe/Berlin:20260305T180000
DTEND;TZID=Europe/Berlin:20260305T190000
UID:261G-X164-20260305T180000@VHSDONAUZUSAM
SUMMARY:Zirkeltraining II (261G-X164) 
LOCATION:womens hub Gundelfingen, Obere Vorstadt 37d, 89423 Gundelfingen
END:VEVENT
BEGIN:VEVENT
DTSTAMP:20260426T012549
DTSTART;TZID=Europe/Berlin:20260312T180000
DTEND;TZID=Europe/Berlin:20260312T190000
UID:261G-X164-20260312T180000@VHSDONAUZUSAM
SUMMARY:Zirkeltraining II (261G-X164) 
LOCATION:womens hub Gundelfingen, Obere Vorstadt 37d, 89423 Gundelfingen
END:VEVENT
BEGIN:VEVENT
DTSTAMP:20260426T012549
DTSTART;TZID=Europe/Berlin:20260319T180000
DTEND;TZID=Europe/Berlin:20260319T190000
UID:261G-X164-20260319T180000@VHSDONAUZUSAM
SUMMARY:Zirkeltraining II (261G-X164) 
LOCATION:womens hub Gundelfingen, Obere Vorstadt 37d, 89423 Gundelfingen
END:VEVENT
BEGIN:VEVENT
DTSTAMP:20260426T012549
DTSTART;TZID=Europe/Berlin:20260326T180000
DTEND;TZID=Europe/Berlin:20260326T190000
UID:261G-X164-20260326T180000@VHSDONAUZUSAM
SUMMARY:Zirkeltraining II (261G-X164) 
LOCATION:womens hub Gundelfingen, Obere Vorstadt 37d, 89423 Gundelfingen
END:VEVENT
BEGIN:VEVENT
DTSTAMP:20260426T012549
DTSTART;TZID=Europe/Berlin:20260402T180000
DTEND;TZID=Europe/Berlin:20260402T190000
UID:261G-X164-20260402T180000@VHSDONAUZUSAM
SUMMARY:Zirkeltraining II (261G-X164) 
LOCATION:womens hub Gundelfingen, Obere Vorstadt 37d, 89423 Gundelfingen
END:VEVENT
BEGIN:VEVENT
DTSTAMP:20260426T012549
DTSTART;TZID=Europe/Berlin:20260409T180000
DTEND;TZID=Europe/Berlin:20260409T190000
UID:261G-X164-20260409T180000@VHSDONAUZUSAM
SUMMARY:Zirkeltraining II (261G-X164) 
LOCATION:womens hub Gundelfingen, Obere Vorstadt 37d, 89423 Gundelfingen
END:VEVENT
BEGIN:VEVENT
DTSTAMP:20260426T012549
DTSTART;TZID=Europe/Berlin:20260416T180000
DTEND;TZID=Europe/Berlin:20260416T190000
UID:261G-X164-20260416T180000@VHSDONAUZUSAM
SUMMARY:Zirkeltraining II (261G-X164) 
LOCATION:womens hub Gundelfingen, Obere Vorstadt 37d, 89423 Gundelfingen
END:VEVENT
BEGIN:VEVENT
DTSTAMP:20260426T012549
DTSTART;TZID=Europe/Berlin:20260423T180000
DTEND;TZID=Europe/Berlin:20260423T190000
UID:261G-X164-20260423T180000@VHSDONAUZUSAM
SUMMARY:Zirkeltraining II (261G-X164) 
LOCATION:womens hub Gundelfingen, Obere Vorstadt 37d, 89423 Gundelfingen
END:VEVENT
BEGIN:VEVENT
DTSTAMP:20260426T012549
DTSTART;TZID=Europe/Berlin:20260430T180000
DTEND;TZID=Europe/Berlin:20260430T190000
UID:261G-X164-20260430T180000@VHSDONAUZUSAM
SUMMARY:Zirkeltraining II (261G-X164) 
LOCATION:womens hub Gundelfingen, Obere Vorstadt 37d, 89423 Gundelfingen
END:VEVENT
BEGIN:VEVENT
DTSTAMP:20260426T012549
DTSTART;TZID=Europe/Berlin:20260507T180000
DTEND;TZID=Europe/Berlin:20260507T190000
UID:261G-X164-20260507T180000@VHSDONAUZUSAM
SUMMARY:Zirkeltraining II (261G-X164) 
LOCATION:womens hub Gundelfingen, Obere Vorstadt 37d, 89423 Gundelfingen
END:VEVENT
END:VCALENDAR