BEGIN:VCALENDAR
VERSION:2.0
PRODID:http://www.kufer.de/kuferweb / DE
METHOD:PUBLISH
CALSCALE:GREGORIAN
X-WR-TIMEZONE:Europe/Berlin
BEGIN:VTIMEZONE
TZID:Europe/Berlin
X-LIC-LOCATION:Europe/Berlin
BEGIN:DAYLIGHT
TZOFFSETFROM:+0100
TZOFFSETTO:+0200
TZNAME:CEST
DTSTART;TZID=Europe/Berlin:19700329T020000
RRULE:FREQ=YEARLY;INTERVAL=1;BYDAY=-1SU;BYMONTH=3
END:DAYLIGHT
BEGIN:STANDARD
TZOFFSETFROM:+0200
TZOFFSETTO:+0100
TZNAME:CET
DTSTART;TZID=Europe/Berlin:19701025T030000
RRULE:FREQ=YEARLY;INTERVAL=1;BYDAY=-1SU;BYMONTH=10
END:STANDARD
END:VTIMEZONE
BEGIN:VEVENT
DTSTAMP:20260426T012630
DTSTART;TZID=Europe/Berlin:20260303T173000
DTEND;TZID=Europe/Berlin:20260303T183000
UID:261G-X163-20260303T173000@VHSDONAUZUSAM
SUMMARY:Zirkeltraining I (261G-X163) 
LOCATION:womens hub Gundelfingen, Obere Vorstadt 37d, 89423 Gundelfingen
END:VEVENT
BEGIN:VEVENT
DTSTAMP:20260426T012630
DTSTART;TZID=Europe/Berlin:20260310T173000
DTEND;TZID=Europe/Berlin:20260310T183000
UID:261G-X163-20260310T173000@VHSDONAUZUSAM
SUMMARY:Zirkeltraining I (261G-X163) 
LOCATION:womens hub Gundelfingen, Obere Vorstadt 37d, 89423 Gundelfingen
END:VEVENT
BEGIN:VEVENT
DTSTAMP:20260426T012630
DTSTART;TZID=Europe/Berlin:20260317T173000
DTEND;TZID=Europe/Berlin:20260317T183000
UID:261G-X163-20260317T173000@VHSDONAUZUSAM
SUMMARY:Zirkeltraining I (261G-X163) 
LOCATION:womens hub Gundelfingen, Obere Vorstadt 37d, 89423 Gundelfingen
END:VEVENT
BEGIN:VEVENT
DTSTAMP:20260426T012630
DTSTART;TZID=Europe/Berlin:20260324T173000
DTEND;TZID=Europe/Berlin:20260324T183000
UID:261G-X163-20260324T173000@VHSDONAUZUSAM
SUMMARY:Zirkeltraining I (261G-X163) 
LOCATION:womens hub Gundelfingen, Obere Vorstadt 37d, 89423 Gundelfingen
END:VEVENT
BEGIN:VEVENT
DTSTAMP:20260426T012630
DTSTART;TZID=Europe/Berlin:20260331T173000
DTEND;TZID=Europe/Berlin:20260331T183000
UID:261G-X163-20260331T173000@VHSDONAUZUSAM
SUMMARY:Zirkeltraining I (261G-X163) 
LOCATION:womens hub Gundelfingen, Obere Vorstadt 37d, 89423 Gundelfingen
END:VEVENT
BEGIN:VEVENT
DTSTAMP:20260426T012630
DTSTART;TZID=Europe/Berlin:20260407T173000
DTEND;TZID=Europe/Berlin:20260407T183000
UID:261G-X163-20260407T173000@VHSDONAUZUSAM
SUMMARY:Zirkeltraining I (261G-X163) 
LOCATION:womens hub Gundelfingen, Obere Vorstadt 37d, 89423 Gundelfingen
END:VEVENT
BEGIN:VEVENT
DTSTAMP:20260426T012630
DTSTART;TZID=Europe/Berlin:20260414T173000
DTEND;TZID=Europe/Berlin:20260414T183000
UID:261G-X163-20260414T173000@VHSDONAUZUSAM
SUMMARY:Zirkeltraining I (261G-X163) 
LOCATION:womens hub Gundelfingen, Obere Vorstadt 37d, 89423 Gundelfingen
END:VEVENT
BEGIN:VEVENT
DTSTAMP:20260426T012630
DTSTART;TZID=Europe/Berlin:20260421T173000
DTEND;TZID=Europe/Berlin:20260421T183000
UID:261G-X163-20260421T173000@VHSDONAUZUSAM
SUMMARY:Zirkeltraining I (261G-X163) 
LOCATION:womens hub Gundelfingen, Obere Vorstadt 37d, 89423 Gundelfingen
END:VEVENT
BEGIN:VEVENT
DTSTAMP:20260426T012630
DTSTART;TZID=Europe/Berlin:20260428T173000
DTEND;TZID=Europe/Berlin:20260428T183000
UID:261G-X163-20260428T173000@VHSDONAUZUSAM
SUMMARY:Zirkeltraining I (261G-X163) 
LOCATION:womens hub Gundelfingen, Obere Vorstadt 37d, 89423 Gundelfingen
END:VEVENT
BEGIN:VEVENT
DTSTAMP:20260426T012630
DTSTART;TZID=Europe/Berlin:20260505T173000
DTEND;TZID=Europe/Berlin:20260505T183000
UID:261G-X163-20260505T173000@VHSDONAUZUSAM
SUMMARY:Zirkeltraining I (261G-X163) 
LOCATION:womens hub Gundelfingen, Obere Vorstadt 37d, 89423 Gundelfingen
END:VEVENT
END:VCALENDAR