BEGIN:VCALENDAR
VERSION:2.0
PRODID:http://www.kufer.de/kuferweb / DE
METHOD:PUBLISH
CALSCALE:GREGORIAN
X-WR-TIMEZONE:Europe/Berlin
BEGIN:VTIMEZONE
TZID:Europe/Berlin
X-LIC-LOCATION:Europe/Berlin
BEGIN:DAYLIGHT
TZOFFSETFROM:+0100
TZOFFSETTO:+0200
TZNAME:CEST
DTSTART;TZID=Europe/Berlin:19700329T020000
RRULE:FREQ=YEARLY;INTERVAL=1;BYDAY=-1SU;BYMONTH=3
END:DAYLIGHT
BEGIN:STANDARD
TZOFFSETFROM:+0200
TZOFFSETTO:+0100
TZNAME:CET
DTSTART;TZID=Europe/Berlin:19701025T030000
RRULE:FREQ=YEARLY;INTERVAL=1;BYDAY=-1SU;BYMONTH=10
END:STANDARD
END:VTIMEZONE
BEGIN:VEVENT
DTSTAMP:20260425T054925
DTSTART;TZID=Europe/Berlin:20260311T090000
DTEND;TZID=Europe/Berlin:20260311T103000
UID:261G-S110-20260311T090000@VHSDONAUZUSAM
SUMMARY:Spanisch am Vormittag (A2) (261G-S110) 
LOCATION:Walkmühle, Obere Bleiche 1, 89423 Gundelfingen
END:VEVENT
BEGIN:VEVENT
DTSTAMP:20260425T054925
DTSTART;TZID=Europe/Berlin:20260318T090000
DTEND;TZID=Europe/Berlin:20260318T103000
UID:261G-S110-20260318T090000@VHSDONAUZUSAM
SUMMARY:Spanisch am Vormittag (A2) (261G-S110) 
LOCATION:Walkmühle, Obere Bleiche 1, 89423 Gundelfingen
END:VEVENT
BEGIN:VEVENT
DTSTAMP:20260425T054925
DTSTART;TZID=Europe/Berlin:20260325T090000
DTEND;TZID=Europe/Berlin:20260325T103000
UID:261G-S110-20260325T090000@VHSDONAUZUSAM
SUMMARY:Spanisch am Vormittag (A2) (261G-S110) 
LOCATION:Walkmühle, Obere Bleiche 1, 89423 Gundelfingen
END:VEVENT
BEGIN:VEVENT
DTSTAMP:20260425T054925
DTSTART;TZID=Europe/Berlin:20260415T090000
DTEND;TZID=Europe/Berlin:20260415T103000
UID:261G-S110-20260415T090000@VHSDONAUZUSAM
SUMMARY:Spanisch am Vormittag (A2) (261G-S110) 
LOCATION:Walkmühle, Obere Bleiche 1, 89423 Gundelfingen
END:VEVENT
BEGIN:VEVENT
DTSTAMP:20260425T054925
DTSTART;TZID=Europe/Berlin:20260422T090000
DTEND;TZID=Europe/Berlin:20260422T103000
UID:261G-S110-20260422T090000@VHSDONAUZUSAM
SUMMARY:Spanisch am Vormittag (A2) (261G-S110) 
LOCATION:Walkmühle, Obere Bleiche 1, 89423 Gundelfingen
END:VEVENT
BEGIN:VEVENT
DTSTAMP:20260425T054925
DTSTART;TZID=Europe/Berlin:20260429T090000
DTEND;TZID=Europe/Berlin:20260429T103000
UID:261G-S110-20260429T090000@VHSDONAUZUSAM
SUMMARY:Spanisch am Vormittag (A2) (261G-S110) 
LOCATION:Walkmühle, Obere Bleiche 1, 89423 Gundelfingen
END:VEVENT
BEGIN:VEVENT
DTSTAMP:20260425T054925
DTSTART;TZID=Europe/Berlin:20260506T090000
DTEND;TZID=Europe/Berlin:20260506T103000
UID:261G-S110-20260506T090000@VHSDONAUZUSAM
SUMMARY:Spanisch am Vormittag (A2) (261G-S110) 
LOCATION:Walkmühle, Obere Bleiche 1, 89423 Gundelfingen
END:VEVENT
BEGIN:VEVENT
DTSTAMP:20260425T054925
DTSTART;TZID=Europe/Berlin:20260513T090000
DTEND;TZID=Europe/Berlin:20260513T103000
UID:261G-S110-20260513T090000@VHSDONAUZUSAM
SUMMARY:Spanisch am Vormittag (A2) (261G-S110) 
LOCATION:Walkmühle, Obere Bleiche 1, 89423 Gundelfingen
END:VEVENT
BEGIN:VEVENT
DTSTAMP:20260425T054925
DTSTART;TZID=Europe/Berlin:20260520T090000
DTEND;TZID=Europe/Berlin:20260520T103000
UID:261G-S110-20260520T090000@VHSDONAUZUSAM
SUMMARY:Spanisch am Vormittag (A2) (261G-S110) 
LOCATION:Walkmühle, Obere Bleiche 1, 89423 Gundelfingen
END:VEVENT
BEGIN:VEVENT
DTSTAMP:20260425T054925
DTSTART;TZID=Europe/Berlin:20260610T090000
DTEND;TZID=Europe/Berlin:20260610T103000
UID:261G-S110-20260610T090000@VHSDONAUZUSAM
SUMMARY:Spanisch am Vormittag (A2) (261G-S110) 
LOCATION:Walkmühle, Obere Bleiche 1, 89423 Gundelfingen
END:VEVENT
BEGIN:VEVENT
DTSTAMP:20260425T054925
DTSTART;TZID=Europe/Berlin:20260617T090000
DTEND;TZID=Europe/Berlin:20260617T103000
UID:261G-S110-20260617T090000@VHSDONAUZUSAM
SUMMARY:Spanisch am Vormittag (A2) (261G-S110) 
LOCATION:Walkmühle, Obere Bleiche 1, 89423 Gundelfingen
END:VEVENT
BEGIN:VEVENT
DTSTAMP:20260425T054925
DTSTART;TZID=Europe/Berlin:20260624T090000
DTEND;TZID=Europe/Berlin:20260624T103000
UID:261G-S110-20260624T090000@VHSDONAUZUSAM
SUMMARY:Spanisch am Vormittag (A2) (261G-S110) 
LOCATION:Walkmühle, Obere Bleiche 1, 89423 Gundelfingen
END:VEVENT
END:VCALENDAR