BEGIN:VCALENDAR
VERSION:2.0
PRODID:http://www.kufer.de/kuferweb / DE
METHOD:PUBLISH
CALSCALE:GREGORIAN
X-WR-TIMEZONE:Europe/Berlin
BEGIN:VTIMEZONE
TZID:Europe/Berlin
X-LIC-LOCATION:Europe/Berlin
BEGIN:DAYLIGHT
TZOFFSETFROM:+0100
TZOFFSETTO:+0200
TZNAME:CEST
DTSTART;TZID=Europe/Berlin:19700329T020000
RRULE:FREQ=YEARLY;INTERVAL=1;BYDAY=-1SU;BYMONTH=3
END:DAYLIGHT
BEGIN:STANDARD
TZOFFSETFROM:+0200
TZOFFSETTO:+0100
TZNAME:CET
DTSTART;TZID=Europe/Berlin:19701025T030000
RRULE:FREQ=YEARLY;INTERVAL=1;BYDAY=-1SU;BYMONTH=10
END:STANDARD
END:VTIMEZONE
BEGIN:VEVENT
DTSTAMP:20260425T060511
DTSTART;TZID=Europe/Berlin:20260305T183000
DTEND;TZID=Europe/Berlin:20260305T200000
UID:261G-S104-20260305T183000@VHSDONAUZUSAM
SUMMARY:Französisch für Wiedereinsteiger (A2) - Fortführung (261G-S104) 
LOCATION:Mittelschule Gundelfingen, Raum 07, EG, Schlachteggstr.2, 89423 Gundelfingen
END:VEVENT
BEGIN:VEVENT
DTSTAMP:20260425T060511
DTSTART;TZID=Europe/Berlin:20260312T183000
DTEND;TZID=Europe/Berlin:20260312T200000
UID:261G-S104-20260312T183000@VHSDONAUZUSAM
SUMMARY:Französisch für Wiedereinsteiger (A2) - Fortführung (261G-S104) 
LOCATION:Mittelschule Gundelfingen, Raum 07, EG, Schlachteggstr.2, 89423 Gundelfingen
END:VEVENT
BEGIN:VEVENT
DTSTAMP:20260425T060511
DTSTART;TZID=Europe/Berlin:20260319T183000
DTEND;TZID=Europe/Berlin:20260319T200000
UID:261G-S104-20260319T183000@VHSDONAUZUSAM
SUMMARY:Französisch für Wiedereinsteiger (A2) - Fortführung (261G-S104) 
LOCATION:Mittelschule Gundelfingen, Raum 07, EG, Schlachteggstr.2, 89423 Gundelfingen
END:VEVENT
BEGIN:VEVENT
DTSTAMP:20260425T060511
DTSTART;TZID=Europe/Berlin:20260326T183000
DTEND;TZID=Europe/Berlin:20260326T200000
UID:261G-S104-20260326T183000@VHSDONAUZUSAM
SUMMARY:Französisch für Wiedereinsteiger (A2) - Fortführung (261G-S104) 
LOCATION:Mittelschule Gundelfingen, Raum 07, EG, Schlachteggstr.2, 89423 Gundelfingen
END:VEVENT
BEGIN:VEVENT
DTSTAMP:20260425T060511
DTSTART;TZID=Europe/Berlin:20260416T183000
DTEND;TZID=Europe/Berlin:20260416T200000
UID:261G-S104-20260416T183000@VHSDONAUZUSAM
SUMMARY:Französisch für Wiedereinsteiger (A2) - Fortführung (261G-S104) 
LOCATION:Mittelschule Gundelfingen, Raum 07, EG, Schlachteggstr.2, 89423 Gundelfingen
END:VEVENT
BEGIN:VEVENT
DTSTAMP:20260425T060511
DTSTART;TZID=Europe/Berlin:20260423T183000
DTEND;TZID=Europe/Berlin:20260423T200000
UID:261G-S104-20260423T183000@VHSDONAUZUSAM
SUMMARY:Französisch für Wiedereinsteiger (A2) - Fortführung (261G-S104) 
LOCATION:Mittelschule Gundelfingen, Raum 07, EG, Schlachteggstr.2, 89423 Gundelfingen
END:VEVENT
BEGIN:VEVENT
DTSTAMP:20260425T060511
DTSTART;TZID=Europe/Berlin:20260430T183000
DTEND;TZID=Europe/Berlin:20260430T200000
UID:261G-S104-20260430T183000@VHSDONAUZUSAM
SUMMARY:Französisch für Wiedereinsteiger (A2) - Fortführung (261G-S104) 
LOCATION:Mittelschule Gundelfingen, Raum 07, EG, Schlachteggstr.2, 89423 Gundelfingen
END:VEVENT
BEGIN:VEVENT
DTSTAMP:20260425T060511
DTSTART;TZID=Europe/Berlin:20260507T183000
DTEND;TZID=Europe/Berlin:20260507T200000
UID:261G-S104-20260507T183000@VHSDONAUZUSAM
SUMMARY:Französisch für Wiedereinsteiger (A2) - Fortführung (261G-S104) 
LOCATION:Mittelschule Gundelfingen, Raum 07, EG, Schlachteggstr.2, 89423 Gundelfingen
END:VEVENT
BEGIN:VEVENT
DTSTAMP:20260425T060511
DTSTART;TZID=Europe/Berlin:20260521T183000
DTEND;TZID=Europe/Berlin:20260521T200000
UID:261G-S104-20260521T183000@VHSDONAUZUSAM
SUMMARY:Französisch für Wiedereinsteiger (A2) - Fortführung (261G-S104) 
LOCATION:Mittelschule Gundelfingen, Raum 07, EG, Schlachteggstr.2, 89423 Gundelfingen
END:VEVENT
BEGIN:VEVENT
DTSTAMP:20260425T060511
DTSTART;TZID=Europe/Berlin:20260611T183000
DTEND;TZID=Europe/Berlin:20260611T200000
UID:261G-S104-20260611T183000@VHSDONAUZUSAM
SUMMARY:Französisch für Wiedereinsteiger (A2) - Fortführung (261G-S104) 
LOCATION:Mittelschule Gundelfingen, Raum 07, EG, Schlachteggstr.2, 89423 Gundelfingen
END:VEVENT
END:VCALENDAR