BEGIN:VCALENDAR
VERSION:2.0
PRODID:http://www.kufer.de/kuferweb / DE
METHOD:PUBLISH
CALSCALE:GREGORIAN
X-WR-TIMEZONE:Europe/Berlin
BEGIN:VTIMEZONE
TZID:Europe/Berlin
X-LIC-LOCATION:Europe/Berlin
BEGIN:DAYLIGHT
TZOFFSETFROM:+0100
TZOFFSETTO:+0200
TZNAME:CEST
DTSTART;TZID=Europe/Berlin:19700329T020000
RRULE:FREQ=YEARLY;INTERVAL=1;BYDAY=-1SU;BYMONTH=3
END:DAYLIGHT
BEGIN:STANDARD
TZOFFSETFROM:+0200
TZOFFSETTO:+0100
TZNAME:CET
DTSTART;TZID=Europe/Berlin:19701025T030000
RRULE:FREQ=YEARLY;INTERVAL=1;BYDAY=-1SU;BYMONTH=10
END:STANDARD
END:VTIMEZONE
BEGIN:VEVENT
DTSTAMP:20260426T005208
DTSTART;TZID=Europe/Berlin:20260303T180000
DTEND;TZID=Europe/Berlin:20260303T210000
UID:261G-K200-20260303T180000@VHSDONAUZUSAM
SUMMARY:Patchwork-Treff (261G-K200) 
LOCATION:Walkmühle, Obere Bleiche 1, 89423 Gundelfingen
END:VEVENT
BEGIN:VEVENT
DTSTAMP:20260426T005208
DTSTART;TZID=Europe/Berlin:20260407T180000
DTEND;TZID=Europe/Berlin:20260407T210000
UID:261G-K200-20260407T180000@VHSDONAUZUSAM
SUMMARY:Patchwork-Treff (261G-K200) 
LOCATION:Walkmühle, Obere Bleiche 1, 89423 Gundelfingen
END:VEVENT
BEGIN:VEVENT
DTSTAMP:20260426T005208
DTSTART;TZID=Europe/Berlin:20260505T180000
DTEND;TZID=Europe/Berlin:20260505T210000
UID:261G-K200-20260505T180000@VHSDONAUZUSAM
SUMMARY:Patchwork-Treff (261G-K200) 
LOCATION:Walkmühle, Obere Bleiche 1, 89423 Gundelfingen
END:VEVENT
BEGIN:VEVENT
DTSTAMP:20260426T005208
DTSTART;TZID=Europe/Berlin:20260602T180000
DTEND;TZID=Europe/Berlin:20260602T210000
UID:261G-K200-20260602T180000@VHSDONAUZUSAM
SUMMARY:Patchwork-Treff (261G-K200) 
LOCATION:Walkmühle, Obere Bleiche 1, 89423 Gundelfingen
END:VEVENT
BEGIN:VEVENT
DTSTAMP:20260426T005208
DTSTART;TZID=Europe/Berlin:20260707T180000
DTEND;TZID=Europe/Berlin:20260707T210000
UID:261G-K200-20260707T180000@VHSDONAUZUSAM
SUMMARY:Patchwork-Treff (261G-K200) 
LOCATION:Walkmühle, Obere Bleiche 1, 89423 Gundelfingen
END:VEVENT
END:VCALENDAR