BEGIN:VCALENDAR
VERSION:2.0
PRODID:http://www.kufer.de/kuferweb / DE
METHOD:PUBLISH
CALSCALE:GREGORIAN
X-WR-TIMEZONE:Europe/Berlin
BEGIN:VTIMEZONE
TZID:Europe/Berlin
X-LIC-LOCATION:Europe/Berlin
BEGIN:DAYLIGHT
TZOFFSETFROM:+0100
TZOFFSETTO:+0200
TZNAME:CEST
DTSTART;TZID=Europe/Berlin:19700329T020000
RRULE:FREQ=YEARLY;INTERVAL=1;BYDAY=-1SU;BYMONTH=3
END:DAYLIGHT
BEGIN:STANDARD
TZOFFSETFROM:+0200
TZOFFSETTO:+0100
TZNAME:CET
DTSTART;TZID=Europe/Berlin:19701025T030000
RRULE:FREQ=YEARLY;INTERVAL=1;BYDAY=-1SU;BYMONTH=10
END:STANDARD
END:VTIMEZONE
BEGIN:VEVENT
DTSTAMP:20260425T211549
DTSTART;TZID=Europe/Berlin:20260303T170000
DTEND;TZID=Europe/Berlin:20260303T180000
UID:261G-G131-20260303T170000@VHSDONAUZUSAM
SUMMARY:Funktionelles Training - stark, stabil und beweglich (261G-G131) 
LOCATION:Mittelschule Gundelfingen, Turnhalle, Schlachteggstr. 2, 89423 Gundelfingen
END:VEVENT
BEGIN:VEVENT
DTSTAMP:20260425T211549
DTSTART;TZID=Europe/Berlin:20260310T170000
DTEND;TZID=Europe/Berlin:20260310T180000
UID:261G-G131-20260310T170000@VHSDONAUZUSAM
SUMMARY:Funktionelles Training - stark, stabil und beweglich (261G-G131) 
LOCATION:Mittelschule Gundelfingen, Turnhalle, Schlachteggstr. 2, 89423 Gundelfingen
END:VEVENT
BEGIN:VEVENT
DTSTAMP:20260425T211549
DTSTART;TZID=Europe/Berlin:20260317T170000
DTEND;TZID=Europe/Berlin:20260317T180000
UID:261G-G131-20260317T170000@VHSDONAUZUSAM
SUMMARY:Funktionelles Training - stark, stabil und beweglich (261G-G131) 
LOCATION:Mittelschule Gundelfingen, Turnhalle, Schlachteggstr. 2, 89423 Gundelfingen
END:VEVENT
BEGIN:VEVENT
DTSTAMP:20260425T211549
DTSTART;TZID=Europe/Berlin:20260324T170000
DTEND;TZID=Europe/Berlin:20260324T180000
UID:261G-G131-20260324T170000@VHSDONAUZUSAM
SUMMARY:Funktionelles Training - stark, stabil und beweglich (261G-G131) 
LOCATION:Mittelschule Gundelfingen, Turnhalle, Schlachteggstr. 2, 89423 Gundelfingen
END:VEVENT
BEGIN:VEVENT
DTSTAMP:20260425T211549
DTSTART;TZID=Europe/Berlin:20260414T170000
DTEND;TZID=Europe/Berlin:20260414T180000
UID:261G-G131-20260414T170000@VHSDONAUZUSAM
SUMMARY:Funktionelles Training - stark, stabil und beweglich (261G-G131) 
LOCATION:Mittelschule Gundelfingen, Turnhalle, Schlachteggstr. 2, 89423 Gundelfingen
END:VEVENT
BEGIN:VEVENT
DTSTAMP:20260425T211549
DTSTART;TZID=Europe/Berlin:20260421T170000
DTEND;TZID=Europe/Berlin:20260421T180000
UID:261G-G131-20260421T170000@VHSDONAUZUSAM
SUMMARY:Funktionelles Training - stark, stabil und beweglich (261G-G131) 
LOCATION:Mittelschule Gundelfingen, Turnhalle, Schlachteggstr. 2, 89423 Gundelfingen
END:VEVENT
BEGIN:VEVENT
DTSTAMP:20260425T211549
DTSTART;TZID=Europe/Berlin:20260512T170000
DTEND;TZID=Europe/Berlin:20260512T180000
UID:261G-G131-20260512T170000@VHSDONAUZUSAM
SUMMARY:Funktionelles Training - stark, stabil und beweglich (261G-G131) 
LOCATION:Mittelschule Gundelfingen, Turnhalle, Schlachteggstr. 2, 89423 Gundelfingen
END:VEVENT
BEGIN:VEVENT
DTSTAMP:20260425T211549
DTSTART;TZID=Europe/Berlin:20260519T170000
DTEND;TZID=Europe/Berlin:20260519T180000
UID:261G-G131-20260519T170000@VHSDONAUZUSAM
SUMMARY:Funktionelles Training - stark, stabil und beweglich (261G-G131) 
LOCATION:Mittelschule Gundelfingen, Turnhalle, Schlachteggstr. 2, 89423 Gundelfingen
END:VEVENT
END:VCALENDAR