BEGIN:VCALENDAR
VERSION:2.0
PRODID:http://www.kufer.de/kuferweb / DE
METHOD:PUBLISH
CALSCALE:GREGORIAN
X-WR-TIMEZONE:Europe/Berlin
BEGIN:VTIMEZONE
TZID:Europe/Berlin
X-LIC-LOCATION:Europe/Berlin
BEGIN:DAYLIGHT
TZOFFSETFROM:+0100
TZOFFSETTO:+0200
TZNAME:CEST
DTSTART;TZID=Europe/Berlin:19700329T020000
RRULE:FREQ=YEARLY;INTERVAL=1;BYDAY=-1SU;BYMONTH=3
END:DAYLIGHT
BEGIN:STANDARD
TZOFFSETFROM:+0200
TZOFFSETTO:+0100
TZNAME:CET
DTSTART;TZID=Europe/Berlin:19701025T030000
RRULE:FREQ=YEARLY;INTERVAL=1;BYDAY=-1SU;BYMONTH=10
END:STANDARD
END:VTIMEZONE
BEGIN:VEVENT
DTSTAMP:20260425T195642
DTSTART;TZID=Europe/Berlin:20260227T103000
DTEND;TZID=Europe/Berlin:20260227T114500
UID:261G-G119-20260227T103000@VHSDONAUZUSAM
SUMMARY:Hatha-Yoga am Vormittag - Kurs II (261G-G119) 
LOCATION:Kath. Pfarrheim Gundelfingen, Riedhauser Str. 5, Riedhauser Str. 5, 89423 Gundelfingen
END:VEVENT
BEGIN:VEVENT
DTSTAMP:20260425T195642
DTSTART;TZID=Europe/Berlin:20260306T103000
DTEND;TZID=Europe/Berlin:20260306T114500
UID:261G-G119-20260306T103000@VHSDONAUZUSAM
SUMMARY:Hatha-Yoga am Vormittag - Kurs II (261G-G119) 
LOCATION:Kath. Pfarrheim Gundelfingen, Riedhauser Str. 5, Riedhauser Str. 5, 89423 Gundelfingen
END:VEVENT
BEGIN:VEVENT
DTSTAMP:20260425T195642
DTSTART;TZID=Europe/Berlin:20260320T103000
DTEND;TZID=Europe/Berlin:20260320T114500
UID:261G-G119-20260320T103000@VHSDONAUZUSAM
SUMMARY:Hatha-Yoga am Vormittag - Kurs II (261G-G119) 
LOCATION:Kath. Pfarrheim Gundelfingen, Riedhauser Str. 5, Riedhauser Str. 5, 89423 Gundelfingen
END:VEVENT
BEGIN:VEVENT
DTSTAMP:20260425T195642
DTSTART;TZID=Europe/Berlin:20260417T103000
DTEND;TZID=Europe/Berlin:20260417T114500
UID:261G-G119-20260417T103000@VHSDONAUZUSAM
SUMMARY:Hatha-Yoga am Vormittag - Kurs II (261G-G119) 
LOCATION:Kath. Pfarrheim Gundelfingen, Riedhauser Str. 5, Riedhauser Str. 5, 89423 Gundelfingen
END:VEVENT
BEGIN:VEVENT
DTSTAMP:20260425T195642
DTSTART;TZID=Europe/Berlin:20260424T103000
DTEND;TZID=Europe/Berlin:20260424T114500
UID:261G-G119-20260424T103000@VHSDONAUZUSAM
SUMMARY:Hatha-Yoga am Vormittag - Kurs II (261G-G119) 
LOCATION:Kath. Pfarrheim Gundelfingen, Riedhauser Str. 5, Riedhauser Str. 5, 89423 Gundelfingen
END:VEVENT
BEGIN:VEVENT
DTSTAMP:20260425T195642
DTSTART;TZID=Europe/Berlin:20260508T103000
DTEND;TZID=Europe/Berlin:20260508T114500
UID:261G-G119-20260508T103000@VHSDONAUZUSAM
SUMMARY:Hatha-Yoga am Vormittag - Kurs II (261G-G119) 
LOCATION:Kath. Pfarrheim Gundelfingen, Riedhauser Str. 5, Riedhauser Str. 5, 89423 Gundelfingen
END:VEVENT
BEGIN:VEVENT
DTSTAMP:20260425T195642
DTSTART;TZID=Europe/Berlin:20260515T103000
DTEND;TZID=Europe/Berlin:20260515T114500
UID:261G-G119-20260515T103000@VHSDONAUZUSAM
SUMMARY:Hatha-Yoga am Vormittag - Kurs II (261G-G119) 
LOCATION:Kath. Pfarrheim Gundelfingen, Riedhauser Str. 5, Riedhauser Str. 5, 89423 Gundelfingen
END:VEVENT
BEGIN:VEVENT
DTSTAMP:20260425T195642
DTSTART;TZID=Europe/Berlin:20260522T103000
DTEND;TZID=Europe/Berlin:20260522T114500
UID:261G-G119-20260522T103000@VHSDONAUZUSAM
SUMMARY:Hatha-Yoga am Vormittag - Kurs II (261G-G119) 
LOCATION:Kath. Pfarrheim Gundelfingen, Riedhauser Str. 5, Riedhauser Str. 5, 89423 Gundelfingen
END:VEVENT
BEGIN:VEVENT
DTSTAMP:20260425T195642
DTSTART;TZID=Europe/Berlin:20260612T103000
DTEND;TZID=Europe/Berlin:20260612T114500
UID:261G-G119-20260612T103000@VHSDONAUZUSAM
SUMMARY:Hatha-Yoga am Vormittag - Kurs II (261G-G119) 
LOCATION:Kath. Pfarrheim Gundelfingen, Riedhauser Str. 5, Riedhauser Str. 5, 89423 Gundelfingen
END:VEVENT
BEGIN:VEVENT
DTSTAMP:20260425T195642
DTSTART;TZID=Europe/Berlin:20260619T103000
DTEND;TZID=Europe/Berlin:20260619T114500
UID:261G-G119-20260619T103000@VHSDONAUZUSAM
SUMMARY:Hatha-Yoga am Vormittag - Kurs II (261G-G119) 
LOCATION:Kath. Pfarrheim Gundelfingen, Riedhauser Str. 5, Riedhauser Str. 5, 89423 Gundelfingen
END:VEVENT
BEGIN:VEVENT
DTSTAMP:20260425T195642
DTSTART;TZID=Europe/Berlin:20260626T103000
DTEND;TZID=Europe/Berlin:20260626T114500
UID:261G-G119-20260626T103000@VHSDONAUZUSAM
SUMMARY:Hatha-Yoga am Vormittag - Kurs II (261G-G119) 
LOCATION:Kath. Pfarrheim Gundelfingen, Riedhauser Str. 5, Riedhauser Str. 5, 89423 Gundelfingen
END:VEVENT
BEGIN:VEVENT
DTSTAMP:20260425T195642
DTSTART;TZID=Europe/Berlin:20260703T103000
DTEND;TZID=Europe/Berlin:20260703T114500
UID:261G-G119-20260703T103000@VHSDONAUZUSAM
SUMMARY:Hatha-Yoga am Vormittag - Kurs II (261G-G119) 
LOCATION:Kath. Pfarrheim Gundelfingen, Riedhauser Str. 5, Riedhauser Str. 5, 89423 Gundelfingen
END:VEVENT
END:VCALENDAR