BEGIN:VCALENDAR
VERSION:2.0
PRODID:http://www.kufer.de/kuferweb / DE
METHOD:PUBLISH
CALSCALE:GREGORIAN
X-WR-TIMEZONE:Europe/Berlin
BEGIN:VTIMEZONE
TZID:Europe/Berlin
X-LIC-LOCATION:Europe/Berlin
BEGIN:DAYLIGHT
TZOFFSETFROM:+0100
TZOFFSETTO:+0200
TZNAME:CEST
DTSTART;TZID=Europe/Berlin:19700329T020000
RRULE:FREQ=YEARLY;INTERVAL=1;BYDAY=-1SU;BYMONTH=3
END:DAYLIGHT
BEGIN:STANDARD
TZOFFSETFROM:+0200
TZOFFSETTO:+0100
TZNAME:CET
DTSTART;TZID=Europe/Berlin:19701025T030000
RRULE:FREQ=YEARLY;INTERVAL=1;BYDAY=-1SU;BYMONTH=10
END:STANDARD
END:VTIMEZONE
BEGIN:VEVENT
DTSTAMP:20260425T230952
DTSTART;TZID=Europe/Berlin:20260227T090000
DTEND;TZID=Europe/Berlin:20260227T101500
UID:261G-G118-20260227T090000@VHSDONAUZUSAM
SUMMARY:Hatha-Yoga am Vormittag - Kurs I (261G-G118) 
LOCATION:Kath. Pfarrheim Gundelfingen, Riedhauser Str. 5, Riedhauser Str. 5, 89423 Gundelfingen
END:VEVENT
BEGIN:VEVENT
DTSTAMP:20260425T230952
DTSTART;TZID=Europe/Berlin:20260306T090000
DTEND;TZID=Europe/Berlin:20260306T101500
UID:261G-G118-20260306T090000@VHSDONAUZUSAM
SUMMARY:Hatha-Yoga am Vormittag - Kurs I (261G-G118) 
LOCATION:Kath. Pfarrheim Gundelfingen, Riedhauser Str. 5, Riedhauser Str. 5, 89423 Gundelfingen
END:VEVENT
BEGIN:VEVENT
DTSTAMP:20260425T230952
DTSTART;TZID=Europe/Berlin:20260320T090000
DTEND;TZID=Europe/Berlin:20260320T101500
UID:261G-G118-20260320T090000@VHSDONAUZUSAM
SUMMARY:Hatha-Yoga am Vormittag - Kurs I (261G-G118) 
LOCATION:Kath. Pfarrheim Gundelfingen, Riedhauser Str. 5, Riedhauser Str. 5, 89423 Gundelfingen
END:VEVENT
BEGIN:VEVENT
DTSTAMP:20260425T230952
DTSTART;TZID=Europe/Berlin:20260417T090000
DTEND;TZID=Europe/Berlin:20260417T101500
UID:261G-G118-20260417T090000@VHSDONAUZUSAM
SUMMARY:Hatha-Yoga am Vormittag - Kurs I (261G-G118) 
LOCATION:Kath. Pfarrheim Gundelfingen, Riedhauser Str. 5, Riedhauser Str. 5, 89423 Gundelfingen
END:VEVENT
BEGIN:VEVENT
DTSTAMP:20260425T230952
DTSTART;TZID=Europe/Berlin:20260424T090000
DTEND;TZID=Europe/Berlin:20260424T101500
UID:261G-G118-20260424T090000@VHSDONAUZUSAM
SUMMARY:Hatha-Yoga am Vormittag - Kurs I (261G-G118) 
LOCATION:Kath. Pfarrheim Gundelfingen, Riedhauser Str. 5, Riedhauser Str. 5, 89423 Gundelfingen
END:VEVENT
BEGIN:VEVENT
DTSTAMP:20260425T230952
DTSTART;TZID=Europe/Berlin:20260508T090000
DTEND;TZID=Europe/Berlin:20260508T101500
UID:261G-G118-20260508T090000@VHSDONAUZUSAM
SUMMARY:Hatha-Yoga am Vormittag - Kurs I (261G-G118) 
LOCATION:Kath. Pfarrheim Gundelfingen, Riedhauser Str. 5, Riedhauser Str. 5, 89423 Gundelfingen
END:VEVENT
BEGIN:VEVENT
DTSTAMP:20260425T230952
DTSTART;TZID=Europe/Berlin:20260515T090000
DTEND;TZID=Europe/Berlin:20260515T101500
UID:261G-G118-20260515T090000@VHSDONAUZUSAM
SUMMARY:Hatha-Yoga am Vormittag - Kurs I (261G-G118) 
LOCATION:Kath. Pfarrheim Gundelfingen, Riedhauser Str. 5, Riedhauser Str. 5, 89423 Gundelfingen
END:VEVENT
BEGIN:VEVENT
DTSTAMP:20260425T230952
DTSTART;TZID=Europe/Berlin:20260522T090000
DTEND;TZID=Europe/Berlin:20260522T101500
UID:261G-G118-20260522T090000@VHSDONAUZUSAM
SUMMARY:Hatha-Yoga am Vormittag - Kurs I (261G-G118) 
LOCATION:Kath. Pfarrheim Gundelfingen, Riedhauser Str. 5, Riedhauser Str. 5, 89423 Gundelfingen
END:VEVENT
BEGIN:VEVENT
DTSTAMP:20260425T230952
DTSTART;TZID=Europe/Berlin:20260612T090000
DTEND;TZID=Europe/Berlin:20260612T101500
UID:261G-G118-20260612T090000@VHSDONAUZUSAM
SUMMARY:Hatha-Yoga am Vormittag - Kurs I (261G-G118) 
LOCATION:Kath. Pfarrheim Gundelfingen, Riedhauser Str. 5, Riedhauser Str. 5, 89423 Gundelfingen
END:VEVENT
BEGIN:VEVENT
DTSTAMP:20260425T230952
DTSTART;TZID=Europe/Berlin:20260619T090000
DTEND;TZID=Europe/Berlin:20260619T101500
UID:261G-G118-20260619T090000@VHSDONAUZUSAM
SUMMARY:Hatha-Yoga am Vormittag - Kurs I (261G-G118) 
LOCATION:Kath. Pfarrheim Gundelfingen, Riedhauser Str. 5, Riedhauser Str. 5, 89423 Gundelfingen
END:VEVENT
BEGIN:VEVENT
DTSTAMP:20260425T230952
DTSTART;TZID=Europe/Berlin:20260626T090000
DTEND;TZID=Europe/Berlin:20260626T101500
UID:261G-G118-20260626T090000@VHSDONAUZUSAM
SUMMARY:Hatha-Yoga am Vormittag - Kurs I (261G-G118) 
LOCATION:Kath. Pfarrheim Gundelfingen, Riedhauser Str. 5, Riedhauser Str. 5, 89423 Gundelfingen
END:VEVENT
BEGIN:VEVENT
DTSTAMP:20260425T230952
DTSTART;TZID=Europe/Berlin:20260703T090000
DTEND;TZID=Europe/Berlin:20260703T101500
UID:261G-G118-20260703T090000@VHSDONAUZUSAM
SUMMARY:Hatha-Yoga am Vormittag - Kurs I (261G-G118) 
LOCATION:Kath. Pfarrheim Gundelfingen, Riedhauser Str. 5, Riedhauser Str. 5, 89423 Gundelfingen
END:VEVENT
END:VCALENDAR