BEGIN:VCALENDAR
VERSION:2.0
PRODID:http://www.kufer.de/kuferweb / DE
METHOD:PUBLISH
CALSCALE:GREGORIAN
X-WR-TIMEZONE:Europe/Berlin
BEGIN:VTIMEZONE
TZID:Europe/Berlin
X-LIC-LOCATION:Europe/Berlin
BEGIN:DAYLIGHT
TZOFFSETFROM:+0100
TZOFFSETTO:+0200
TZNAME:CEST
DTSTART;TZID=Europe/Berlin:19700329T020000
RRULE:FREQ=YEARLY;INTERVAL=1;BYDAY=-1SU;BYMONTH=3
END:DAYLIGHT
BEGIN:STANDARD
TZOFFSETFROM:+0200
TZOFFSETTO:+0100
TZNAME:CET
DTSTART;TZID=Europe/Berlin:19701025T030000
RRULE:FREQ=YEARLY;INTERVAL=1;BYDAY=-1SU;BYMONTH=10
END:STANDARD
END:VTIMEZONE
BEGIN:VEVENT
DTSTAMP:20260425T211626
DTSTART;TZID=Europe/Berlin:20260225T170000
DTEND;TZID=Europe/Berlin:20260225T181500
UID:261G-G117-20260225T170000@VHSDONAUZUSAM
SUMMARY:Hatha-Yoga am Nachmittag (261G-G117) 
LOCATION:Grundschule Gundelfingen, Mehrzweckraum, Auf der Insel 6, 89423 Gundelfingen
END:VEVENT
BEGIN:VEVENT
DTSTAMP:20260425T211626
DTSTART;TZID=Europe/Berlin:20260304T170000
DTEND;TZID=Europe/Berlin:20260304T181500
UID:261G-G117-20260304T170000@VHSDONAUZUSAM
SUMMARY:Hatha-Yoga am Nachmittag (261G-G117) 
LOCATION:Grundschule Gundelfingen, Mehrzweckraum, Auf der Insel 6, 89423 Gundelfingen
END:VEVENT
BEGIN:VEVENT
DTSTAMP:20260425T211626
DTSTART;TZID=Europe/Berlin:20260318T170000
DTEND;TZID=Europe/Berlin:20260318T181500
UID:261G-G117-20260318T170000@VHSDONAUZUSAM
SUMMARY:Hatha-Yoga am Nachmittag (261G-G117) 
LOCATION:Grundschule Gundelfingen, Mehrzweckraum, Auf der Insel 6, 89423 Gundelfingen
END:VEVENT
BEGIN:VEVENT
DTSTAMP:20260425T211626
DTSTART;TZID=Europe/Berlin:20260325T170000
DTEND;TZID=Europe/Berlin:20260325T181500
UID:261G-G117-20260325T170000@VHSDONAUZUSAM
SUMMARY:Hatha-Yoga am Nachmittag (261G-G117) 
LOCATION:Grundschule Gundelfingen, Mehrzweckraum, Auf der Insel 6, 89423 Gundelfingen
END:VEVENT
BEGIN:VEVENT
DTSTAMP:20260425T211626
DTSTART;TZID=Europe/Berlin:20260415T170000
DTEND;TZID=Europe/Berlin:20260415T181500
UID:261G-G117-20260415T170000@VHSDONAUZUSAM
SUMMARY:Hatha-Yoga am Nachmittag (261G-G117) 
LOCATION:Grundschule Gundelfingen, Mehrzweckraum, Auf der Insel 6, 89423 Gundelfingen
END:VEVENT
BEGIN:VEVENT
DTSTAMP:20260425T211626
DTSTART;TZID=Europe/Berlin:20260422T170000
DTEND;TZID=Europe/Berlin:20260422T181500
UID:261G-G117-20260422T170000@VHSDONAUZUSAM
SUMMARY:Hatha-Yoga am Nachmittag (261G-G117) 
LOCATION:Grundschule Gundelfingen, Mehrzweckraum, Auf der Insel 6, 89423 Gundelfingen
END:VEVENT
BEGIN:VEVENT
DTSTAMP:20260425T211626
DTSTART;TZID=Europe/Berlin:20260429T170000
DTEND;TZID=Europe/Berlin:20260429T181500
UID:261G-G117-20260429T170000@VHSDONAUZUSAM
SUMMARY:Hatha-Yoga am Nachmittag (261G-G117) 
LOCATION:Grundschule Gundelfingen, Mehrzweckraum, Auf der Insel 6, 89423 Gundelfingen
END:VEVENT
BEGIN:VEVENT
DTSTAMP:20260425T211626
DTSTART;TZID=Europe/Berlin:20260506T170000
DTEND;TZID=Europe/Berlin:20260506T181500
UID:261G-G117-20260506T170000@VHSDONAUZUSAM
SUMMARY:Hatha-Yoga am Nachmittag (261G-G117) 
LOCATION:Grundschule Gundelfingen, Mehrzweckraum, Auf der Insel 6, 89423 Gundelfingen
END:VEVENT
BEGIN:VEVENT
DTSTAMP:20260425T211626
DTSTART;TZID=Europe/Berlin:20260513T170000
DTEND;TZID=Europe/Berlin:20260513T181500
UID:261G-G117-20260513T170000@VHSDONAUZUSAM
SUMMARY:Hatha-Yoga am Nachmittag (261G-G117) 
LOCATION:Grundschule Gundelfingen, Mehrzweckraum, Auf der Insel 6, 89423 Gundelfingen
END:VEVENT
BEGIN:VEVENT
DTSTAMP:20260425T211626
DTSTART;TZID=Europe/Berlin:20260520T170000
DTEND;TZID=Europe/Berlin:20260520T181500
UID:261G-G117-20260520T170000@VHSDONAUZUSAM
SUMMARY:Hatha-Yoga am Nachmittag (261G-G117) 
LOCATION:Grundschule Gundelfingen, Mehrzweckraum, Auf der Insel 6, 89423 Gundelfingen
END:VEVENT
BEGIN:VEVENT
DTSTAMP:20260425T211626
DTSTART;TZID=Europe/Berlin:20260610T170000
DTEND;TZID=Europe/Berlin:20260610T181500
UID:261G-G117-20260610T170000@VHSDONAUZUSAM
SUMMARY:Hatha-Yoga am Nachmittag (261G-G117) 
LOCATION:Grundschule Gundelfingen, Mehrzweckraum, Auf der Insel 6, 89423 Gundelfingen
END:VEVENT
BEGIN:VEVENT
DTSTAMP:20260425T211626
DTSTART;TZID=Europe/Berlin:20260617T170000
DTEND;TZID=Europe/Berlin:20260617T181500
UID:261G-G117-20260617T170000@VHSDONAUZUSAM
SUMMARY:Hatha-Yoga am Nachmittag (261G-G117) 
LOCATION:Grundschule Gundelfingen, Mehrzweckraum, Auf der Insel 6, 89423 Gundelfingen
END:VEVENT
BEGIN:VEVENT
DTSTAMP:20260425T211626
DTSTART;TZID=Europe/Berlin:20260624T170000
DTEND;TZID=Europe/Berlin:20260624T181500
UID:261G-G117-20260624T170000@VHSDONAUZUSAM
SUMMARY:Hatha-Yoga am Nachmittag (261G-G117) 
LOCATION:Grundschule Gundelfingen, Mehrzweckraum, Auf der Insel 6, 89423 Gundelfingen
END:VEVENT
BEGIN:VEVENT
DTSTAMP:20260425T211626
DTSTART;TZID=Europe/Berlin:20260701T170000
DTEND;TZID=Europe/Berlin:20260701T181500
UID:261G-G117-20260701T170000@VHSDONAUZUSAM
SUMMARY:Hatha-Yoga am Nachmittag (261G-G117) 
LOCATION:Grundschule Gundelfingen, Mehrzweckraum, Auf der Insel 6, 89423 Gundelfingen
END:VEVENT
END:VCALENDAR