BEGIN:VCALENDAR
VERSION:2.0
PRODID:http://www.kufer.de/kuferweb / DE
METHOD:PUBLISH
CALSCALE:GREGORIAN
X-WR-TIMEZONE:Europe/Berlin
BEGIN:VTIMEZONE
TZID:Europe/Berlin
X-LIC-LOCATION:Europe/Berlin
BEGIN:DAYLIGHT
TZOFFSETFROM:+0100
TZOFFSETTO:+0200
TZNAME:CEST
DTSTART;TZID=Europe/Berlin:19700329T020000
RRULE:FREQ=YEARLY;INTERVAL=1;BYDAY=-1SU;BYMONTH=3
END:DAYLIGHT
BEGIN:STANDARD
TZOFFSETFROM:+0200
TZOFFSETTO:+0100
TZNAME:CET
DTSTART;TZID=Europe/Berlin:19701025T030000
RRULE:FREQ=YEARLY;INTERVAL=1;BYDAY=-1SU;BYMONTH=10
END:STANDARD
END:VTIMEZONE
BEGIN:VEVENT
DTSTAMP:20260426T020017
DTSTART;TZID=Europe/Berlin:20260225T200000
DTEND;TZID=Europe/Berlin:20260225T213000
UID:252G-G147-20260225T200000@VHSDONAUZUSAM
SUMMARY:Hochzeitstanzkurs (252G-G147) 
LOCATION:Mittelschule Gundelfingen, Aula OG, Schlachteggstr.2, 89423 Gundelfingen
END:VEVENT
BEGIN:VEVENT
DTSTAMP:20260426T020017
DTSTART;TZID=Europe/Berlin:20260304T200000
DTEND;TZID=Europe/Berlin:20260304T213000
UID:252G-G147-20260304T200000@VHSDONAUZUSAM
SUMMARY:Hochzeitstanzkurs (252G-G147) 
LOCATION:Mittelschule Gundelfingen, Aula OG, Schlachteggstr.2, 89423 Gundelfingen
END:VEVENT
BEGIN:VEVENT
DTSTAMP:20260426T020017
DTSTART;TZID=Europe/Berlin:20260311T200000
DTEND;TZID=Europe/Berlin:20260311T213000
UID:252G-G147-20260311T200000@VHSDONAUZUSAM
SUMMARY:Hochzeitstanzkurs (252G-G147) 
LOCATION:Mittelschule Gundelfingen, Aula OG, Schlachteggstr.2, 89423 Gundelfingen
END:VEVENT
END:VCALENDAR