BEGIN:VCALENDAR
VERSION:2.0
PRODID:http://www.kufer.de/kuferweb / DE
METHOD:PUBLISH
CALSCALE:GREGORIAN
X-WR-TIMEZONE:Europe/Berlin
BEGIN:VTIMEZONE
TZID:Europe/Berlin
X-LIC-LOCATION:Europe/Berlin
BEGIN:DAYLIGHT
TZOFFSETFROM:+0100
TZOFFSETTO:+0200
TZNAME:CEST
DTSTART;TZID=Europe/Berlin:19700329T020000
RRULE:FREQ=YEARLY;INTERVAL=1;BYDAY=-1SU;BYMONTH=3
END:DAYLIGHT
BEGIN:STANDARD
TZOFFSETFROM:+0200
TZOFFSETTO:+0100
TZNAME:CET
DTSTART;TZID=Europe/Berlin:19701025T030000
RRULE:FREQ=YEARLY;INTERVAL=1;BYDAY=-1SU;BYMONTH=10
END:STANDARD
END:VTIMEZONE
BEGIN:VEVENT
DTSTAMP:20260425T181937
DTSTART;TZID=Europe/Berlin:20260129T180000
DTEND;TZID=Europe/Berlin:20260129T190000
UID:252G-G138-20260129T180000@VHSDONAUZUSAM
SUMMARY:Qi Gong I (252G-G138) 
LOCATION:Grundschule Gundelfingen, Mehrzweckraum, Auf der Insel 6, 89423 Gundelfingen
END:VEVENT
BEGIN:VEVENT
DTSTAMP:20260425T181937
DTSTART;TZID=Europe/Berlin:20260205T180000
DTEND;TZID=Europe/Berlin:20260205T190000
UID:252G-G138-20260205T180000@VHSDONAUZUSAM
SUMMARY:Qi Gong I (252G-G138) 
LOCATION:Grundschule Gundelfingen, Mehrzweckraum, Auf der Insel 6, 89423 Gundelfingen
END:VEVENT
BEGIN:VEVENT
DTSTAMP:20260425T181937
DTSTART;TZID=Europe/Berlin:20260212T180000
DTEND;TZID=Europe/Berlin:20260212T190000
UID:252G-G138-20260212T180000@VHSDONAUZUSAM
SUMMARY:Qi Gong I (252G-G138) 
LOCATION:Grundschule Gundelfingen, Mehrzweckraum, Auf der Insel 6, 89423 Gundelfingen
END:VEVENT
END:VCALENDAR