BEGIN:VCALENDAR
VERSION:2.0
PRODID:http://www.kufer.de/kuferweb / DE
METHOD:PUBLISH
CALSCALE:GREGORIAN
X-WR-TIMEZONE:Europe/Berlin
BEGIN:VTIMEZONE
TZID:Europe/Berlin
X-LIC-LOCATION:Europe/Berlin
BEGIN:DAYLIGHT
TZOFFSETFROM:+0100
TZOFFSETTO:+0200
TZNAME:CEST
DTSTART;TZID=Europe/Berlin:19700329T020000
RRULE:FREQ=YEARLY;INTERVAL=1;BYDAY=-1SU;BYMONTH=3
END:DAYLIGHT
BEGIN:STANDARD
TZOFFSETFROM:+0200
TZOFFSETTO:+0100
TZNAME:CET
DTSTART;TZID=Europe/Berlin:19701025T030000
RRULE:FREQ=YEARLY;INTERVAL=1;BYDAY=-1SU;BYMONTH=10
END:STANDARD
END:VTIMEZONE
BEGIN:VEVENT
DTSTAMP:20260425T195426
DTSTART;TZID=Europe/Berlin:20260120T190000
DTEND;TZID=Europe/Berlin:20260120T203000
UID:252G-G111F-20260120T190000@VHSDONAUZUSAM
SUMMARY:ZENbo® Balance - Fortführung (252G-G111F) 
LOCATION:Mittelschule Gundelfingen, Raum 126, 1. OG, Schlachteggstr. 2, 89423 Gundelfingen
END:VEVENT
BEGIN:VEVENT
DTSTAMP:20260425T195426
DTSTART;TZID=Europe/Berlin:20260127T190000
DTEND;TZID=Europe/Berlin:20260127T203000
UID:252G-G111F-20260127T190000@VHSDONAUZUSAM
SUMMARY:ZENbo® Balance - Fortführung (252G-G111F) 
LOCATION:Mittelschule Gundelfingen, Raum 126, 1. OG, Schlachteggstr. 2, 89423 Gundelfingen
END:VEVENT
BEGIN:VEVENT
DTSTAMP:20260425T195426
DTSTART;TZID=Europe/Berlin:20260203T190000
DTEND;TZID=Europe/Berlin:20260203T203000
UID:252G-G111F-20260203T190000@VHSDONAUZUSAM
SUMMARY:ZENbo® Balance - Fortführung (252G-G111F) 
LOCATION:Mittelschule Gundelfingen, Raum 126, 1. OG, Schlachteggstr. 2, 89423 Gundelfingen
END:VEVENT
BEGIN:VEVENT
DTSTAMP:20260425T195426
DTSTART;TZID=Europe/Berlin:20260210T190000
DTEND;TZID=Europe/Berlin:20260210T203000
UID:252G-G111F-20260210T190000@VHSDONAUZUSAM
SUMMARY:ZENbo® Balance - Fortführung (252G-G111F) 
LOCATION:Grundschule Gundelfingen, Mehrzweckraum, Auf der Insel 6, 89423 Gundelfingen
END:VEVENT
END:VCALENDAR